Workbook

Sheet Rekapitulácia stavby
A1: Export Komplet | BA1: 2.0 | BT1: False | BU1: False | BV1: {2af0928a-9d5e-47bd-89d3-c627bc0d004d}
AR2: >> skryté stĺpce << | BS2: 0,01 | BT2: 20
BS3: 0,01 | BT3: 20
D4: REKAPITULÁCIA STAVBY | AS4: v --- nižšie sa nachádzajú doplnkové a pomocné údaje k zostavám --- v | BE4: Návod na vyplnenie | BS4: 0,001
D5: Kód: | K5: A299 | BE5: Meniť je možné iba bunky so žltým podfarbením!_x000D_ _x000D_ 1) na prvom liste Rekapitulácie stavby vyplňte v zostave_x000D_ _x000D_ a) Rekapitulácia stavby_x000D_ - údaje o Zhotoviteľovi_x000D_ (prenesú sa do ostatných zostáv aj v iných listoch)_x000D_ _x000D_ b) Rekapitulácia objektov stavby_x000D_ - potrebné Ostatné náklady_x000D_ _x000D_ 2) na vybraných listoch vyplňte v zostave_x000D_ _x000D_ a) Krycí list_x000D_ - údaje o Zhotoviteľovi, pokiaľ sa líšia od údajov o Zhotoviteľovi na Rekapitulácii stavby_x000D_ (údaje se prenesú do ostatných zostav v danom liste)_x000D_ _x000D_ b) Rekapitulácia rozpočtu_x000D_ - potrebné Ostatné náklady_x000D_ _x000D_ c) Celkové náklady za stavbu_x000D_ - ceny na položkách_x000D_ - množstvo, pokiaľ má žlté podfarbenie_x000D_ - a v prípade potreby poznámku (tá je v skrytom stĺpci) | BS5: 0,01
D6: Stavba: | K6: REKONŠTRUKCIA HYGIENICKÝCH ZARIADENÍ KD | BS6: 0,01
D7: JKSO: | AK7: KS: | BS7: 0,01
D8: Miesto: | K8: kat. úz. Davidov | AK8: Dátum: | AN8: 3. 2. 2023 | BS8: 0,01
BS9: 0,01
D10: Objednávateľ: | AK10: IČO: | BS10: 0,01
E11: Obec Davidov | AK11: IČ DPH: | BS11: 0,01
BS12: 0,01
D13: Zhotoviteľ: | AK13: IČO: | BS13: 0,01
AK14: IČ DPH: | BS14: 0,01
BS15: True
D16: Projektant: | AK16: IČO: | AN16: 44547838 | BS16: True
E17: ateliér-m spol. s r.o. | AK17: IČ DPH: | AN17: SK2022735572 | BS17: True
BS18: 0,01
D19: Spracovateľ: | AK19: IČO: | BS19: 0,01
AK20: IČ DPH: | BS20: True
D22: Poznámka:
D26: Cena bez DPH | AK26: =ROUND(AG94,2) -> 0
L28: Sadzba dane | W28: Základ dane | AK28: Výška dane
D29: DPH | F29: základná | L29: 0.2 | W29: =ROUND(AZ94, 2) -> 0 | AK29: =ROUND(AV94, 2) -> 0
F30: znížená | L30: 0.2 | W30: =ROUND(BA94, 2) -> 0 | AK30: =ROUND(AW94, 2) -> 0
F31: zákl. prenesená | L31: 0.2 | W31: =ROUND(BB94, 2) -> 0 | AK31: 0
F32: zníž. prenesená | L32: 0.2 | W32: =ROUND(BC94, 2) -> 0 | AK32: 0
F33: nulová | L33: 0 | W33: =ROUND(BD94, 2) -> 0 | AK33: 0
D35: Cena s DPH | T35: v | X35: EUR | AK35: =SUM(AK26:AK33) -> 0
D49: Projektant | AH49: Spracovateľ
D60: Dátum a podpis: | V60: Pečiatka | AH60: Dátum a podpis: | AM60: Pečiatka
D64: Objednávateľ | AH64: Zhotoviteľ
D75: Dátum a podpis: | V75: Pečiatka | AH75: Dátum a podpis: | AM75: Pečiatka
C82: REKAPITULÁCIA OBJEKTOV STAVBY
C84: Kód: | L84: =K5 -> A299
C85: Stavba: | L85: =K6 -> REKONŠTRUKCIA HYGIENICKÝCH ZARIADENÍ KD
C87: Miesto: | L87: =IF(K8="","",K8) -> kat. úz. Davidov | AI87: Dátum: | AM87: =IF(AN8= "","",AN8) -> 3. 2. 2023
C89: Objednávateľ: | L89: =IF(E11= "","",E11) -> Obec Davidov | AI89: Projektant: | AM89: =IF(E17="","",E17) -> ateliér-m spol. s r.o. | AS89: Informatívne údaje z listov zákaziek
C90: Zhotoviteľ: | AI90: Spracovateľ: | AM90: =IF(E20="","",E20)
C92: Kód | I92: Popis | AG92: Cena bez DPH [EUR] | AN92: Cena s DPH [EUR] | AQ92: Typ | AS92: z toho Ostat._x000D_ náklady [EUR] | AT92: DPH [EUR] | AU92: Normohodiny [h] | AV92: DPH základná [EUR] | AW92: DPH znížená [EUR] | AX92: DPH základná prenesená_x000D_ [EUR] | AY92: DPH znížená prenesená_x000D_ [EUR] | AZ92: Základňa_x000D_ DPH základná | BA92: Základňa_x000D_ DPH znížená | BB92: Základňa_x000D_ DPH zákl. prenesená | BC92: Základňa_x000D_ DPH zníž. prenesená | BD92: Základňa_x000D_ DPH nulová
C94: Náklady z rozpočtov | AG94: =ROUND(SUM(AG95:AG99),2) -> 0 | AN94: =SUM(AG94,AT94) -> 0 | AS94: =ROUND(SUM(AS95:AS99),2) -> 0 | AT94: =ROUND(SUM(AV94:AW94),2) -> 0 | AU94: =ROUND(SUM(AU95:AU99),5) -> 0 | AV94: =ROUND(AZ94*L29,2) -> 0 | AW94: =ROUND(BA94*L30,2) -> 0 | AX94: =ROUND(BB94*L29,2) -> 0 | AY94: =ROUND(BC94*L30,2) -> 0 | AZ94: =ROUND(SUM(AZ95:AZ99),2) -> 0 | BA94: =ROUND(SUM(BA95:BA99),2) -> 0 | BB94: =ROUND(SUM(BB95:BB99),2) -> 0 | BC94: =ROUND(SUM(BC95:BC99),2) -> 0 | BD94: =ROUND(SUM(BD95:BD99),2) -> 0 | BS94: D | BT94: 0 | BU94: ###NOIMPORT### | BV94: IMPORT | BW94: {2af0928a-9d5e-47bd-89d3-c627bc0d004d} | BX94: {00000000-0000-0000-0000-000000000000}
A95: / | D95: 01 | J95: Búracie práce | AG95: ='01 - Búracie práce'!J30 -> 0 | AN95: =SUM(AG95,AT95) -> 0 | AQ95: STA | AS95: 0 | AT95: =ROUND(SUM(AV95:AW95),2) -> 0 | AU95: ='01 - Búracie práce'!P127 -> 0 | AV95: ='01 - Búracie práce'!J33 -> 0 | AW95: ='01 - Búracie práce'!J34 -> 0 | AX95: ='01 - Búracie práce'!J35 -> 0 | AY95: ='01 - Búracie práce'!J36 -> 0 | AZ95: ='01 - Búracie práce'!F33 -> 0 | BA95: ='01 - Búracie práce'!F34 -> 0 | BB95: ='01 - Búracie práce'!F35 -> 0 | BC95: ='01 - Búracie práce'!F36 -> 0 | BD95: ='01 - Búracie práce'!F37 -> 0 | BT95: 1 | BV95: IMPORT | BW95: {a920b053-edfc-4f6c-9270-7e5f25d48f45} | BX95: {2af0928a-9d5e-47bd-89d3-c627bc0d004d} | CM95: 0
A96: / | D96: 02 | J96: Architektonicko-stavebné riešenie | AG96: ='02 - Architektonicko-stav...'!J30 -> 0 | AN96: =SUM(AG96,AT96) -> 0 | AQ96: STA | AS96: 0 | AT96: =ROUND(SUM(AV96:AW96),2) -> 0 | AU96: ='02 - Architektonicko-stav...'!P131 -> 0 | AV96: ='02 - Architektonicko-stav...'!J33 -> 0 | AW96: ='02 - Architektonicko-stav...'!J34 -> 0 | AX96: ='02 - Architektonicko-stav...'!J35 -> 0 | AY96: ='02 - Architektonicko-stav...'!J36 -> 0 | AZ96: ='02 - Architektonicko-stav...'!F33 -> 0 | BA96: ='02 - Architektonicko-stav...'!F34 -> 0 | BB96: ='02 - Architektonicko-stav...'!F35 -> 0 | BC96: ='02 - Architektonicko-stav...'!F36 -> 0 | BD96: ='02 - Architektonicko-stav...'!F37 -> 0 | BT96: 1 | BV96: IMPORT | BW96: {76ebf434-4baf-4566-9ee6-cac9a43d2e21} | BX96: {2af0928a-9d5e-47bd-89d3-c627bc0d004d} | CM96: 0
A97: / | D97: 03 | J97: Zdravotechnika | AG97: ='03 - Zdravotechnika'!J30 -> 0 | AN97: =SUM(AG97,AT97) -> 0 | AQ97: STA | AS97: 0 | AT97: =ROUND(SUM(AV97:AW97),2) -> 0 | AU97: ='03 - Zdravotechnika'!P126 -> 0 | AV97: ='03 - Zdravotechnika'!J33 -> 0 | AW97: ='03 - Zdravotechnika'!J34 -> 0 | AX97: ='03 - Zdravotechnika'!J35 -> 0 | AY97: ='03 - Zdravotechnika'!J36 -> 0 | AZ97: ='03 - Zdravotechnika'!F33 -> 0 | BA97: ='03 - Zdravotechnika'!F34 -> 0 | BB97: ='03 - Zdravotechnika'!F35 -> 0 | BC97: ='03 - Zdravotechnika'!F36 -> 0 | BD97: ='03 - Zdravotechnika'!F37 -> 0 | BT97: 1 | BV97: IMPORT | BW97: {3e081740-a079-4706-95e7-59257451221c} | BX97: {2af0928a-9d5e-47bd-89d3-c627bc0d004d} | CM97: 0
A98: / | D98: 04 | J98: Vykurovanie | AG98: ='04 - Vykurovanie'!J30 -> 0 | AN98: =SUM(AG98,AT98) -> 0 | AQ98: STA | AS98: 0 | AT98: =ROUND(SUM(AV98:AW98),2) -> 0 | AU98: ='04 - Vykurovanie'!P123 -> 0 | AV98: ='04 - Vykurovanie'!J33 -> 0 | AW98: ='04 - Vykurovanie'!J34 -> 0 | AX98: ='04 - Vykurovanie'!J35 -> 0 | AY98: ='04 - Vykurovanie'!J36 -> 0 | AZ98: ='04 - Vykurovanie'!F33 -> 0 | BA98: ='04 - Vykurovanie'!F34 -> 0 | BB98: ='04 - Vykurovanie'!F35 -> 0 | BC98: ='04 - Vykurovanie'!F36 -> 0 | BD98: ='04 - Vykurovanie'!F37 -> 0 | BT98: 1 | BV98: IMPORT | BW98: {b186c8db-a54d-4364-b024-caac5ba7a8ab} | BX98: {2af0928a-9d5e-47bd-89d3-c627bc0d004d} | CM98: 0
A99: / | D99: 05 | J99: Elektroinštalácia | AG99: ='05 - Elektroinštalácia'!J30 -> 0 | AN99: =SUM(AG99,AT99) -> 0 | AQ99: STA | AS99: 0 | AT99: =ROUND(SUM(AV99:AW99),2) -> 0 | AU99: ='05 - Elektroinštalácia'!P121 -> 0 | AV99: ='05 - Elektroinštalácia'!J33 -> 0 | AW99: ='05 - Elektroinštalácia'!J34 -> 0 | AX99: ='05 - Elektroinštalácia'!J35 -> 0 | AY99: ='05 - Elektroinštalácia'!J36 -> 0 | AZ99: ='05 - Elektroinštalácia'!F33 -> 0 | BA99: ='05 - Elektroinštalácia'!F34 -> 0 | BB99: ='05 - Elektroinštalácia'!F35 -> 0 | BC99: ='05 - Elektroinštalácia'!F36 -> 0 | BD99: ='05 - Elektroinštalácia'!F37 -> 0 | BT99: 1 | BV99: IMPORT | BW99: {62000c37-b385-4089-8a48-e631b71dbedc} | BX99: {2af0928a-9d5e-47bd-89d3-c627bc0d004d} | CM99: 0

Sheet 01 - Búracie práce
L2: >> skryté stĺpce << | AT2: {a920b053-edfc-4f6c-9270-7e5f25d48f45}
AT3: 0
D4: KRYCÍ LIST ROZPOČTU | M4: v --- nižšie sa nachádzajú doplnkové a pomocné údaje k zostavám --- v | AT4: False
D6: Stavba:
E7: ='Rekapitulácia stavby'!K6 -> REKONŠTRUKCIA HYGIENICKÝCH ZARIADENÍ KD
D8: Objekt:
E9: 01 - Búracie práce
D11: JKSO: | I11: KS:
D12: Miesto: | F12: kat. úz. Davidov | I12: Dátum: | J12: ='Rekapitulácia stavby'!AN8 -> 3. 2. 2023
D14: Objednávateľ: | I14: IČO:
E15: Obec Davidov | I15: IČ DPH:
D17: Zhotoviteľ: | I17: IČO: | J17: ='Rekapitulácia stavby'!AN13 -> 0
E18: ='Rekapitulácia stavby'!E14 -> 0 | I18: IČ DPH: | J18: ='Rekapitulácia stavby'!AN14 -> 0
D20: Projektant: | I20: IČO: | J20: 44547838
E21: ateliér-m spol. s r.o. | I21: IČ DPH: | J21: SK2022735572
D23: Spracovateľ: | I23: IČO:
E24: Ing. Daniel Janok | I24: IČ DPH:
D26: Poznámka:
D30: Cena bez DPH | J30: =ROUND(J127, 2) -> 0
F32: Základ dane | I32: Sadzba dane | J32: Výška dane
D33: DPH | E33: základná | F33: =ROUND((SUM(BE127:BE173)), 2) -> 0 | I33: 0.2 | J33: =ROUND(((SUM(BE127:BE173))*I33), 2) -> 0
E34: znížená | F34: =ROUND((SUM(BF127:BF173)), 2) -> 0 | I34: 0.2 | J34: =ROUND(((SUM(BF127:BF173))*I34), 2) -> 0
E35: zákl. prenesená | F35: =ROUND((SUM(BG127:BG173)), 2) -> 0 | I35: 0.2 | J35: =0 -> 0
E36: zníž. prenesená | F36: =ROUND((SUM(BH127:BH173)), 2) -> 0 | I36: 0.2 | J36: =0 -> 0
E37: nulová | F37: =ROUND((SUM(BI127:BI173)), 2) -> 0 | I37: 0 | J37: =0 -> 0
D39: Cena s DPH | G39: v | H39: EUR | J39: =SUM(J30:J37) -> 0
D50: Projektant | G50: Spracovateľ
D61: Dátum a podpis: | F61: Pečiatka | G61: Dátum a podpis: | J61: Pečiatka
D65: Objednávateľ | G65: Zhotoviteľ
D76: Dátum a podpis: | F76: Pečiatka | G76: Dátum a podpis: | J76: Pečiatka
C82: REKAPITULÁCIA ROZPOČTU
C84: Stavba:
E85: =E7 -> REKONŠTRUKCIA HYGIENICKÝCH ZARIADENÍ KD
C86: Objekt:
E87: =E9 -> 01 - Búracie práce
C89: Miesto: | F89: =F12 -> kat. úz. Davidov | I89: Dátum: | J89: =IF(J12="","",J12) -> 3. 2. 2023
C91: Objednávateľ: | F91: =E15 -> Obec Davidov | I91: Projektant: | J91: =E21 -> ateliér-m spol. s r.o.
C92: Zhotoviteľ: | F92: =IF(E18="","",E18) -> 0 | I92: Spracovateľ: | J92: =E24 -> Ing. Daniel Janok
C94: Kód dielu - Popis | J94: Cena celkom [EUR]
C96: Náklady z rozpočtu | J96: =J127 -> 0 | AU96: -1
D97: HSV - Práce a dodávky HSV | J97: =J128 -> 0
D98: 9 - Ostatné konštrukcie a práce-búranie | J98: =J129 -> 0
D99: PSV - Práce a dodávky PSV | J99: =J151 -> 0
D100: 713 - Izolácie tepelné | J100: =J152 -> 0
D101: 725 - Zdravotechnika - zariaďovacie predmety | J101: =J154 -> 0
D102: 733 - Ústredné kúrenie - rozvodné potrubie | J102: =J159 -> 0
D103: 735 - Ústredné kúrenie - vykurovacie telesá | J103: =J162 -> 0
D104: 766 - Konštrukcie stolárske | J104: =J164 -> 0
D105: 784 - Maľby | J105: =J167 -> 0
D106: M - Práce a dodávky M | J106: =J169 -> 0
D107: 21-M - Elektromontáže | J107: =J170 -> 0
C114: ROZPOČET
C116: Stavba:
E117: =E7 -> REKONŠTRUKCIA HYGIENICKÝCH ZARIADENÍ KD
C118: Objekt:
E119: =E9 -> 01 - Búracie práce
C121: Miesto: | F121: =F12 -> kat. úz. Davidov | I121: Dátum:3.2.2023
C123: Objednávateľ: | F123: =E15 -> Obec Davidov | I123: Projektant: | J123: =E21 -> ateliér-m spol. s r.o.
C124: Zhotoviteľ: | I124: Spracovateľ:
C126: PČ | D126: Typ | E126: Kód | F126: Popis | G126: MJ | H126: Množstvo | I126: J.cena [EUR] | J126: Cena celkom [EUR] | K126: Cenová sústava | N126: DPH | O126: J. Nh [h] | P126: Nh celkom [h] | Q126: J. hmotnosť [t] | R126: Hmotnosť celkom [t] | S126: J. suť [t] | T126: Suť Celkom [t]
C127: Náklady z rozpočtu | J127: =BK127 -> 0 | P127: =P128+P151+P169 -> 0 | R127: =R128+R151+R169 -> 0.14939924 | T127: =T128+T151+T169 -> 20.083055 | AT127: D | AU127: -1 | BK127: =BK128+BK151+BK169 -> 0
D128: D | E128: HSV | F128: Práce a dodávky HSV | J128: =BK128 -> 0 | P128: =P129 -> 0 | R128: =R129 -> 0.14754324 | T128: =T129 -> 17.481994 | AR128: 1 | AT128: D | AU128: 0 | AY128: ROZPOCET | BK128: =BK129 -> 0
D129: D | E129: 9 | F129: Ostatné konštrukcie a práce-búranie | J129: =BK129 -> 0 | P129: =SUM(P130:P150) -> 0 | R129: =SUM(R130:R150) -> 0.14754324 | T129: =SUM(T130:T150) -> 17.481994 | AR129: 1 | AT129: D | AU129: 1 | AY129: ROZPOCET | BK129: =SUM(BK130:BK150) -> 0
C130: 1 | D130: K | E130: 941955002.S | F130: Lešenie ľahké pracovné pomocné s výškou lešeňovej podlahy nad 1,20 do 1,90 m | G130: m2 | H130: 75.7 | I130: 0 | J130: =ROUND(I130*H130,2) -> 0 | N130: znížená | P130: =O130*H130 -> 0 | Q130: 0.00192 | R130: =Q130*H130 -> 0.145344 | S130: 0 | T130: =S130*H130 -> 0 | AR130: 4 | AT130: K | AU130: 2 | AY130: ROZPOCET | BE130: =IF(N130="základná",J130,0) -> 0 | BF130: =IF(N130="znížená",J130,0) -> 0 | BG130: =IF(N130="zákl. prenesená",J130,0) -> 0 | BH130: =IF(N130="zníž. prenesená",J130,0) -> 0 | BI130: =IF(N130="nulová",J130,0) -> 0 | BJ130: 2 | BK130: =ROUND(I130*H130,2) -> 0 | BL130: 4 | BM130: -757184463
C131: 2 | D131: K | E131: 952901111.S | F131: Vyčistenie budov pri výške podlaží do 4 m | G131: m2 | H131: 36.654 | I131: 0 | J131: =ROUND(I131*H131,2) -> 0 | N131: znížená | P131: =O131*H131 -> 0 | Q131: 5e-05 | R131: =Q131*H131 -> 0.0018327 | S131: 0 | T131: =S131*H131 -> 0 | AR131: 4 | AT131: K | AU131: 2 | AY131: ROZPOCET | BE131: =IF(N131="základná",J131,0) -> 0 | BF131: =IF(N131="znížená",J131,0) -> 0 | BG131: =IF(N131="zákl. prenesená",J131,0) -> 0 | BH131: =IF(N131="zníž. prenesená",J131,0) -> 0 | BI131: =IF(N131="nulová",J131,0) -> 0 | BJ131: 2 | BK131: =ROUND(I131*H131,2) -> 0 | BL131: 4 | BM131: -2138876409
C132: 3 | D132: K | E132: 962031132.S | F132: Búranie priečok alebo vybúranie otvorov plochy nad 4 m2 z tehál pálených, plných alebo dutých hr. do 150 mm, -0,19600t | G132: m2 | H132: 44.3 | I132: 0 | J132: =ROUND(I132*H132,2) -> 0 | N132: znížená | P132: =O132*H132 -> 0 | Q132: 0 | R132: =Q132*H132 -> 0 | S132: 0.196 | T132: =S132*H132 -> 8.6828 | AR132: 4 | AT132: K | AU132: 2 | AY132: ROZPOCET | BE132: =IF(N132="základná",J132,0) -> 0 | BF132: =IF(N132="znížená",J132,0) -> 0 | BG132: =IF(N132="zákl. prenesená",J132,0) -> 0 | BH132: =IF(N132="zníž. prenesená",J132,0) -> 0 | BI132: =IF(N132="nulová",J132,0) -> 0 | BJ132: 2 | BK132: =ROUND(I132*H132,2) -> 0 | BL132: 4 | BM132: 261294586
C133: 4 | D133: K | E133: 962032231.S | F133: Búranie muriva alebo vybúranie otvorov plochy nad 4 m2 nadzákladového z tehál pálených, vápenopieskových, cementových na maltu, -1,90500t | G133: m3 | H133: 0.1 | I133: 0 | J133: =ROUND(I133*H133,2) -> 0 | N133: znížená | P133: =O133*H133 -> 0 | Q133: 0 | R133: =Q133*H133 -> 0 | S133: 1.905 | T133: =S133*H133 -> 0.1905 | AR133: 4 | AT133: K | AU133: 2 | AY133: ROZPOCET | BE133: =IF(N133="základná",J133,0) -> 0 | BF133: =IF(N133="znížená",J133,0) -> 0 | BG133: =IF(N133="zákl. prenesená",J133,0) -> 0 | BH133: =IF(N133="zníž. prenesená",J133,0) -> 0 | BI133: =IF(N133="nulová",J133,0) -> 0 | BJ133: 2 | BK133: =ROUND(I133*H133,2) -> 0 | BL133: 4 | BM133: -1075970640
C134: 5 | D134: K | E134: 965042231.S | F134: Búranie podkladov pod dlažby, liatych dlažieb a mazanín,betón,liaty asfalt hr.nad 100 mm, plochy do 4 m2 -2,20000t | G134: m3 | H134: 0.636 | I134: 0 | J134: =ROUND(I134*H134,2) -> 0 | N134: znížená | P134: =O134*H134 -> 0 | Q134: 0 | R134: =Q134*H134 -> 0 | S134: 2.2 | T134: =S134*H134 -> 1.3992 | AR134: 4 | AT134: K | AU134: 2 | AY134: ROZPOCET | BE134: =IF(N134="základná",J134,0) -> 0 | BF134: =IF(N134="znížená",J134,0) -> 0 | BG134: =IF(N134="zákl. prenesená",J134,0) -> 0 | BH134: =IF(N134="zníž. prenesená",J134,0) -> 0 | BI134: =IF(N134="nulová",J134,0) -> 0 | BJ134: 2 | BK134: =ROUND(I134*H134,2) -> 0 | BL134: 4 | BM134: -103677631
C135: 6 | D135: K | E135: 965044201.S | F135: Brúsenie existujúcich betónových podláh, zbrúsenie hrúbky do 3 mm -0,00600t | G135: m2 | H135: 36.654 | I135: 0 | J135: =ROUND(I135*H135,2) -> 0 | N135: znížená | P135: =O135*H135 -> 0 | Q135: 1e-05 | R135: =Q135*H135 -> 0.00036654 | S135: 0.006 | T135: =S135*H135 -> 0.219924 | AR135: 4 | AT135: K | AU135: 2 | AY135: ROZPOCET | BE135: =IF(N135="základná",J135,0) -> 0 | BF135: =IF(N135="znížená",J135,0) -> 0 | BG135: =IF(N135="zákl. prenesená",J135,0) -> 0 | BH135: =IF(N135="zníž. prenesená",J135,0) -> 0 | BI135: =IF(N135="nulová",J135,0) -> 0 | BJ135: 2 | BK135: =ROUND(I135*H135,2) -> 0 | BL135: 4 | BM135: -326291603
C136: 7 | D136: K | E136: 965081812.S | F136: Búranie dlažieb, z kamen., cement., terazzových, čadičových alebo keramických, hr. nad 10 mm, -0,06500t | G136: m2 | H136: 32.556 | I136: 0 | J136: =ROUND(I136*H136,2) -> 0 | N136: znížená | P136: =O136*H136 -> 0 | Q136: 0 | R136: =Q136*H136 -> 0 | S136: 0.065 | T136: =S136*H136 -> 2.11614 | AR136: 4 | AT136: K | AU136: 2 | AY136: ROZPOCET | BE136: =IF(N136="základná",J136,0) -> 0 | BF136: =IF(N136="znížená",J136,0) -> 0 | BG136: =IF(N136="zákl. prenesená",J136,0) -> 0 | BH136: =IF(N136="zníž. prenesená",J136,0) -> 0 | BI136: =IF(N136="nulová",J136,0) -> 0 | BJ136: 2 | BK136: =ROUND(I136*H136,2) -> 0 | BL136: 4 | BM136: 91553675
C137: 8 | D137: K | E137: 968061125.S | F137: Vyvesenie dreveného dverného krídla do suti plochy do 2 m2, -0,02400t | G137: ks | H137: 7 | I137: 0 | J137: =ROUND(I137*H137,2) -> 0 | N137: znížená | P137: =O137*H137 -> 0 | Q137: 0 | R137: =Q137*H137 -> 0 | S137: 0.024 | T137: =S137*H137 -> 0.168 | AR137: 4 | AT137: K | AU137: 2 | AY137: ROZPOCET | BE137: =IF(N137="základná",J137,0) -> 0 | BF137: =IF(N137="znížená",J137,0) -> 0 | BG137: =IF(N137="zákl. prenesená",J137,0) -> 0 | BH137: =IF(N137="zníž. prenesená",J137,0) -> 0 | BI137: =IF(N137="nulová",J137,0) -> 0 | BJ137: 2 | BK137: =ROUND(I137*H137,2) -> 0 | BL137: 4 | BM137: -909868558
C138: 9 | D138: K | E138: 968061126.S | F138: Vyvesenie dreveného dverného krídla do suti plochy nad 2 m2, -0,02700t | G138: ks | H138: 2 | I138: 0 | J138: =ROUND(I138*H138,2) -> 0 | N138: znížená | P138: =O138*H138 -> 0 | Q138: 0 | R138: =Q138*H138 -> 0 | S138: 0.027 | T138: =S138*H138 -> 0.054 | AR138: 4 | AT138: K | AU138: 2 | AY138: ROZPOCET | BE138: =IF(N138="základná",J138,0) -> 0 | BF138: =IF(N138="znížená",J138,0) -> 0 | BG138: =IF(N138="zákl. prenesená",J138,0) -> 0 | BH138: =IF(N138="zníž. prenesená",J138,0) -> 0 | BI138: =IF(N138="nulová",J138,0) -> 0 | BJ138: 2 | BK138: =ROUND(I138*H138,2) -> 0 | BL138: 4 | BM138: 1866549821
C139: 10 | D139: K | E139: 968062456.S | F139: Vybúranie drevených dverových zárubní plochy nad 2 m2, -0,06700t | G139: m2 | H139: 4.8 | I139: 0 | J139: =ROUND(I139*H139,2) -> 0 | N139: znížená | P139: =O139*H139 -> 0 | Q139: 0 | R139: =Q139*H139 -> 0 | S139: 0.067 | T139: =S139*H139 -> 0.3216 | AR139: 4 | AT139: K | AU139: 2 | AY139: ROZPOCET | BE139: =IF(N139="základná",J139,0) -> 0 | BF139: =IF(N139="znížená",J139,0) -> 0 | BG139: =IF(N139="zákl. prenesená",J139,0) -> 0 | BH139: =IF(N139="zníž. prenesená",J139,0) -> 0 | BI139: =IF(N139="nulová",J139,0) -> 0 | BJ139: 2 | BK139: =ROUND(I139*H139,2) -> 0 | BL139: 4 | BM139: 892470568
C140: 11 | D140: K | E140: 968072455.S | F140: Vybúranie kovových dverových zárubní plochy do 2 m2, -0,07600t | G140: m2 | H140: 9.2 | I140: 0 | J140: =ROUND(I140*H140,2) -> 0 | N140: znížená | P140: =O140*H140 -> 0 | Q140: 0 | R140: =Q140*H140 -> 0 | S140: 0.076 | T140: =S140*H140 -> 0.6992 | AR140: 4 | AT140: K | AU140: 2 | AY140: ROZPOCET | BE140: =IF(N140="základná",J140,0) -> 0 | BF140: =IF(N140="znížená",J140,0) -> 0 | BG140: =IF(N140="zákl. prenesená",J140,0) -> 0 | BH140: =IF(N140="zníž. prenesená",J140,0) -> 0 | BI140: =IF(N140="nulová",J140,0) -> 0 | BJ140: 2 | BK140: =ROUND(I140*H140,2) -> 0 | BL140: 4 | BM140: 1684355903
C141: 12 | D141: K | E141: 968072456.S | F141: Vybúranie kovových dverových zárubní plochy nad 2 m2, -0,06300t | G141: m2 | H141: 2.5 | I141: 0 | J141: =ROUND(I141*H141,2) -> 0 | N141: znížená | P141: =O141*H141 -> 0 | Q141: 0 | R141: =Q141*H141 -> 0 | S141: 0.063 | T141: =S141*H141 -> 0.1575 | AR141: 4 | AT141: K | AU141: 2 | AY141: ROZPOCET | BE141: =IF(N141="základná",J141,0) -> 0 | BF141: =IF(N141="znížená",J141,0) -> 0 | BG141: =IF(N141="zákl. prenesená",J141,0) -> 0 | BH141: =IF(N141="zníž. prenesená",J141,0) -> 0 | BI141: =IF(N141="nulová",J141,0) -> 0 | BJ141: 2 | BK141: =ROUND(I141*H141,2) -> 0 | BL141: 4 | BM141: -1619465444
... C150: 21 | D150: K | E150: 979089714.S | F150: Prenájom kontajneru 10 m3 | G150: ks | H150: 3 | I150: 0 | J150: =ROUND(I150*H150,2) -> 0 | N150: znížená | P150: =O150*H150 -> 0 | Q150: 0 | R150: =Q150*H150 -> 0 | S150: 0 | T150: =S150*H150 -> 0 | AR150: 4 | AT150: K | AU150: 2 | AY150: ROZPOCET | BE150: =IF(N150="základná",J150,0) -> 0 | BF150: =IF(N150="znížená",J150,0) -> 0 | BG150: =IF(N150="zákl. prenesená",J150,0) -> 0 | BH150: =IF(N150="zníž. prenesená",J150,0) -> 0 | BI150: =IF(N150="nulová",J150,0) -> 0 | BJ150: 2 | BK150: =ROUND(I150*H150,2) -> 0 | BL150: 4 | BM150: 2069206579
D151: D | E151: PSV | F151: Práce a dodávky PSV | J151: =BK151 -> 0 | P151: =P152+P154+P159+P162+P164+P167 -> 0 | R151: =R152+R154+R159+R162+R164+R167 -> 0.001856 | T151: =T152+T154+T159+T162+T164+T167 -> 2.5401609 | AR151: 2 | AT151: D | AU151: 0 | AY151: ROZPOCET | BK151: =BK152+BK154+BK159+BK162+BK164+BK167 -> 0
D152: D | E152: 713 | F152: Izolácie tepelné | J152: =BK152 -> 0 | P152: =P153 -> 0 | R152: =R153 -> 0 | T152: =T153 -> 0.0318 | AR152: 2 | AT152: D | AU152: 1 | AY152: ROZPOCET | BK152: =BK153 -> 0
C153: 22 | D153: K | E153: 713000020.S | F153: Odstránenie tepelnej izolácie podláh kladenej voľne z vláknitých materiálov hr. do 10 cm -0,006t | G153: m2 | H153: 5.3 | I153: 0 | J153: =ROUND(I153*H153,2) -> 0 | N153: znížená | P153: =O153*H153 -> 0 | Q153: 0 | R153: =Q153*H153 -> 0 | S153: 0.006 | T153: =S153*H153 -> 0.0318 | AR153: 16 | AT153: K | AU153: 2 | AY153: ROZPOCET | BE153: =IF(N153="základná",J153,0) -> 0 | BF153: =IF(N153="znížená",J153,0) -> 0 | BG153: =IF(N153="zákl. prenesená",J153,0) -> 0 | BH153: =IF(N153="zníž. prenesená",J153,0) -> 0 | BI153: =IF(N153="nulová",J153,0) -> 0 | BJ153: 2 | BK153: =ROUND(I153*H153,2) -> 0 | BL153: 16 | BM153: 1886279169
D154: D | E154: 725 | F154: Zdravotechnika - zariaďovacie predmety | J154: =BK154 -> 0 | P154: =SUM(P155:P158) -> 0 | R154: =SUM(R155:R158) -> 0 | T154: =SUM(T155:T158) -> 0.13651 | AR154: 2 | AT154: D | AU154: 1 | AY154: ROZPOCET | BK154: =SUM(BK155:BK158) -> 0
C155: 23 | D155: K | E155: 725110811.S | F155: Demontáž záchoda splachovacieho s nádržou alebo s tlakovým splachovačom, -0,01933t | G155: súb. | H155: 3 | I155: 0 | J155: =ROUND(I155*H155,2) -> 0 | N155: znížená | P155: =O155*H155 -> 0 | Q155: 0 | R155: =Q155*H155 -> 0 | S155: 0.01933 | T155: =S155*H155 -> 0.05799 | AR155: 16 | AT155: K | AU155: 2 | AY155: ROZPOCET | BE155: =IF(N155="základná",J155,0) -> 0 | BF155: =IF(N155="znížená",J155,0) -> 0 | BG155: =IF(N155="zákl. prenesená",J155,0) -> 0 | BH155: =IF(N155="zníž. prenesená",J155,0) -> 0 | BI155: =IF(N155="nulová",J155,0) -> 0 | BJ155: 2 | BK155: =ROUND(I155*H155,2) -> 0 | BL155: 16 | BM155: -764498294
C156: 24 | D156: K | E156: 725122813.S | F156: Demontáž pisoára, -0,01720t | G156: súb. | H156: 2 | I156: 0 | J156: =ROUND(I156*H156,2) -> 0 | N156: znížená | P156: =O156*H156 -> 0 | Q156: 0 | R156: =Q156*H156 -> 0 | S156: 0.0172 | T156: =S156*H156 -> 0.0344 | AR156: 16 | AT156: K | AU156: 2 | AY156: ROZPOCET | BE156: =IF(N156="základná",J156,0) -> 0 | BF156: =IF(N156="znížená",J156,0) -> 0 | BG156: =IF(N156="zákl. prenesená",J156,0) -> 0 | BH156: =IF(N156="zníž. prenesená",J156,0) -> 0 | BI156: =IF(N156="nulová",J156,0) -> 0 | BJ156: 2 | BK156: =ROUND(I156*H156,2) -> 0 | BL156: 16 | BM156: -2107260424
C157: 25 | D157: K | E157: 725210821.S | F157: Demontáž umývadiel alebo umývadielok bez výtokovej armatúry, -0,01946t | G157: súb. | H157: 2 | I157: 0 | J157: =ROUND(I157*H157,2) -> 0 | N157: znížená | P157: =O157*H157 -> 0 | Q157: 0 | R157: =Q157*H157 -> 0 | S157: 0.01946 | T157: =S157*H157 -> 0.03892 | AR157: 16 | AT157: K | AU157: 2 | AY157: ROZPOCET | BE157: =IF(N157="základná",J157,0) -> 0 | BF157: =IF(N157="znížená",J157,0) -> 0 | BG157: =IF(N157="zákl. prenesená",J157,0) -> 0 | BH157: =IF(N157="zníž. prenesená",J157,0) -> 0 | BI157: =IF(N157="nulová",J157,0) -> 0 | BJ157: 2 | BK157: =ROUND(I157*H157,2) -> 0 | BL157: 16 | BM157: 564869933
C158: 26 | D158: K | E158: 725820810.S | F158: Demontáž batérie drezovej, umývadlovej nástennej, -0,0026t | G158: súb. | H158: 2 | I158: 0 | J158: =ROUND(I158*H158,2) -> 0 | N158: znížená | P158: =O158*H158 -> 0 | Q158: 0 | R158: =Q158*H158 -> 0 | S158: 0.0026 | T158: =S158*H158 -> 0.0052 | AR158: 16 | AT158: K | AU158: 2 | AY158: ROZPOCET | BE158: =IF(N158="základná",J158,0) -> 0 | BF158: =IF(N158="znížená",J158,0) -> 0 | BG158: =IF(N158="zákl. prenesená",J158,0) -> 0 | BH158: =IF(N158="zníž. prenesená",J158,0) -> 0 | BI158: =IF(N158="nulová",J158,0) -> 0 | BJ158: 2 | BK158: =ROUND(I158*H158,2) -> 0 | BL158: 16 | BM158: 1733015919
D159: D | E159: 733 | F159: Ústredné kúrenie - rozvodné potrubie | J159: =BK159 -> 0 | P159: =SUM(P160:P161) -> 0 | R159: =SUM(R160:R161) -> 0.001616 | T159: =SUM(T160:T161) -> 0.104016 | AR159: 2 | AT159: D | AU159: 1 | AY159: ROZPOCET | BK159: =SUM(BK160:BK161) -> 0
C160: 27 | D160: K | E160: 733120815.S | F160: Demontáž potrubia z oceľových rúrok hladkých do priemeru 38, -0,00254t | G160: m | H160: 40.4 | I160: 0 | J160: =ROUND(I160*H160,2) -> 0 | N160: znížená | P160: =O160*H160 -> 0 | Q160: 4e-05 | R160: =Q160*H160 -> 0.001616 | S160: 0.00254 | T160: =S160*H160 -> 0.102616 | AR160: 16 | AT160: K | AU160: 2 | AY160: ROZPOCET | BE160: =IF(N160="základná",J160,0) -> 0 | BF160: =IF(N160="znížená",J160,0) -> 0 | BG160: =IF(N160="zákl. prenesená",J160,0) -> 0 | BH160: =IF(N160="zníž. prenesená",J160,0) -> 0 | BI160: =IF(N160="nulová",J160,0) -> 0 | BJ160: 2 | BK160: =ROUND(I160*H160,2) -> 0 | BL160: 16 | BM160: 1811568955
C161: 28 | D161: K | E161: 733191816.S | F161: Odrezanie strmeňového držiaka do priemeru 44.5 -0,00014t | G161: ks | H161: 10 | I161: 0 | J161: =ROUND(I161*H161,2) -> 0 | N161: znížená | P161: =O161*H161 -> 0 | Q161: 0 | R161: =Q161*H161 -> 0 | S161: 0.00014 | T161: =S161*H161 -> 0.0014 | AR161: 16 | AT161: K | AU161: 2 | AY161: ROZPOCET | BE161: =IF(N161="základná",J161,0) -> 0 | BF161: =IF(N161="znížená",J161,0) -> 0 | BG161: =IF(N161="zákl. prenesená",J161,0) -> 0 | BH161: =IF(N161="zníž. prenesená",J161,0) -> 0 | BI161: =IF(N161="nulová",J161,0) -> 0 | BJ161: 2 | BK161: =ROUND(I161*H161,2) -> 0 | BL161: 16 | BM161: -148974506
D162: D | E162: 735 | F162: Ústredné kúrenie - vykurovacie telesá | J162: =BK162 -> 0 | P162: =P163 -> 0 | R162: =R163 -> 0.00024 | T162: =T163 -> 0.07479 | AR162: 2 | AT162: D | AU162: 1 | AY162: ROZPOCET | BK162: =BK163 -> 0
C163: 29 | D163: K | E163: 735151821.S | F163: Demontáž vykurovacieho telesa panelového dvojradového stavebnej dĺžky do 1500 mm, -0,02493t | G163: ks | H163: 3 | I163: 0 | J163: =ROUND(I163*H163,2) -> 0 | N163: znížená | P163: =O163*H163 -> 0 | Q163: 8e-05 | R163: =Q163*H163 -> 0.00024 | S163: 0.02493 | T163: =S163*H163 -> 0.07479 | AR163: 16 | AT163: K | AU163: 2 | AY163: ROZPOCET | BE163: =IF(N163="základná",J163,0) -> 0 | BF163: =IF(N163="znížená",J163,0) -> 0 | BG163: =IF(N163="zákl. prenesená",J163,0) -> 0 | BH163: =IF(N163="zníž. prenesená",J163,0) -> 0 | BI163: =IF(N163="nulová",J163,0) -> 0 | BJ163: 2 | BK163: =ROUND(I163*H163,2) -> 0 | BL163: 16 | BM163: 963354851
D164: D | E164: 766 | F164: Konštrukcie stolárske | J164: =BK164 -> 0 | P164: =SUM(P165:P166) -> 0 | R164: =SUM(R165:R166) -> 0 | T164: =SUM(T165:T166) -> 2.1791414 | AR164: 2 | AT164: D | AU164: 1 | AY164: ROZPOCET | BK164: =SUM(BK165:BK166) -> 0
C165: 30 | D165: K | E165: 766411821.S | F165: Demontáž obloženia stien panelmi, palub. doskami, -0,01098t | G165: m2 | H165: 57.481 | I165: 0 | J165: =ROUND(I165*H165,2) -> 0 | N165: znížená | P165: =O165*H165 -> 0 | Q165: 0 | R165: =Q165*H165 -> 0 | S165: 0.01098 | T165: =S165*H165 -> 0.63114138 | AR165: 16 | AT165: K | AU165: 2 | AY165: ROZPOCET | BE165: =IF(N165="základná",J165,0) -> 0 | BF165: =IF(N165="znížená",J165,0) -> 0 | BG165: =IF(N165="zákl. prenesená",J165,0) -> 0 | BH165: =IF(N165="zníž. prenesená",J165,0) -> 0 | BI165: =IF(N165="nulová",J165,0) -> 0 | BJ165: 2 | BK165: =ROUND(I165*H165,2) -> 0 | BL165: 16 | BM165: 2102695118
C166: 31 | D166: K | E166: 766421811.S | F166: Demontáž obloženia podhľadu, veľkosti do 1,5 m2, -0,02400t | G166: m2 | H166: 64.5 | I166: 0 | J166: =ROUND(I166*H166,2) -> 0 | N166: znížená | P166: =O166*H166 -> 0 | Q166: 0 | R166: =Q166*H166 -> 0 | S166: 0.024 | T166: =S166*H166 -> 1.548 | AR166: 16 | AT166: K | AU166: 2 | AY166: ROZPOCET | BE166: =IF(N166="základná",J166,0) -> 0 | BF166: =IF(N166="znížená",J166,0) -> 0 | BG166: =IF(N166="zákl. prenesená",J166,0) -> 0 | BH166: =IF(N166="zníž. prenesená",J166,0) -> 0 | BI166: =IF(N166="nulová",J166,0) -> 0 | BJ166: 2 | BK166: =ROUND(I166*H166,2) -> 0 | BL166: 16 | BM166: -1427682758
D167: D | E167: 784 | F167: Maľby | J167: =BK167 -> 0 | P167: =P168 -> 0 | R167: =R168 -> 0 | T167: =T168 -> 0.0139035 | AR167: 2 | AT167: D | AU167: 1 | AY167: ROZPOCET | BK167: =BK168 -> 0
C168: 32 | D168: K | E168: 784402801.S | F168: Odstránenie malieb oškrabaním, výšky do 3,80 m, -0,0003 t | G168: m2 | H168: 46.345 | I168: 0 | J168: =ROUND(I168*H168,2) -> 0 | N168: znížená | P168: =O168*H168 -> 0 | Q168: 0 | R168: =Q168*H168 -> 0 | S168: 0.0003 | T168: =S168*H168 -> 0.0139035 | AR168: 16 | AT168: K | AU168: 2 | AY168: ROZPOCET | BE168: =IF(N168="základná",J168,0) -> 0 | BF168: =IF(N168="znížená",J168,0) -> 0 | BG168: =IF(N168="zákl. prenesená",J168,0) -> 0 | BH168: =IF(N168="zníž. prenesená",J168,0) -> 0 | BI168: =IF(N168="nulová",J168,0) -> 0 | BJ168: 2 | BK168: =ROUND(I168*H168,2) -> 0 | BL168: 16 | BM168: 1097217726
D169: D | E169: M | F169: Práce a dodávky M | J169: =BK169 -> 0 | P169: =P170 -> 0 | R169: =R170 -> 0 | T169: =T170 -> 0.0609 | AR169: 3 | AT169: D | AU169: 0 | AY169: ROZPOCET | BK169: =BK170 -> 0
D170: D | E170: 21-M | F170: Elektromontáže | J170: =BK170 -> 0 | P170: =SUM(P171:P173) -> 0 | R170: =SUM(R171:R173) -> 0 | T170: =SUM(T171:T173) -> 0.0609 | AR170: 3 | AT170: D | AU170: 1 | AY170: ROZPOCET | BK170: =SUM(BK171:BK173) -> 0
C171: 33 | D171: K | E171: 210960831.S | F171: Demontáž do sute - jednopólový spínač - radenie 1, nástenný pre prostredie obyčajné alebo vlhké -0,00010 t | G171: ks | H171: 7 | I171: 0 | J171: =ROUND(I171*H171,2) -> 0 | N171: znížená | P171: =O171*H171 -> 0 | Q171: 0 | R171: =Q171*H171 -> 0 | S171: 0.0001 | T171: =S171*H171 -> 0.0007 | AR171: 64 | AT171: K | AU171: 2 | AY171: ROZPOCET | BE171: =IF(N171="základná",J171,0) -> 0 | BF171: =IF(N171="znížená",J171,0) -> 0 | BG171: =IF(N171="zákl. prenesená",J171,0) -> 0 | BH171: =IF(N171="zníž. prenesená",J171,0) -> 0 | BI171: =IF(N171="nulová",J171,0) -> 0 | BJ171: 2 | BK171: =ROUND(I171*H171,2) -> 0 | BL171: 64 | BM171: 55704511
C172: 34 | D172: K | E172: 210960834.S | F172: Demontáž do sute - striedavý spínač (prepínač) - radenie 6, nástenný pre prostredie obyčajné alebo vlhké -0,00005 t | G172: ks | H172: 4 | I172: 0 | J172: =ROUND(I172*H172,2) -> 0 | N172: znížená | P172: =O172*H172 -> 0 | Q172: 0 | R172: =Q172*H172 -> 0 | S172: 5e-05 | T172: =S172*H172 -> 0.0002 | AR172: 64 | AT172: K | AU172: 2 | AY172: ROZPOCET | BE172: =IF(N172="základná",J172,0) -> 0 | BF172: =IF(N172="znížená",J172,0) -> 0 | BG172: =IF(N172="zákl. prenesená",J172,0) -> 0 | BH172: =IF(N172="zníž. prenesená",J172,0) -> 0 | BI172: =IF(N172="nulová",J172,0) -> 0 | BJ172: 2 | BK172: =ROUND(I172*H172,2) -> 0 | BL172: 64 | BM172: 1096208580
C173: 35 | D173: K | E173: 210964324.S | F173: Demontáž do sute - svietidla interiérového na strop do 5 kg vrátane odpojenia -0,00500 t | G173: ks | H173: 12 | I173: 0 | J173: =ROUND(I173*H173,2) -> 0 | N173: znížená | P173: =O173*H173 -> 0 | Q173: 0 | R173: =Q173*H173 -> 0 | S173: 0.005 | T173: =S173*H173 -> 0.06 | AR173: 64 | AT173: K | AU173: 2 | AY173: ROZPOCET | BE173: =IF(N173="základná",J173,0) -> 0 | BF173: =IF(N173="znížená",J173,0) -> 0 | BG173: =IF(N173="zákl. prenesená",J173,0) -> 0 | BH173: =IF(N173="zníž. prenesená",J173,0) -> 0 | BI173: =IF(N173="nulová",J173,0) -> 0 | BJ173: 2 | BK173: =ROUND(I173*H173,2) -> 0 | BL173: 64 | BM173: -2066393705

Sheet 02 - Architektonicko-stav...
L2: >> skryté stĺpce << | AT2: {76ebf434-4baf-4566-9ee6-cac9a43d2e21}
AT3: 0
D4: KRYCÍ LIST ROZPOČTU | M4: v --- nižšie sa nachádzajú doplnkové a pomocné údaje k zostavám --- v | AT4: False
D6: Stavba:
E7: ='Rekapitulácia stavby'!K6 -> REKONŠTRUKCIA HYGIENICKÝCH ZARIADENÍ KD
D8: Objekt:
E9: 02 - Architektonicko-stavebné riešenie
D11: JKSO: | I11: KS:
D12: Miesto: | F12: kat. úz. Davidov | I12: Dátum: | J12: ='Rekapitulácia stavby'!AN8 -> 3. 2. 2023
D14: Objednávateľ: | I14: IČO:
E15: Obec Davidov | I15: IČ DPH:
D17: Zhotoviteľ: | I17: IČO: | J17: ='Rekapitulácia stavby'!AN13 -> 0
E18: ='Rekapitulácia stavby'!E14 -> 0 | I18: IČ DPH: | J18: ='Rekapitulácia stavby'!AN14 -> 0
D20: Projektant: | I20: IČO: | J20: 44547838
E21: ateliér-m spol. s r.o. | I21: IČ DPH: | J21: SK2022735572
D23: Spracovateľ: | I23: IČO:
E24: Ing. Daniel Janok | I24: IČ DPH:
D26: Poznámka:
D30: Cena bez DPH | J30: =ROUND(J131, 2) -> 0
F32: Základ dane | I32: Sadzba dane | J32: Výška dane
D33: DPH | E33: základná | F33: =ROUND((SUM(BE131:BE212)), 2) -> 0 | I33: 0.2 | J33: =ROUND(((SUM(BE131:BE212))*I33), 2) -> 0
E34: znížená | F34: =ROUND((SUM(BF131:BF212)), 2) -> 0 | I34: 0.2 | J34: =ROUND(((SUM(BF131:BF212))*I34), 2) -> 0
E35: zákl. prenesená | F35: =ROUND((SUM(BG131:BG212)), 2) -> 0 | I35: 0.2 | J35: =0 -> 0
E36: zníž. prenesená | F36: =ROUND((SUM(BH131:BH212)), 2) -> 0 | I36: 0.2 | J36: =0 -> 0
E37: nulová | F37: =ROUND((SUM(BI131:BI212)), 2) -> 0 | I37: 0 | J37: =0 -> 0
D39: Cena s DPH | G39: v | H39: EUR | J39: =SUM(J30:J37) -> 0
D50: Projektant | G50: Spracovateľ
D61: Dátum a podpis: | F61: Pečiatka | G61: Dátum a podpis: | J61: Pečiatka
D65: Objednávateľ | G65: Zhotoviteľ
D76: Dátum a podpis: | F76: Pečiatka | G76: Dátum a podpis: | J76: Pečiatka
C82: REKAPITULÁCIA ROZPOČTU
C84: Stavba:
E85: =E7 -> REKONŠTRUKCIA HYGIENICKÝCH ZARIADENÍ KD
C86: Objekt:
E87: =E9 -> 02 - Architektonicko-stavebné riešenie
C89: Miesto: | F89: =F12 -> kat. úz. Davidov | I89: Dátum: | J89: =IF(J12="","",J12) -> 3. 2. 2023
C91: Objednávateľ: | F91: =E15 -> Obec Davidov | I91: Projektant: | J91: =E21 -> ateliér-m spol. s r.o.
C92: Zhotoviteľ: | F92: =IF(E18="","",E18) -> 0 | I92: Spracovateľ: | J92: =E24 -> Ing. Daniel Janok
C94: Kód dielu - Popis | J94: Cena celkom [EUR]
C96: Náklady z rozpočtu | J96: =J131 -> 0 | AU96: -1
D97: HSV - Práce a dodávky HSV | J97: =J132 -> 0
D98: 3 - Zvislé a kompletné konštrukcie | J98: =J133 -> 0
D99: 6 - Úpravy povrchov, podlahy, osadenie | J99: =J138 -> 0
D100: 9 - Ostatné konštrukcie a práce-búranie | J100: =J153 -> 0
D101: 99 - Presun hmôt HSV | J101: =J160 -> 0
D102: PSV - Práce a dodávky PSV | J102: =J162 -> 0
D103: 711 - Izolácie proti vode a vlhkosti | J103: =J163 -> 0
D104: 713 - Izolácie tepelné | J104: =J171 -> 0
D105: 763 - Konštrukcie - drevostavby | J105: =J175 -> 0
D106: 764 - Konštrukcie klampiarske | J106: =J179 -> 0
D107: 766 - Konštrukcie stolárske | J107: =J182 -> 0
D108: 771 - Podlahy z dlaždíc | J108: =J196 -> 0
D109: 781 - Obklady | J109: =J201 -> 0
D110: 783 - Nátery | J110: =J205 -> 0
D111: 784 - Maľby | J111: =J207 -> 0
C118: ROZPOČET
C120: Stavba:
E121: =E7 -> REKONŠTRUKCIA HYGIENICKÝCH ZARIADENÍ KD
C122: Objekt:
E123: =E9 -> 02 - Architektonicko-stavebné riešenie
C125: Miesto: | F125: =F12 -> kat. úz. Davidov | I125: Dátum:3.2.2023
C127: Objednávateľ: | F127: =E15 -> Obec Davidov | I127: Projektant: | J127: =E21 -> ateliér-m spol. s r.o.
C128: Zhotoviteľ: | I128: Spracovateľ:
C130: PČ | D130: Typ | E130: Kód | F130: Popis | G130: MJ | H130: Množstvo | I130: J.cena [EUR] | J130: Cena celkom [EUR] | K130: Cenová sústava | N130: DPH | O130: J. Nh [h] | P130: Nh celkom [h] | Q130: J. hmotnosť [t] | R130: Hmotnosť celkom [t] | S130: J. suť [t] | T130: Suť Celkom [t]
C131: Náklady z rozpočtu | J131: =BK131 -> 0 | P131: =P132+P162 -> 0 | R131: =R132+R162 -> 12.469142 | T131: =T132+T162 -> 0.08 | AT131: D | AU131: -1 | BK131: =BK132+BK162 -> 0
D132: D | E132: HSV | F132: Práce a dodávky HSV | J132: =BK132 -> 0 | P132: =P133+P138+P153+P160 -> 0 | R132: =R133+R138+R153+R160 -> 8.6217677 | T132: =T133+T138+T153+T160 -> 0.08 | AR132: 1 | AT132: D | AU132: 0 | AY132: ROZPOCET | BK132: =BK133+BK138+BK153+BK160 -> 0
D133: D | E133: 3 | F133: Zvislé a kompletné konštrukcie | J133: =BK133 -> 0 | P133: =SUM(P134:P137) -> 0 | R133: =SUM(R134:R137) -> 3.4684852 | T133: =SUM(T134:T137) -> 0 | AR133: 1 | AT133: D | AU133: 1 | AY133: ROZPOCET | BK133: =SUM(BK134:BK137) -> 0
C134: 1 | D134: K | E134: 317161141.S | F134: Pórobetónový preklad nenosný šírky 150 mm, výšky 250 mm, dĺžky 1000 mm | G134: ks | H134: 2 | I134: 0 | J134: =ROUND(I134*H134,2) -> 0 | N134: znížená | P134: =O134*H134 -> 0 | Q134: 0.02876 | R134: =Q134*H134 -> 0.05752 | S134: 0 | T134: =S134*H134 -> 0 | AR134: 4 | AT134: K | AU134: 2 | AY134: ROZPOCET | BE134: =IF(N134="základná",J134,0) -> 0 | BF134: =IF(N134="znížená",J134,0) -> 0 | BG134: =IF(N134="zákl. prenesená",J134,0) -> 0 | BH134: =IF(N134="zníž. prenesená",J134,0) -> 0 | BI134: =IF(N134="nulová",J134,0) -> 0 | BJ134: 2 | BK134: =ROUND(I134*H134,2) -> 0 | BL134: 4 | BM134: -1235311833
C135: 2 | D135: K | E135: 317161414.S | F135: Pórobetónový preklad nosný šírky 100 mm, výšky 250 mm, dĺžky 2100 mm | G135: ks | H135: 1 | I135: 0 | J135: =ROUND(I135*H135,2) -> 0 | N135: znížená | P135: =O135*H135 -> 0 | Q135: 0.0969 | R135: =Q135*H135 -> 0.0969 | S135: 0 | T135: =S135*H135 -> 0 | AR135: 4 | AT135: K | AU135: 2 | AY135: ROZPOCET | BE135: =IF(N135="základná",J135,0) -> 0 | BF135: =IF(N135="znížená",J135,0) -> 0 | BG135: =IF(N135="zákl. prenesená",J135,0) -> 0 | BH135: =IF(N135="zníž. prenesená",J135,0) -> 0 | BI135: =IF(N135="nulová",J135,0) -> 0 | BJ135: 2 | BK135: =ROUND(I135*H135,2) -> 0 | BL135: 4 | BM135: -154230150
C136: 3 | D136: K | E136: 342272051.S | F136: Priečky z pórobetónových tvárnic hladkých s objemovou hmotnosťou do 600 kg/m3 hrúbky 150 mm | G136: m2 | H136: 29.73 | I136: 0 | J136: =ROUND(I136*H136,2) -> 0 | N136: znížená | P136: =O136*H136 -> 0 | Q136: 0.11124 | R136: =Q136*H136 -> 3.3071652 | S136: 0 | T136: =S136*H136 -> 0 | AR136: 4 | AT136: K | AU136: 2 | AY136: ROZPOCET | BE136: =IF(N136="základná",J136,0) -> 0 | BF136: =IF(N136="znížená",J136,0) -> 0 | BG136: =IF(N136="zákl. prenesená",J136,0) -> 0 | BH136: =IF(N136="zníž. prenesená",J136,0) -> 0 | BI136: =IF(N136="nulová",J136,0) -> 0 | BJ136: 2 | BK136: =ROUND(I136*H136,2) -> 0 | BL136: 4 | BM136: 1104185543
C137: 4 | D137: K | E137: 342948112.S | F137: Ukotvenie priečok k murovaným konštrukciám priskrutkovaním | G137: m | H137: 15 | I137: 0 | J137: =ROUND(I137*H137,2) -> 0 | N137: znížená | P137: =O137*H137 -> 0 | Q137: 0.00046 | R137: =Q137*H137 -> 0.0069 | S137: 0 | T137: =S137*H137 -> 0 | AR137: 4 | AT137: K | AU137: 2 | AY137: ROZPOCET | BE137: =IF(N137="základná",J137,0) -> 0 | BF137: =IF(N137="znížená",J137,0) -> 0 | BG137: =IF(N137="zákl. prenesená",J137,0) -> 0 | BH137: =IF(N137="zníž. prenesená",J137,0) -> 0 | BI137: =IF(N137="nulová",J137,0) -> 0 | BJ137: 2 | BK137: =ROUND(I137*H137,2) -> 0 | BL137: 4 | BM137: -949301127
D138: D | E138: 6 | F138: Úpravy povrchov, podlahy, osadenie | J138: =BK138 -> 0 | P138: =SUM(P139:P152) -> 0 | R138: =SUM(R139:R152) -> 4.6931495 | T138: =SUM(T139:T152) -> 0 | AR138: 1 | AT138: D | AU138: 1 | AY138: ROZPOCET | BK138: =SUM(BK139:BK152) -> 0
C139: 5 | D139: K | E139: 610991111.S | F139: Zakrývanie výplní vnútorných okenných otvorov, predmetov a konštrukcií | G139: m2 | H139: 14.46 | I139: 0 | J139: =ROUND(I139*H139,2) -> 0 | N139: znížená | P139: =O139*H139 -> 0 | Q139: 0.00019 | R139: =Q139*H139 -> 0.0027474 | S139: 0 | T139: =S139*H139 -> 0 | AR139: 4 | AT139: K | AU139: 2 | AY139: ROZPOCET | BE139: =IF(N139="základná",J139,0) -> 0 | BF139: =IF(N139="znížená",J139,0) -> 0 | BG139: =IF(N139="zákl. prenesená",J139,0) -> 0 | BH139: =IF(N139="zníž. prenesená",J139,0) -> 0 | BI139: =IF(N139="nulová",J139,0) -> 0 | BJ139: 2 | BK139: =ROUND(I139*H139,2) -> 0 | BL139: 4 | BM139: 723765847
C140: 6 | D140: K | E140: 612403399.S | F140: Hrubá výplň rýh na stenách akoukoľvek maltou, akejkoľvek šírky ryhy | G140: m2 | H140: 11.129 | I140: 0 | J140: =ROUND(I140*H140,2) -> 0 | N140: znížená | P140: =O140*H140 -> 0 | Q140: 0.07552 | R140: =Q140*H140 -> 0.84046208 | S140: 0 | T140: =S140*H140 -> 0 | AR140: 4 | AT140: K | AU140: 2 | AY140: ROZPOCET | BE140: =IF(N140="základná",J140,0) -> 0 | BF140: =IF(N140="znížená",J140,0) -> 0 | BG140: =IF(N140="zákl. prenesená",J140,0) -> 0 | BH140: =IF(N140="zníž. prenesená",J140,0) -> 0 | BI140: =IF(N140="nulová",J140,0) -> 0 | BJ140: 2 | BK140: =ROUND(I140*H140,2) -> 0 | BL140: 4 | BM140: -1388420986
C141: 7 | D141: K | E141: 612460121.S | F141: Príprava vnútorného podkladu stien penetráciou základnou | G141: m2 | H141: 79.9 | I141: 0 | J141: =ROUND(I141*H141,2) -> 0 | N141: znížená | P141: =O141*H141 -> 0 | Q141: 0.00023 | R141: =Q141*H141 -> 0.018377 | S141: 0 | T141: =S141*H141 -> 0 | AR141: 4 | AT141: K | AU141: 2 | AY141: ROZPOCET | BE141: =IF(N141="základná",J141,0) -> 0 | BF141: =IF(N141="znížená",J141,0) -> 0 | BG141: =IF(N141="zákl. prenesená",J141,0) -> 0 | BH141: =IF(N141="zníž. prenesená",J141,0) -> 0 | BI141: =IF(N141="nulová",J141,0) -> 0 | BJ141: 2 | BK141: =ROUND(I141*H141,2) -> 0 | BL141: 4 | BM141: 536223349
C142: 8 | D142: K | E142: 612460151.S | F142: Príprava vnútorného podkladu stien cementovým prednástrekom, hr. 3 mm | G142: m2 | H142: 52.1 | I142: 0 | J142: =ROUND(I142*H142,2) -> 0 | N142: znížená | P142: =O142*H142 -> 0 | Q142: 0.00493 | R142: =Q142*H142 -> 0.256853 | S142: 0 | T142: =S142*H142 -> 0 | AR142: 16 | AT142: K | AU142: 2 | AY142: ROZPOCET | BE142: =IF(N142="základná",J142,0) -> 0 | BF142: =IF(N142="znížená",J142,0) -> 0 | BG142: =IF(N142="zákl. prenesená",J142,0) -> 0 | BH142: =IF(N142="zníž. prenesená",J142,0) -> 0 | BI142: =IF(N142="nulová",J142,0) -> 0 | BJ142: 2 | BK142: =ROUND(I142*H142,2) -> 0 | BL142: 16 | BM142: -428169488
C143: 9 | D143: K | E143: 612460243.S | F143: Vnútorná omietka stien vápennocementová jadrová (hrubá), hr. 20 mm | G143: m2 | H143: 52.1 | I143: 0 | J143: =ROUND(I143*H143,2) -> 0 | N143: znížená | P143: =O143*H143 -> 0 | Q143: 0.0315 | R143: =Q143*H143 -> 1.64115 | S143: 0 | T143: =S143*H143 -> 0 | AR143: 4 | AT143: K | AU143: 2 | AY143: ROZPOCET | BE143: =IF(N143="základná",J143,0) -> 0 | BF143: =IF(N143="znížená",J143,0) -> 0 | BG143: =IF(N143="zákl. prenesená",J143,0) -> 0 | BH143: =IF(N143="zníž. prenesená",J143,0) -> 0 | BI143: =IF(N143="nulová",J143,0) -> 0 | BJ143: 2 | BK143: =ROUND(I143*H143,2) -> 0 | BL143: 4 | BM143: 827583543
C144: 10 | D144: K | E144: 612460383.S | F144: Vnútorná omietka stien vápennocementová štuková (jemná), hr. 3 mm | G144: m2 | H144: 61.8 | I144: 0 | J144: =ROUND(I144*H144,2) -> 0 | N144: znížená | P144: =O144*H144 -> 0 | Q144: 0.00472 | R144: =Q144*H144 -> 0.291696 | S144: 0 | T144: =S144*H144 -> 0 | AR144: 4 | AT144: K | AU144: 2 | AY144: ROZPOCET | BE144: =IF(N144="základná",J144,0) -> 0 | BF144: =IF(N144="znížená",J144,0) -> 0 | BG144: =IF(N144="zákl. prenesená",J144,0) -> 0 | BH144: =IF(N144="zníž. prenesená",J144,0) -> 0 | BI144: =IF(N144="nulová",J144,0) -> 0 | BJ144: 2 | BK144: =ROUND(I144*H144,2) -> 0 | BL144: 4 | BM144: 826659343
C145: 11 | D145: K | E145: 612481011.S | F145: Priebežná omietková lišta (omietnik) z pozinkovaného plechu pre hrúbku omietky 6 mm | G145: m | H145: 12 | I145: 0 | J145: =ROUND(I145*H145,2) -> 0 | N145: znížená | P145: =O145*H145 -> 0 | Q145: 0.00177 | R145: =Q145*H145 -> 0.02124 | S145: 0 | T145: =S145*H145 -> 0 | AR145: 4 | AT145: K | AU145: 2 | AY145: ROZPOCET | BE145: =IF(N145="základná",J145,0) -> 0 | BF145: =IF(N145="znížená",J145,0) -> 0 | BG145: =IF(N145="zákl. prenesená",J145,0) -> 0 | BH145: =IF(N145="zníž. prenesená",J145,0) -> 0 | BI145: =IF(N145="nulová",J145,0) -> 0 | BJ145: 2 | BK145: =ROUND(I145*H145,2) -> 0 | BL145: 4 | BM145: 157066771
C146: 12 | D146: K | E146: 612481031.S | F146: Rohový profil z pozinkovaného plechu pre hrúbku omietky 8 až 12 mm | G146: m | H146: 69.4 | I146: 0 | J146: =ROUND(I146*H146,2) -> 0 | N146: znížená | P146: =O146*H146 -> 0 | Q146: 0.00191 | R146: =Q146*H146 -> 0.132554 | S146: 0 | T146: =S146*H146 -> 0 | AR146: 4 | AT146: K | AU146: 2 | AY146: ROZPOCET | BE146: =IF(N146="základná",J146,0) -> 0 | BF146: =IF(N146="znížená",J146,0) -> 0 | BG146: =IF(N146="zákl. prenesená",J146,0) -> 0 | BH146: =IF(N146="zníž. prenesená",J146,0) -> 0 | BI146: =IF(N146="nulová",J146,0) -> 0 | BJ146: 2 | BK146: =ROUND(I146*H146,2) -> 0 | BL146: 4 | BM146: 571321986
C147: 13 | D147: K | E147: 612481119.S | F147: Potiahnutie vnútorných stien sklotextilnou mriežkou s celoplošným prilepením | G147: m2 | H147: 92.1 | I147: 0 | J147: =ROUND(I147*H147,2) -> 0 | N147: znížená | P147: =O147*H147 -> 0 | Q147: 0.00515 | R147: =Q147*H147 -> 0.474315 | S147: 0 | T147: =S147*H147 -> 0 | AR147: 4 | AT147: K | AU147: 2 | AY147: ROZPOCET | BE147: =IF(N147="základná",J147,0) -> 0 | BF147: =IF(N147="znížená",J147,0) -> 0 | BG147: =IF(N147="zákl. prenesená",J147,0) -> 0 | BH147: =IF(N147="zníž. prenesená",J147,0) -> 0 | BI147: =IF(N147="nulová",J147,0) -> 0 | BJ147: 2 | BK147: =ROUND(I147*H147,2) -> 0 | BL147: 4 | BM147: 1120206502
C148: 14 | D148: K | E148: 622460121.S | F148: Príprava vonkajšieho podkladu stien penetráciou základnou | G148: m2 | H148: 0.36 | I148: 0 | J148: =ROUND(I148*H148,2) -> 0 | N148: znížená | P148: =O148*H148 -> 0 | Q148: 0.00023 | R148: =Q148*H148 -> 8.28e-05 | S148: 0 | T148: =S148*H148 -> 0 | AR148: 4 | AT148: K | AU148: 2 | AY148: ROZPOCET | BE148: =IF(N148="základná",J148,0) -> 0 | BF148: =IF(N148="znížená",J148,0) -> 0 | BG148: =IF(N148="zákl. prenesená",J148,0) -> 0 | BH148: =IF(N148="zníž. prenesená",J148,0) -> 0 | BI148: =IF(N148="nulová",J148,0) -> 0 | BJ148: 2 | BK148: =ROUND(I148*H148,2) -> 0 | BL148: 4 | BM148: -620550975
C149: 15 | D149: K | E149: 622460243.S | F149: Vonkajšia omietka stien vápennocementová jadrová (hrubá), hr. 20 mm | G149: m2 | H149: 0.36 | I149: 0 | J149: =ROUND(I149*H149,2) -> 0 | N149: znížená | P149: =O149*H149 -> 0 | Q149: 0.0315 | R149: =Q149*H149 -> 0.01134 | S149: 0 | T149: =S149*H149 -> 0 | AR149: 4 | AT149: K | AU149: 2 | AY149: ROZPOCET | BE149: =IF(N149="základná",J149,0) -> 0 | BF149: =IF(N149="znížená",J149,0) -> 0 | BG149: =IF(N149="zákl. prenesená",J149,0) -> 0 | BH149: =IF(N149="zníž. prenesená",J149,0) -> 0 | BI149: =IF(N149="nulová",J149,0) -> 0 | BJ149: 2 | BK149: =ROUND(I149*H149,2) -> 0 | BL149: 4 | BM149: 837797407
C150: 16 | D150: K | E150: 622461032.S | F150: Vonkajšia omietka stien pastovitá silikátová roztieraná, hr. 1,5 mm | G150: m2 | H150: 0.36 | I150: 0 | J150: =ROUND(I150*H150,2) -> 0 | N150: znížená | P150: =O150*H150 -> 0 | Q150: 0.0029 | R150: =Q150*H150 -> 0.001044 | S150: 0 | T150: =S150*H150 -> 0 | AR150: 4 | AT150: K | AU150: 2 | AY150: ROZPOCET | BE150: =IF(N150="základná",J150,0) -> 0 | BF150: =IF(N150="znížená",J150,0) -> 0 | BG150: =IF(N150="zákl. prenesená",J150,0) -> 0 | BH150: =IF(N150="zníž. prenesená",J150,0) -> 0 | BI150: =IF(N150="nulová",J150,0) -> 0 | BJ150: 2 | BK150: =ROUND(I150*H150,2) -> 0 | BL150: 4 | BM150: -552686669
... C152: 18 | D152: K | E152: 631312141.S | F152: Doplnenie existujúcich mazanín prostým betónom (s dodaním hmôt) bez poteru rýh v mazaninách | G152: m3 | H152: 0.477 | I152: 0 | J152: =ROUND(I152*H152,2) -> 0 | N152: znížená | P152: =O152*H152 -> 0 | Q152: 2.09525 | R152: =Q152*H152 -> 0.99943425 | S152: 0 | T152: =S152*H152 -> 0 | AR152: 4 | AT152: K | AU152: 2 | AY152: ROZPOCET | BE152: =IF(N152="základná",J152,0) -> 0 | BF152: =IF(N152="znížená",J152,0) -> 0 | BG152: =IF(N152="zákl. prenesená",J152,0) -> 0 | BH152: =IF(N152="zníž. prenesená",J152,0) -> 0 | BI152: =IF(N152="nulová",J152,0) -> 0 | BJ152: 2 | BK152: =ROUND(I152*H152,2) -> 0 | BL152: 4 | BM152: 213695174
D153: D | E153: 9 | F153: Ostatné konštrukcie a práce-búranie | J153: =BK153 -> 0 | P153: =SUM(P154:P159) -> 0 | R153: =SUM(R154:R159) -> 0.460133 | T153: =SUM(T154:T159) -> 0.08 | AR153: 1 | AT153: D | AU153: 1 | AY153: ROZPOCET | BK153: =SUM(BK154:BK159) -> 0
C154: 19 | D154: K | E154: 941941031.S | F154: Montáž lešenia ľahkého pracovného radového s podlahami šírky od 0,80 do 1,00 m, výšky do 10 m | G154: m2 | H154: 6 | I154: 0 | J154: =ROUND(I154*H154,2) -> 0 | N154: znížená | P154: =O154*H154 -> 0 | Q154: 0.02572 | R154: =Q154*H154 -> 0.15432 | S154: 0 | T154: =S154*H154 -> 0 | AR154: 4 | AT154: K | AU154: 2 | AY154: ROZPOCET | BE154: =IF(N154="základná",J154,0) -> 0 | BF154: =IF(N154="znížená",J154,0) -> 0 | BG154: =IF(N154="zákl. prenesená",J154,0) -> 0 | BH154: =IF(N154="zníž. prenesená",J154,0) -> 0 | BI154: =IF(N154="nulová",J154,0) -> 0 | BJ154: 2 | BK154: =ROUND(I154*H154,2) -> 0 | BL154: 4 | BM154: 1837752935
C155: 20 | D155: K | E155: 941941831.S | F155: Demontáž lešenia ľahkého pracovného radového s podlahami šírky nad 0,80 do 1,00 m, výšky do 10 m | G155: m2 | H155: 6 | I155: 0 | J155: =ROUND(I155*H155,2) -> 0 | N155: znížená | P155: =O155*H155 -> 0 | Q155: 0.02572 | R155: =Q155*H155 -> 0.15432 | S155: 0 | T155: =S155*H155 -> 0 | AR155: 4 | AT155: K | AU155: 2 | AY155: ROZPOCET | BE155: =IF(N155="základná",J155,0) -> 0 | BF155: =IF(N155="znížená",J155,0) -> 0 | BG155: =IF(N155="zákl. prenesená",J155,0) -> 0 | BH155: =IF(N155="zníž. prenesená",J155,0) -> 0 | BI155: =IF(N155="nulová",J155,0) -> 0 | BJ155: 2 | BK155: =ROUND(I155*H155,2) -> 0 | BL155: 4 | BM155: 1463624360
C156: 21 | D156: K | E156: 941955002.S | F156: Lešenie ľahké pracovné pomocné s výškou lešeňovej podlahy nad 1,20 do 1,90 m | G156: m2 | H156: 76.9 | I156: 0 | J156: =ROUND(I156*H156,2) -> 0 | N156: znížená | P156: =O156*H156 -> 0 | Q156: 0.00192 | R156: =Q156*H156 -> 0.147648 | S156: 0 | T156: =S156*H156 -> 0 | AR156: 4 | AT156: K | AU156: 2 | AY156: ROZPOCET | BE156: =IF(N156="základná",J156,0) -> 0 | BF156: =IF(N156="znížená",J156,0) -> 0 | BG156: =IF(N156="zákl. prenesená",J156,0) -> 0 | BH156: =IF(N156="zníž. prenesená",J156,0) -> 0 | BI156: =IF(N156="nulová",J156,0) -> 0 | BJ156: 2 | BK156: =ROUND(I156*H156,2) -> 0 | BL156: 4 | BM156: -1667133075
C157: 22 | D157: K | E157: 952901111.S | F157: Vyčistenie budov pri výške podlaží do 4 m | G157: m2 | H157: 76.9 | I157: 0 | J157: =ROUND(I157*H157,2) -> 0 | N157: znížená | P157: =O157*H157 -> 0 | Q157: 5e-05 | R157: =Q157*H157 -> 0.003845 | S157: 0 | T157: =S157*H157 -> 0 | AR157: 4 | AT157: K | AU157: 2 | AY157: ROZPOCET | BE157: =IF(N157="základná",J157,0) -> 0 | BF157: =IF(N157="znížená",J157,0) -> 0 | BG157: =IF(N157="zákl. prenesená",J157,0) -> 0 | BH157: =IF(N157="zníž. prenesená",J157,0) -> 0 | BI157: =IF(N157="nulová",J157,0) -> 0 | BJ157: 2 | BK157: =ROUND(I157*H157,2) -> 0 | BL157: 4 | BM157: 153541829
C158: 23 | D158: K | E158: 973031335.S | F158: Vysekanie kapsy z tehál plochy do 0,25 m2, hl. do 300 mm, -0,08000t | G158: ks | H158: 1 | I158: 0 | J158: =ROUND(I158*H158,2) -> 0 | N158: znížená | P158: =O158*H158 -> 0 | Q158: 0 | R158: =Q158*H158 -> 0 | S158: 0.08 | T158: =S158*H158 -> 0.08 | AR158: 4 | AT158: K | AU158: 2 | AY158: ROZPOCET | BE158: =IF(N158="základná",J158,0) -> 0 | BF158: =IF(N158="znížená",J158,0) -> 0 | BG158: =IF(N158="zákl. prenesená",J158,0) -> 0 | BH158: =IF(N158="zníž. prenesená",J158,0) -> 0 | BI158: =IF(N158="nulová",J158,0) -> 0 | BJ158: 2 | BK158: =ROUND(I158*H158,2) -> 0 | BL158: 4 | BM158: -7994324
C159: 24 | D159: K | E159: 989281341.S | F159: Vodorovné premiestnenie ručne fúrikom - betónovej zmesi vzdialenosti do 10 m, s naložením a vyklopením | G159: m3 | H159: 0.477 | I159: 0 | J159: =ROUND(I159*H159,2) -> 0 | N159: znížená | P159: =O159*H159 -> 0 | Q159: 0 | R159: =Q159*H159 -> 0 | S159: 0 | T159: =S159*H159 -> 0 | AR159: 4 | AT159: K | AU159: 2 | AY159: ROZPOCET | BE159: =IF(N159="základná",J159,0) -> 0 | BF159: =IF(N159="znížená",J159,0) -> 0 | BG159: =IF(N159="zákl. prenesená",J159,0) -> 0 | BH159: =IF(N159="zníž. prenesená",J159,0) -> 0 | BI159: =IF(N159="nulová",J159,0) -> 0 | BJ159: 2 | BK159: =ROUND(I159*H159,2) -> 0 | BL159: 4 | BM159: -1177356925
D160: D | E160: 99 | F160: Presun hmôt HSV | J160: =BK160 -> 0 | P160: =P161 -> 0 | R160: =R161 -> 0 | T160: =T161 -> 0 | AR160: 1 | AT160: D | AU160: 1 | AY160: ROZPOCET | BK160: =BK161 -> 0
C161: 25 | D161: K | E161: 999281111.S | F161: Presun hmôt pre opravy a údržbu objektov vrátane vonkajších plášťov výšky do 25 m | G161: t | H161: 9.907 | I161: 0 | J161: =ROUND(I161*H161,2) -> 0 | N161: znížená | P161: =O161*H161 -> 0 | Q161: 0 | R161: =Q161*H161 -> 0 | S161: 0 | T161: =S161*H161 -> 0 | AR161: 4 | AT161: K | AU161: 2 | AY161: ROZPOCET | BE161: =IF(N161="základná",J161,0) -> 0 | BF161: =IF(N161="znížená",J161,0) -> 0 | BG161: =IF(N161="zákl. prenesená",J161,0) -> 0 | BH161: =IF(N161="zníž. prenesená",J161,0) -> 0 | BI161: =IF(N161="nulová",J161,0) -> 0 | BJ161: 2 | BK161: =ROUND(I161*H161,2) -> 0 | BL161: 4 | BM161: 2052175407
D162: D | E162: PSV | F162: Práce a dodávky PSV | J162: =BK162 -> 0 | P162: =P163+P171+P175+P179+P182+P196+P201+P205+P207 -> 0 | R162: =R163+R171+R175+R179+R182+R196+R201+R205+R207 -> 3.8473745 | T162: =T163+T171+T175+T179+T182+T196+T201+T205+T207 -> 0 | AR162: 2 | AT162: D | AU162: 0 | AY162: ROZPOCET | BK162: =BK163+BK171+BK175+BK179+BK182+BK196+BK201+BK205+BK207 -> 0
D163: D | E163: 711 | F163: Izolácie proti vode a vlhkosti | J163: =BK163 -> 0 | P163: =SUM(P164:P170) -> 0 | R163: =SUM(R164:R170) -> 0.016006 | T163: =SUM(T164:T170) -> 0 | AR163: 2 | AT163: D | AU163: 1 | AY163: ROZPOCET | BK163: =SUM(BK164:BK170) -> 0
C164: 26 | D164: K | E164: 711471051.S | F164: Zhotovenie izolácie proti tlakovej vode PVC fóliou položenou voľne na vodorovnej ploche so zvarením spoju | G164: m2 | H164: 5.3 | I164: 0 | J164: =ROUND(I164*H164,2) -> 0 | N164: znížená | P164: =O164*H164 -> 0 | Q164: 3e-05 | R164: =Q164*H164 -> 0.000159 | S164: 0 | T164: =S164*H164 -> 0 | AR164: 16 | AT164: K | AU164: 2 | AY164: ROZPOCET | BE164: =IF(N164="základná",J164,0) -> 0 | BF164: =IF(N164="znížená",J164,0) -> 0 | BG164: =IF(N164="zákl. prenesená",J164,0) -> 0 | BH164: =IF(N164="zníž. prenesená",J164,0) -> 0 | BI164: =IF(N164="nulová",J164,0) -> 0 | BJ164: 2 | BK164: =ROUND(I164*H164,2) -> 0 | BL164: 16 | BM164: 667665056
C165: 27 | D165: M | E165: 283220000300.S | F165: Hydroizolačná fólia PVC-P, hr. 1,5 mm, š. 1,3 m, izolácia základov proti zemnej vlhkosti, tlakovej vode, radónu | G165: m2 | H165: 6.095 | I165: 0 | J165: =ROUND(I165*H165,2) -> 0 | N165: znížená | P165: =O165*H165 -> 0 | Q165: 0.002 | R165: =Q165*H165 -> 0.01219 | S165: 0 | T165: =S165*H165 -> 0 | AR165: 32 | AT165: M | AU165: 2 | AY165: ROZPOCET | BE165: =IF(N165="základná",J165,0) -> 0 | BF165: =IF(N165="znížená",J165,0) -> 0 | BG165: =IF(N165="zákl. prenesená",J165,0) -> 0 | BH165: =IF(N165="zníž. prenesená",J165,0) -> 0 | BI165: =IF(N165="nulová",J165,0) -> 0 | BJ165: 2 | BK165: =ROUND(I165*H165,2) -> 0 | BL165: 16 | BM165: -219717846
C166: 28 | D166: K | E166: 711491171.S | F166: Zhotovenie podkladnej vrstvy izolácie z textílie na ploche vodorovnej, pre izolácie proti zemnej vlhkosti, podpovrchovej a tlakovej vode | G166: m2 | H166: 5.3 | I166: 0 | J166: =ROUND(I166*H166,2) -> 0 | N166: znížená | P166: =O166*H166 -> 0 | Q166: 0 | R166: =Q166*H166 -> 0 | S166: 0 | T166: =S166*H166 -> 0 | AR166: 16 | AT166: K | AU166: 2 | AY166: ROZPOCET | BE166: =IF(N166="základná",J166,0) -> 0 | BF166: =IF(N166="znížená",J166,0) -> 0 | BG166: =IF(N166="zákl. prenesená",J166,0) -> 0 | BH166: =IF(N166="zníž. prenesená",J166,0) -> 0 | BI166: =IF(N166="nulová",J166,0) -> 0 | BJ166: 2 | BK166: =ROUND(I166*H166,2) -> 0 | BL166: 16 | BM166: 835340168
C167: 29 | D167: M | E167: 693110004500.S | F167: Geotextília polypropylénová netkaná 300 g/m2 | G167: m2 | H167: 6.095 | I167: 0 | J167: =ROUND(I167*H167,2) -> 0 | N167: znížená | P167: =O167*H167 -> 0 | Q167: 0.0003 | R167: =Q167*H167 -> 0.0018285 | S167: 0 | T167: =S167*H167 -> 0 | AR167: 32 | AT167: M | AU167: 2 | AY167: ROZPOCET | BE167: =IF(N167="základná",J167,0) -> 0 | BF167: =IF(N167="znížená",J167,0) -> 0 | BG167: =IF(N167="zákl. prenesená",J167,0) -> 0 | BH167: =IF(N167="zníž. prenesená",J167,0) -> 0 | BI167: =IF(N167="nulová",J167,0) -> 0 | BJ167: 2 | BK167: =ROUND(I167*H167,2) -> 0 | BL167: 16 | BM167: 131317664
...

Sheet 03 - Zdravotechnika
L2: >> skryté stĺpce << | AT2: {3e081740-a079-4706-95e7-59257451221c}
AT3: 0
D4: KRYCÍ LIST ROZPOČTU | M4: v --- nižšie sa nachádzajú doplnkové a pomocné údaje k zostavám --- v | AT4: False
D6: Stavba:
E7: ='Rekapitulácia stavby'!K6 -> REKONŠTRUKCIA HYGIENICKÝCH ZARIADENÍ KD
D8: Objekt:
E9: 03 - Zdravotechnika
D11: JKSO: | I11: KS:
D12: Miesto: | F12: kat. úz. Davidov | I12: Dátum: | J12: ='Rekapitulácia stavby'!AN8 -> 3. 2. 2023
D14: Objednávateľ: | I14: IČO:
E15: Obec Davidov | I15: IČ DPH:
D17: Zhotoviteľ: | I17: IČO: | J17: ='Rekapitulácia stavby'!AN13 -> 0
E18: ='Rekapitulácia stavby'!E14 -> 0 | I18: IČ DPH: | J18: ='Rekapitulácia stavby'!AN14 -> 0
D20: Projektant: | I20: IČO: | J20: 44547838
E21: ateliér-m spol. s r.o. | I21: IČ DPH: | J21: SK2022735572
D23: Spracovateľ: | I23: IČO:
E24: Ing. Daniel Janok | I24: IČ DPH:
D26: Poznámka:
D30: Cena bez DPH | J30: =ROUND(J126, 2) -> 0
F32: Základ dane | I32: Sadzba dane | J32: Výška dane
D33: DPH | E33: základná | F33: =ROUND((SUM(BE126:BE176)), 2) -> 0 | I33: 0.2 | J33: =ROUND(((SUM(BE126:BE176))*I33), 2) -> 0
E34: znížená | F34: =ROUND((SUM(BF126:BF176)), 2) -> 0 | I34: 0.2 | J34: =ROUND(((SUM(BF126:BF176))*I34), 2) -> 0
E35: zákl. prenesená | F35: =ROUND((SUM(BG126:BG176)), 2) -> 0 | I35: 0.2 | J35: =0 -> 0
E36: zníž. prenesená | F36: =ROUND((SUM(BH126:BH176)), 2) -> 0 | I36: 0.2 | J36: =0 -> 0
E37: nulová | F37: =ROUND((SUM(BI126:BI176)), 2) -> 0 | I37: 0 | J37: =0 -> 0
D39: Cena s DPH | G39: v | H39: EUR | J39: =SUM(J30:J37) -> 0
D50: Projektant | G50: Spracovateľ
D61: Dátum a podpis: | F61: Pečiatka | G61: Dátum a podpis: | J61: Pečiatka
D65: Objednávateľ | G65: Zhotoviteľ
D76: Dátum a podpis: | F76: Pečiatka | G76: Dátum a podpis: | J76: Pečiatka
C82: REKAPITULÁCIA ROZPOČTU
C84: Stavba:
E85: =E7 -> REKONŠTRUKCIA HYGIENICKÝCH ZARIADENÍ KD
C86: Objekt:
E87: =E9 -> 03 - Zdravotechnika
C89: Miesto: | F89: =F12 -> kat. úz. Davidov | I89: Dátum: | J89: =IF(J12="","",J12) -> 3. 2. 2023
C91: Objednávateľ: | F91: =E15 -> Obec Davidov | I91: Projektant: | J91: =E21 -> ateliér-m spol. s r.o.
C92: Zhotoviteľ: | F92: =IF(E18="","",E18) -> 0 | I92: Spracovateľ: | J92: =E24 -> Ing. Daniel Janok
C94: Kód dielu - Popis | J94: Cena celkom [EUR]
C96: Náklady z rozpočtu | J96: =J126 -> 0 | AU96: -1
D97: HSV - Práce a dodávky HSV | J97: =J127 -> 0
D98: 1 - Zemné práce | J98: =J128 -> 0
D99: 4 - Vodorovné konštrukcie | J99: =J130 -> 0
D100: 9 - Ostatné konštrukcie a práce-búranie | J100: =J132 -> 0
D101: 99 - Presun hmôt HSV | J101: =J138 -> 0
D102: PSV - Práce a dodávky PSV | J102: =J140 -> 0
D103: 713 - Izolácie tepelné | J103: =J141 -> 0
D104: 721 - Zdravotechnika - vnútorná kanalizácia | J104: =J145 -> 0
D105: 722 - Zdravotechnika - vnútorný vodovod | J105: =J150 -> 0
D106: 725 - Zdravotechnika - zariaďovacie predmety | J106: =J160 -> 0
C113: ROZPOČET
C115: Stavba:
E116: =E7 -> REKONŠTRUKCIA HYGIENICKÝCH ZARIADENÍ KD
C117: Objekt:
E118: =E9 -> 03 - Zdravotechnika
C120: Miesto: | F120: =F12 -> kat. úz. Davidov | I120: Dátum:3.2.2023
C122: Objednávateľ: | F122: =E15 -> Obec Davidov | I122: Projektant: | J122: =E21 -> ateliér-m spol. s r.o.
C123: Zhotoviteľ: | I123: Spracovateľ:
C125: PČ | D125: Typ | E125: Kód | F125: Popis | G125: MJ | H125: Množstvo | I125: J.cena [EUR] | J125: Cena celkom [EUR] | K125: Cenová sústava | N125: DPH | O125: J. Nh [h] | P125: Nh celkom [h] | Q125: J. hmotnosť [t] | R125: Hmotnosť celkom [t] | S125: J. suť [t] | T125: Suť Celkom [t]
C126: Náklady z rozpočtu | J126: =BK126 -> 0 | P126: =P127+P140 -> 0 | R126: =R127+R140 -> 2.6616342 | T126: =T127+T140 -> 0.1908 | AT126: D | AU126: -1 | BK126: =BK127+BK140 -> 0
D127: D | E127: HSV | F127: Práce a dodávky HSV | J127: =BK127 -> 0 | P127: =P128+P130+P132+P138 -> 0 | R127: =R128+R130+R132+R138 -> 2.4050594 | T127: =T128+T130+T132+T138 -> 0.1908 | AR127: 1 | AT127: D | AU127: 0 | AY127: ROZPOCET | BK127: =BK128+BK130+BK132+BK138 -> 0
D128: D | E128: 1 | F128: Zemné práce | J128: =BK128 -> 0 | P128: =P129 -> 0 | R128: =R129 -> 0 | T128: =T129 -> 0 | AR128: 1 | AT128: D | AU128: 1 | AY128: ROZPOCET | BK128: =BK129 -> 0
C129: 1 | D129: K | E129: 132211101.S | F129: Hĺbenie rýh šírky do 600 mm v hornine tr.3 súdržných - ručným náradím | G129: m3 | H129: 1.272 | I129: 0 | J129: =ROUND(I129*H129,2) -> 0 | N129: znížená | P129: =O129*H129 -> 0 | Q129: 0 | R129: =Q129*H129 -> 0 | S129: 0 | T129: =S129*H129 -> 0 | AR129: 4 | AT129: K | AU129: 2 | AY129: ROZPOCET | BE129: =IF(N129="základná",J129,0) -> 0 | BF129: =IF(N129="znížená",J129,0) -> 0 | BG129: =IF(N129="zákl. prenesená",J129,0) -> 0 | BH129: =IF(N129="zníž. prenesená",J129,0) -> 0 | BI129: =IF(N129="nulová",J129,0) -> 0 | BJ129: 2 | BK129: =ROUND(I129*H129,2) -> 0 | BL129: 4 | BM129: -1356302760
D130: D | E130: 4 | F130: Vodorovné konštrukcie | J130: =BK130 -> 0 | P130: =P131 -> 0 | R130: =R131 -> 2.4050594 | T130: =T131 -> 0 | AR130: 1 | AT130: D | AU130: 1 | AY130: ROZPOCET | BK130: =BK131 -> 0
C131: 2 | D131: K | E131: 451572111.S | F131: Lôžko pod potrubie, stoky a drobné objekty, v otvorenom výkope z kameniva drobného ťaženého 0-4 mm | G131: m3 | H131: 1.272 | I131: 0 | J131: =ROUND(I131*H131,2) -> 0 | N131: znížená | P131: =O131*H131 -> 0 | Q131: 1.89077 | R131: =Q131*H131 -> 2.4050594 | S131: 0 | T131: =S131*H131 -> 0 | AR131: 4 | AT131: K | AU131: 2 | AY131: ROZPOCET | BE131: =IF(N131="základná",J131,0) -> 0 | BF131: =IF(N131="znížená",J131,0) -> 0 | BG131: =IF(N131="zákl. prenesená",J131,0) -> 0 | BH131: =IF(N131="zníž. prenesená",J131,0) -> 0 | BI131: =IF(N131="nulová",J131,0) -> 0 | BJ131: 2 | BK131: =ROUND(I131*H131,2) -> 0 | BL131: 4 | BM131: 178647242
D132: D | E132: 9 | F132: Ostatné konštrukcie a práce-búranie | J132: =BK132 -> 0 | P132: =SUM(P133:P137) -> 0 | R132: =SUM(R133:R137) -> 0 | T132: =SUM(T133:T137) -> 0.1908 | AR132: 1 | AT132: D | AU132: 1 | AY132: ROZPOCET | BK132: =SUM(BK133:BK137) -> 0
C133: 3 | D133: K | E133: 974031153.S | F133: Vysekávanie rýh v akomkoľvek murive tehlovom na akúkoľvek maltu do hĺbky 100 mm a š. do 100 mm, -0,01800t | G133: m | H133: 10.6 | I133: 0 | J133: =ROUND(I133*H133,2) -> 0 | N133: znížená | P133: =O133*H133 -> 0 | Q133: 0 | R133: =Q133*H133 -> 0 | S133: 0.018 | T133: =S133*H133 -> 0.1908 | AR133: 4 | AT133: K | AU133: 2 | AY133: ROZPOCET | BE133: =IF(N133="základná",J133,0) -> 0 | BF133: =IF(N133="znížená",J133,0) -> 0 | BG133: =IF(N133="zákl. prenesená",J133,0) -> 0 | BH133: =IF(N133="zníž. prenesená",J133,0) -> 0 | BI133: =IF(N133="nulová",J133,0) -> 0 | BJ133: 2 | BK133: =ROUND(I133*H133,2) -> 0 | BL133: 4 | BM133: 1265452263
C134: 4 | D134: K | E134: 979081111.S | F134: Odvoz sutiny a vybúraných hmôt na skládku do 1 km | G134: t | H134: 0.191 | I134: 0 | J134: =ROUND(I134*H134,2) -> 0 | N134: znížená | P134: =O134*H134 -> 0 | Q134: 0 | R134: =Q134*H134 -> 0 | S134: 0 | T134: =S134*H134 -> 0 | AR134: 4 | AT134: K | AU134: 2 | AY134: ROZPOCET | BE134: =IF(N134="základná",J134,0) -> 0 | BF134: =IF(N134="znížená",J134,0) -> 0 | BG134: =IF(N134="zákl. prenesená",J134,0) -> 0 | BH134: =IF(N134="zníž. prenesená",J134,0) -> 0 | BI134: =IF(N134="nulová",J134,0) -> 0 | BJ134: 2 | BK134: =ROUND(I134*H134,2) -> 0 | BL134: 4 | BM134: 301369784
C135: 5 | D135: K | E135: 979081121.S | F135: Odvoz sutiny a vybúraných hmôt na skládku za každý ďalší 1 km | G135: t | H135: 3.82 | I135: 0 | J135: =ROUND(I135*H135,2) -> 0 | N135: znížená | P135: =O135*H135 -> 0 | Q135: 0 | R135: =Q135*H135 -> 0 | S135: 0 | T135: =S135*H135 -> 0 | AR135: 4 | AT135: K | AU135: 2 | AY135: ROZPOCET | BE135: =IF(N135="základná",J135,0) -> 0 | BF135: =IF(N135="znížená",J135,0) -> 0 | BG135: =IF(N135="zákl. prenesená",J135,0) -> 0 | BH135: =IF(N135="zníž. prenesená",J135,0) -> 0 | BI135: =IF(N135="nulová",J135,0) -> 0 | BJ135: 2 | BK135: =ROUND(I135*H135,2) -> 0 | BL135: 4 | BM135: -332993962
C136: 6 | D136: K | E136: 979082111.S | F136: Vnútrostavenisková doprava sutiny a vybúraných hmôt do 10 m | G136: t | H136: 0.191 | I136: 0 | J136: =ROUND(I136*H136,2) -> 0 | N136: znížená | P136: =O136*H136 -> 0 | Q136: 0 | R136: =Q136*H136 -> 0 | S136: 0 | T136: =S136*H136 -> 0 | AR136: 4 | AT136: K | AU136: 2 | AY136: ROZPOCET | BE136: =IF(N136="základná",J136,0) -> 0 | BF136: =IF(N136="znížená",J136,0) -> 0 | BG136: =IF(N136="zákl. prenesená",J136,0) -> 0 | BH136: =IF(N136="zníž. prenesená",J136,0) -> 0 | BI136: =IF(N136="nulová",J136,0) -> 0 | BJ136: 2 | BK136: =ROUND(I136*H136,2) -> 0 | BL136: 4 | BM136: 1452739858
C137: 7 | D137: K | E137: 979089612.S | F137: Poplatok za skladovanie - iné odpady zo stavieb a demolácií (17 09), ostatné | G137: t | H137: 0.191 | I137: 0 | J137: =ROUND(I137*H137,2) -> 0 | N137: znížená | P137: =O137*H137 -> 0 | Q137: 0 | R137: =Q137*H137 -> 0 | S137: 0 | T137: =S137*H137 -> 0 | AR137: 4 | AT137: K | AU137: 2 | AY137: ROZPOCET | BE137: =IF(N137="základná",J137,0) -> 0 | BF137: =IF(N137="znížená",J137,0) -> 0 | BG137: =IF(N137="zákl. prenesená",J137,0) -> 0 | BH137: =IF(N137="zníž. prenesená",J137,0) -> 0 | BI137: =IF(N137="nulová",J137,0) -> 0 | BJ137: 2 | BK137: =ROUND(I137*H137,2) -> 0 | BL137: 4 | BM137: -649524740
D138: D | E138: 99 | F138: Presun hmôt HSV | J138: =BK138 -> 0 | P138: =P139 -> 0 | R138: =R139 -> 0 | T138: =T139 -> 0 | AR138: 1 | AT138: D | AU138: 1 | AY138: ROZPOCET | BK138: =BK139 -> 0
C139: 8 | D139: K | E139: 999281111.S | F139: Presun hmôt pre opravy a údržbu objektov vrátane vonkajších plášťov výšky do 25 m | G139: t | H139: 2.405 | I139: 0 | J139: =ROUND(I139*H139,2) -> 0 | N139: znížená | P139: =O139*H139 -> 0 | Q139: 0 | R139: =Q139*H139 -> 0 | S139: 0 | T139: =S139*H139 -> 0 | AR139: 4 | AT139: K | AU139: 2 | AY139: ROZPOCET | BE139: =IF(N139="základná",J139,0) -> 0 | BF139: =IF(N139="znížená",J139,0) -> 0 | BG139: =IF(N139="zákl. prenesená",J139,0) -> 0 | BH139: =IF(N139="zníž. prenesená",J139,0) -> 0 | BI139: =IF(N139="nulová",J139,0) -> 0 | BJ139: 2 | BK139: =ROUND(I139*H139,2) -> 0 | BL139: 4 | BM139: -1903204353
D140: D | E140: PSV | F140: Práce a dodávky PSV | J140: =BK140 -> 0 | P140: =P141+P145+P150+P160 -> 0 | R140: =R141+R145+R150+R160 -> 0.25657472 | T140: =T141+T145+T150+T160 -> 0 | AR140: 2 | AT140: D | AU140: 0 | AY140: ROZPOCET | BK140: =BK141+BK145+BK150+BK160 -> 0
D141: D | E141: 713 | F141: Izolácie tepelné | J141: =BK141 -> 0 | P141: =SUM(P142:P144) -> 0 | R141: =SUM(R142:R144) -> 0.00101472 | T141: =SUM(T142:T144) -> 0 | AR141: 2 | AT141: D | AU141: 1 | AY141: ROZPOCET | BK141: =SUM(BK142:BK144) -> 0
C142: 9 | D142: K | E142: 713482121.S | F142: Montáž trubíc z PE, hr.15-20 mm,vnút.priemer do 38 mm | G142: m | H142: 33.6 | I142: 0 | J142: =ROUND(I142*H142,2) -> 0 | N142: znížená | P142: =O142*H142 -> 0 | Q142: 2e-05 | R142: =Q142*H142 -> 0.000672 | S142: 0 | T142: =S142*H142 -> 0 | AR142: 16 | AT142: K | AU142: 2 | AY142: ROZPOCET | BE142: =IF(N142="základná",J142,0) -> 0 | BF142: =IF(N142="znížená",J142,0) -> 0 | BG142: =IF(N142="zákl. prenesená",J142,0) -> 0 | BH142: =IF(N142="zníž. prenesená",J142,0) -> 0 | BI142: =IF(N142="nulová",J142,0) -> 0 | BJ142: 2 | BK142: =ROUND(I142*H142,2) -> 0 | BL142: 16 | BM142: -929276581
C143: 10 | D143: M | E143: 283310004700.R | F143: Izolačná PE trubica, nadrezaná, na izolovanie rozvodov vody, kúrenia, zdravotechniky | G143: m | H143: 34.272 | I143: 0 | J143: =ROUND(I143*H143,2) -> 0 | N143: znížená | P143: =O143*H143 -> 0 | Q143: 1e-05 | R143: =Q143*H143 -> 0.00034272 | S143: 0 | T143: =S143*H143 -> 0 | AR143: 32 | AT143: M | AU143: 2 | AY143: ROZPOCET | BE143: =IF(N143="základná",J143,0) -> 0 | BF143: =IF(N143="znížená",J143,0) -> 0 | BG143: =IF(N143="zákl. prenesená",J143,0) -> 0 | BH143: =IF(N143="zníž. prenesená",J143,0) -> 0 | BI143: =IF(N143="nulová",J143,0) -> 0 | BJ143: 2 | BK143: =ROUND(I143*H143,2) -> 0 | BL143: 16 | BM143: -672542586
C144: 11 | D144: K | E144: 998713201.S | F144: Presun hmôt pre izolácie tepelné v objektoch výšky do 6 m | G144: % | H144: 1.9 | I144: 0 | J144: =ROUND(I144*H144,2) -> 0 | N144: znížená | P144: =O144*H144 -> 0 | Q144: 0 | R144: =Q144*H144 -> 0 | S144: 0 | T144: =S144*H144 -> 0 | AR144: 16 | AT144: K | AU144: 2 | AY144: ROZPOCET | BE144: =IF(N144="základná",J144,0) -> 0 | BF144: =IF(N144="znížená",J144,0) -> 0 | BG144: =IF(N144="zákl. prenesená",J144,0) -> 0 | BH144: =IF(N144="zníž. prenesená",J144,0) -> 0 | BI144: =IF(N144="nulová",J144,0) -> 0 | BJ144: 2 | BK144: =ROUND(I144*H144,2) -> 0 | BL144: 16 | BM144: 678213714
D145: D | E145: 721 | F145: Zdravotechnika - vnútorná kanalizácia | J145: =BK145 -> 0 | P145: =SUM(P146:P149) -> 0 | R145: =SUM(R146:R149) -> 0.025536 | T145: =SUM(T146:T149) -> 0 | AR145: 2 | AT145: D | AU145: 1 | AY145: ROZPOCET | BK145: =SUM(BK146:BK149) -> 0
C146: 12 | D146: K | E146: 721171109.S | F146: Potrubie z PVC - U odpadové ležaté hrdlové D 110 mm | G146: m | H146: 9.6 | I146: 0 | J146: =ROUND(I146*H146,2) -> 0 | N146: znížená | P146: =O146*H146 -> 0 | Q146: 0.00176 | R146: =Q146*H146 -> 0.016896 | S146: 0 | T146: =S146*H146 -> 0 | AR146: 16 | AT146: K | AU146: 2 | AY146: ROZPOCET | BE146: =IF(N146="základná",J146,0) -> 0 | BF146: =IF(N146="znížená",J146,0) -> 0 | BG146: =IF(N146="zákl. prenesená",J146,0) -> 0 | BH146: =IF(N146="zníž. prenesená",J146,0) -> 0 | BI146: =IF(N146="nulová",J146,0) -> 0 | BJ146: 2 | BK146: =ROUND(I146*H146,2) -> 0 | BL146: 16 | BM146: 1537994585
C147: 13 | D147: K | E147: 721173205.S | F147: Potrubie z PVC - U odpadné pripájacie D 50 mm | G147: m | H147: 13.5 | I147: 0 | J147: =ROUND(I147*H147,2) -> 0 | N147: znížená | P147: =O147*H147 -> 0 | Q147: 0.00064 | R147: =Q147*H147 -> 0.00864 | S147: 0 | T147: =S147*H147 -> 0 | AR147: 16 | AT147: K | AU147: 2 | AY147: ROZPOCET | BE147: =IF(N147="základná",J147,0) -> 0 | BF147: =IF(N147="znížená",J147,0) -> 0 | BG147: =IF(N147="zákl. prenesená",J147,0) -> 0 | BH147: =IF(N147="zníž. prenesená",J147,0) -> 0 | BI147: =IF(N147="nulová",J147,0) -> 0 | BJ147: 2 | BK147: =ROUND(I147*H147,2) -> 0 | BL147: 16 | BM147: -19599830
C148: 14 | D148: K | E148: 721290111.S | F148: Ostatné - skúška tesnosti kanalizácie v objektoch vodou do DN 125 | G148: m | H148: 23.1 | I148: 0 | J148: =ROUND(I148*H148,2) -> 0 | N148: znížená | P148: =O148*H148 -> 0 | Q148: 0 | R148: =Q148*H148 -> 0 | S148: 0 | T148: =S148*H148 -> 0 | AR148: 16 | AT148: K | AU148: 2 | AY148: ROZPOCET | BE148: =IF(N148="základná",J148,0) -> 0 | BF148: =IF(N148="znížená",J148,0) -> 0 | BG148: =IF(N148="zákl. prenesená",J148,0) -> 0 | BH148: =IF(N148="zníž. prenesená",J148,0) -> 0 | BI148: =IF(N148="nulová",J148,0) -> 0 | BJ148: 2 | BK148: =ROUND(I148*H148,2) -> 0 | BL148: 16 | BM148: 1443159826
C149: 15 | D149: K | E149: 998721201.S | F149: Presun hmôt pre vnútornú kanalizáciu v objektoch výšky do 6 m | G149: % | H149: 0 | I149: 0 | J149: =ROUND(I149*H149,2) -> 0 | N149: znížená | P149: =O149*H149 -> 0 | Q149: 0 | R149: =Q149*H149 -> 0 | S149: 0 | T149: =S149*H149 -> 0 | AR149: 16 | AT149: K | AU149: 2 | AY149: ROZPOCET | BE149: =IF(N149="základná",J149,0) -> 0 | BF149: =IF(N149="znížená",J149,0) -> 0 | BG149: =IF(N149="zákl. prenesená",J149,0) -> 0 | BH149: =IF(N149="zníž. prenesená",J149,0) -> 0 | BI149: =IF(N149="nulová",J149,0) -> 0 | BJ149: 2 | BK149: =ROUND(I149*H149,2) -> 0 | BL149: 16 | BM149: 544284800
D150: D | E150: 722 | F150: Zdravotechnika - vnútorný vodovod | J150: =BK150 -> 0 | P150: =SUM(P151:P159) -> 0 | R150: =SUM(R151:R159) -> 0.020704 | T150: =SUM(T151:T159) -> 0 | AR150: 2 | AT150: D | AU150: 1 | AY150: ROZPOCET | BK150: =SUM(BK151:BK159) -> 0
C151: 16 | D151: K | E151: 722172100.S | F151: Potrubie z plastických rúr PP-R D 20 mm - PN10, polyfúznym zváraním | G151: m | H151: 20.6 | I151: 0 | J151: =ROUND(I151*H151,2) -> 0 | N151: znížená | P151: =O151*H151 -> 0 | Q151: 0.00014 | R151: =Q151*H151 -> 0.002884 | S151: 0 | T151: =S151*H151 -> 0 | AR151: 16 | AT151: K | AU151: 2 | AY151: ROZPOCET | BE151: =IF(N151="základná",J151,0) -> 0 | BF151: =IF(N151="znížená",J151,0) -> 0 | BG151: =IF(N151="zákl. prenesená",J151,0) -> 0 | BH151: =IF(N151="zníž. prenesená",J151,0) -> 0 | BI151: =IF(N151="nulová",J151,0) -> 0 | BJ151: 2 | BK151: =ROUND(I151*H151,2) -> 0 | BL151: 16 | BM151: -528044666
C152: 17 | D152: K | E152: 722172101.S | F152: Potrubie z plastických rúr PP-R D 25 mm - PN10, polyfúznym zváraním | G152: m | H152: 13 | I152: 0 | J152: =ROUND(I152*H152,2) -> 0 | N152: znížená | P152: =O152*H152 -> 0 | Q152: 0.00024 | R152: =Q152*H152 -> 0.00312 | S152: 0 | T152: =S152*H152 -> 0 | AR152: 16 | AT152: K | AU152: 2 | AY152: ROZPOCET | BE152: =IF(N152="základná",J152,0) -> 0 | BF152: =IF(N152="znížená",J152,0) -> 0 | BG152: =IF(N152="zákl. prenesená",J152,0) -> 0 | BH152: =IF(N152="zníž. prenesená",J152,0) -> 0 | BI152: =IF(N152="nulová",J152,0) -> 0 | BJ152: 2 | BK152: =ROUND(I152*H152,2) -> 0 | BL152: 16 | BM152: -1157383191
C153: 18 | D153: K | E153: 722172775.S | F153: Montáž nástenky PP-R pre vodu DN 20 | G153: ks | H153: 10 | I153: 0 | J153: =ROUND(I153*H153,2) -> 0 | N153: znížená | P153: =O153*H153 -> 0 | Q153: 2e-05 | R153: =Q153*H153 -> 0.0002 | S153: 0 | T153: =S153*H153 -> 0 | AR153: 16 | AT153: K | AU153: 2 | AY153: ROZPOCET | BE153: =IF(N153="základná",J153,0) -> 0 | BF153: =IF(N153="znížená",J153,0) -> 0 | BG153: =IF(N153="zákl. prenesená",J153,0) -> 0 | BH153: =IF(N153="zníž. prenesená",J153,0) -> 0 | BI153: =IF(N153="nulová",J153,0) -> 0 | BJ153: 2 | BK153: =ROUND(I153*H153,2) -> 0 | BL153: 16 | BM153: -2104521391
C154: 19 | D154: M | E154: 286540045100.S | F154: Nástenka PP-R D 20x1/2" vnútorný závit, systém pre rozvod vody a stlačeného vzduchu | G154: ks | H154: 10 | I154: 0 | J154: =ROUND(I154*H154,2) -> 0 | N154: znížená | P154: =O154*H154 -> 0 | Q154: 7e-05 | R154: =Q154*H154 -> 0.0007 | S154: 0 | T154: =S154*H154 -> 0 | AR154: 32 | AT154: M | AU154: 2 | AY154: ROZPOCET | BE154: =IF(N154="základná",J154,0) -> 0 | BF154: =IF(N154="znížená",J154,0) -> 0 | BG154: =IF(N154="zákl. prenesená",J154,0) -> 0 | BH154: =IF(N154="zníž. prenesená",J154,0) -> 0 | BI154: =IF(N154="nulová",J154,0) -> 0 | BJ154: 2 | BK154: =ROUND(I154*H154,2) -> 0 | BL154: 16 | BM154: 28750579
C155: 20 | D155: K | E155: 722172778.S | F155: Montáž nástenky PP-R pre vodu DN 25 | G155: ks | H155: 4 | I155: 0 | J155: =ROUND(I155*H155,2) -> 0 | N155: znížená | P155: =O155*H155 -> 0 | Q155: 2e-05 | R155: =Q155*H155 -> 8e-05 | S155: 0 | T155: =S155*H155 -> 0 | AR155: 16 | AT155: K | AU155: 2 | AY155: ROZPOCET | BE155: =IF(N155="základná",J155,0) -> 0 | BF155: =IF(N155="znížená",J155,0) -> 0 | BG155: =IF(N155="zákl. prenesená",J155,0) -> 0 | BH155: =IF(N155="zníž. prenesená",J155,0) -> 0 | BI155: =IF(N155="nulová",J155,0) -> 0 | BJ155: 2 | BK155: =ROUND(I155*H155,2) -> 0 | BL155: 16 | BM155: 2032276993
C156: 21 | D156: M | E156: 286540045200.S | F156: Nástenka PP-R D 25x1/2" vnútorný závit, systém pre rozvod vody a stlačeného vzduchu | G156: ks | H156: 4 | I156: 0 | J156: =ROUND(I156*H156,2) -> 0 | N156: znížená | P156: =O156*H156 -> 0 | Q156: 7e-05 | R156: =Q156*H156 -> 0.00028 | S156: 0 | T156: =S156*H156 -> 0 | AR156: 32 | AT156: M | AU156: 2 | AY156: ROZPOCET | BE156: =IF(N156="základná",J156,0) -> 0 | BF156: =IF(N156="znížená",J156,0) -> 0 | BG156: =IF(N156="zákl. prenesená",J156,0) -> 0 | BH156: =IF(N156="zníž. prenesená",J156,0) -> 0 | BI156: =IF(N156="nulová",J156,0) -> 0 | BJ156: 2 | BK156: =ROUND(I156*H156,2) -> 0 | BL156: 16 | BM156: -1103068709
C157: 22 | D157: K | E157: 722290215.S | F157: Tlaková skúška vodovodného potrubia hrdlového alebo prírubového do DN 100 | G157: m | H157: 33.6 | I157: 0 | J157: =ROUND(I157*H157,2) -> 0 | N157: znížená | P157: =O157*H157 -> 0 | Q157: 0.00039 | R157: =Q157*H157 -> 0.013104 | S157: 0 | T157: =S157*H157 -> 0 | AR157: 16 | AT157: K | AU157: 2 | AY157: ROZPOCET | BE157: =IF(N157="základná",J157,0) -> 0 | BF157: =IF(N157="znížená",J157,0) -> 0 | BG157: =IF(N157="zákl. prenesená",J157,0) -> 0 | BH157: =IF(N157="zníž. prenesená",J157,0) -> 0 | BI157: =IF(N157="nulová",J157,0) -> 0 | BJ157: 2 | BK157: =ROUND(I157*H157,2) -> 0 | BL157: 16 | BM157: 1610417908
C158: 23 | D158: K | E158: 722290234.S | F158: Prepláchnutie a dezinfekcia vodovodného potrubia do DN 80 | G158: m | H158: 33.6 | I158: 0 | J158: =ROUND(I158*H158,2) -> 0 | N158: znížená | P158: =O158*H158 -> 0 | Q158: 1e-05 | R158: =Q158*H158 -> 0.000336 | S158: 0 | T158: =S158*H158 -> 0 | AR158: 16 | AT158: K | AU158: 2 | AY158: ROZPOCET | BE158: =IF(N158="základná",J158,0) -> 0 | BF158: =IF(N158="znížená",J158,0) -> 0 | BG158: =IF(N158="zákl. prenesená",J158,0) -> 0 | BH158: =IF(N158="zníž. prenesená",J158,0) -> 0 | BI158: =IF(N158="nulová",J158,0) -> 0 | BJ158: 2 | BK158: =ROUND(I158*H158,2) -> 0 | BL158: 16 | BM158: 1891701453
C159: 24 | D159: K | E159: 998722201.S | F159: Presun hmôt pre vnútorný vodovod v objektoch výšky do 6 m | G159: % | H159: 0 | I159: 0 | J159: =ROUND(I159*H159,2) -> 0 | N159: znížená | P159: =O159*H159 -> 0 | Q159: 0 | R159: =Q159*H159 -> 0 | S159: 0 | T159: =S159*H159 -> 0 | AR159: 16 | AT159: K | AU159: 2 | AY159: ROZPOCET | BE159: =IF(N159="základná",J159,0) -> 0 | BF159: =IF(N159="znížená",J159,0) -> 0 | BG159: =IF(N159="zákl. prenesená",J159,0) -> 0 | BH159: =IF(N159="zníž. prenesená",J159,0) -> 0 | BI159: =IF(N159="nulová",J159,0) -> 0 | BJ159: 2 | BK159: =ROUND(I159*H159,2) -> 0 | BL159: 16 | BM159: -1362576665
D160: D | E160: 725 | F160: Zdravotechnika - zariaďovacie predmety | J160: =BK160 -> 0 | P160: =SUM(P161:P176) -> 0 | R160: =SUM(R161:R176) -> 0.20932 | T160: =SUM(T161:T176) -> 0 | AR160: 2 | AT160: D | AU160: 1 | AY160: ROZPOCET | BK160: =SUM(BK161:BK176) -> 0
C161: 25 | D161: K | E161: 725119308.S | F161: Montáž záchodovej misy keramickej kombinovanej s zvislým odpadom | G161: ks | H161: 3 | I161: 0 | J161: =ROUND(I161*H161,2) -> 0 | N161: znížená | P161: =O161*H161 -> 0 | Q161: 0.00017 | R161: =Q161*H161 -> 0.00051 | S161: 0 | T161: =S161*H161 -> 0 | AR161: 16 | AT161: K | AU161: 2 | AY161: ROZPOCET | BE161: =IF(N161="základná",J161,0) -> 0 | BF161: =IF(N161="znížená",J161,0) -> 0 | BG161: =IF(N161="zákl. prenesená",J161,0) -> 0 | BH161: =IF(N161="zníž. prenesená",J161,0) -> 0 | BI161: =IF(N161="nulová",J161,0) -> 0 | BJ161: 2 | BK161: =ROUND(I161*H161,2) -> 0 | BL161: 16 | BM161: 1171675182
C162: 26 | D162: M | E162: 642340000500.S | F162: Misa záchodová keramická kombinovaná so zvislým odpadom | G162: ks | H162: 4 | I162: 0 | J162: =ROUND(I162*H162,2) -> 0 | N162: znížená | P162: =O162*H162 -> 0 | Q162: 0.0275 | R162: =Q162*H162 -> 0.11 | S162: 0 | T162: =S162*H162 -> 0 | AR162: 32 | AT162: M | AU162: 2 | AY162: ROZPOCET | BE162: =IF(N162="základná",J162,0) -> 0 | BF162: =IF(N162="znížená",J162,0) -> 0 | BG162: =IF(N162="zákl. prenesená",J162,0) -> 0 | BH162: =IF(N162="zníž. prenesená",J162,0) -> 0 | BI162: =IF(N162="nulová",J162,0) -> 0 | BJ162: 2 | BK162: =ROUND(I162*H162,2) -> 0 | BL162: 16 | BM162: 1155024267
C163: 27 | D163: K | E163: 725129201.S | F163: Montáž pisoáru keramického bez splachovacej nádrže | G163: ks | H163: 2 | I163: 0 | J163: =ROUND(I163*H163,2) -> 0 | N163: znížená | P163: =O163*H163 -> 0 | Q163: 0.00011 | R163: =Q163*H163 -> 0.00022 | S163: 0 | T163: =S163*H163 -> 0 | AR163: 16 | AT163: K | AU163: 2 | AY163: ROZPOCET | BE163: =IF(N163="základná",J163,0) -> 0 | BF163: =IF(N163="znížená",J163,0) -> 0 | BG163: =IF(N163="zákl. prenesená",J163,0) -> 0 | BH163: =IF(N163="zníž. prenesená",J163,0) -> 0 | BI163: =IF(N163="nulová",J163,0) -> 0 | BJ163: 2 | BK163: =ROUND(I163*H163,2) -> 0 | BL163: 16 | BM163: -260635243
C164: 28 | D164: M | E164: 642510000100.S | F164: Pisoár keramický | G164: ks | H164: 2 | I164: 0 | J164: =ROUND(I164*H164,2) -> 0 | N164: znížená | P164: =O164*H164 -> 0 | Q164: 0.02 | R164: =Q164*H164 -> 0.04 | S164: 0 | T164: =S164*H164 -> 0 | AR164: 32 | AT164: M | AU164: 2 | AY164: ROZPOCET | BE164: =IF(N164="základná",J164,0) -> 0 | BF164: =IF(N164="znížená",J164,0) -> 0 | BG164: =IF(N164="zákl. prenesená",J164,0) -> 0 | BH164: =IF(N164="zníž. prenesená",J164,0) -> 0 | BI164: =IF(N164="nulová",J164,0) -> 0 | BJ164: 2 | BK164: =ROUND(I164*H164,2) -> 0 | BL164: 16 | BM164: 59723344
C165: 29 | D165: K | E165: 725190000.R | F165: Deliace steny z DTD, na nožičkách, vrátane dverí | G165: m2 | H165: 10.28 | I165: 0 | J165: =ROUND(I165*H165,2) -> 0 | N165: znížená | P165: =O165*H165 -> 0 | Q165: 0 | R165: =Q165*H165 -> 0 | S165: 0 | T165: =S165*H165 -> 0 | AR165: 16 | AT165: K | AU165: 2 | AY165: ROZPOCET | BE165: =IF(N165="základná",J165,0) -> 0 | BF165: =IF(N165="znížená",J165,0) -> 0 | BG165: =IF(N165="zákl. prenesená",J165,0) -> 0 | BH165: =IF(N165="zníž. prenesená",J165,0) -> 0 | BI165: =IF(N165="nulová",J165,0) -> 0 | BJ165: 2 | BK165: =ROUND(I165*H165,2) -> 0 | BL165: 16 | BM165: -1672499441
C166: 30 | D166: K | E166: 725219401.S | F166: Montáž umývadla keramického na skrutky do muriva, bez výtokovej armatúry | G166: ks | H166: 3 | I166: 0 | J166: =ROUND(I166*H166,2) -> 0 | N166: znížená | P166: =O166*H166 -> 0 | Q166: 0.00028 | R166: =Q166*H166 -> 0.00084 | S166: 0 | T166: =S166*H166 -> 0 | AR166: 16 | AT166: K | AU166: 2 | AY166: ROZPOCET | BE166: =IF(N166="základná",J166,0) -> 0 | BF166: =IF(N166="znížená",J166,0) -> 0 | BG166: =IF(N166="zákl. prenesená",J166,0) -> 0 | BH166: =IF(N166="zníž. prenesená",J166,0) -> 0 | BI166: =IF(N166="nulová",J166,0) -> 0 | BJ166: 2 | BK166: =ROUND(I166*H166,2) -> 0 | BL166: 16 | BM166: 1002818907
...

Sheet 04 - Vykurovanie
L2: >> skryté stĺpce << | AT2: {b186c8db-a54d-4364-b024-caac5ba7a8ab}
AT3: 0
D4: KRYCÍ LIST ROZPOČTU | M4: v --- nižšie sa nachádzajú doplnkové a pomocné údaje k zostavám --- v | AT4: False
D6: Stavba:
E7: ='Rekapitulácia stavby'!K6 -> REKONŠTRUKCIA HYGIENICKÝCH ZARIADENÍ KD
D8: Objekt:
E9: 04 - Vykurovanie
D11: JKSO: | I11: KS:
D12: Miesto: | F12: kat. úz. Davidov | I12: Dátum: | J12: ='Rekapitulácia stavby'!AN8 -> 3. 2. 2023
D14: Objednávateľ: | I14: IČO:
E15: Obec Davidov | I15: IČ DPH:
D17: Zhotoviteľ: | I17: IČO: | J17: ='Rekapitulácia stavby'!AN13 -> 0
E18: ='Rekapitulácia stavby'!E14 -> 0 | I18: IČ DPH: | J18: ='Rekapitulácia stavby'!AN14 -> 0
D20: Projektant: | I20: IČO: | J20: 44547838
E21: ateliér-m spol. s r.o. | I21: IČ DPH: | J21: SK2022735572
D23: Spracovateľ: | I23: IČO:
E24: Ing. Daniel Janok | I24: IČ DPH:
D26: Poznámka:
D30: Cena bez DPH | J30: =ROUND(J123, 2) -> 0
F32: Základ dane | I32: Sadzba dane | J32: Výška dane
D33: DPH | E33: základná | F33: =ROUND((SUM(BE123:BE155)), 2) -> 0 | I33: 0.2 | J33: =ROUND(((SUM(BE123:BE155))*I33), 2) -> 0
E34: znížená | F34: =ROUND((SUM(BF123:BF155)), 2) -> 0 | I34: 0.2 | J34: =ROUND(((SUM(BF123:BF155))*I34), 2) -> 0
E35: zákl. prenesená | F35: =ROUND((SUM(BG123:BG155)), 2) -> 0 | I35: 0.2 | J35: =0 -> 0
E36: zníž. prenesená | F36: =ROUND((SUM(BH123:BH155)), 2) -> 0 | I36: 0.2 | J36: =0 -> 0
E37: nulová | F37: =ROUND((SUM(BI123:BI155)), 2) -> 0 | I37: 0 | J37: =0 -> 0
D39: Cena s DPH | G39: v | H39: EUR | J39: =SUM(J30:J37) -> 0
D50: Projektant | G50: Spracovateľ
D61: Dátum a podpis: | F61: Pečiatka | G61: Dátum a podpis: | J61: Pečiatka
D65: Objednávateľ | G65: Zhotoviteľ
D76: Dátum a podpis: | F76: Pečiatka | G76: Dátum a podpis: | J76: Pečiatka
C82: REKAPITULÁCIA ROZPOČTU
C84: Stavba:
E85: =E7 -> REKONŠTRUKCIA HYGIENICKÝCH ZARIADENÍ KD
C86: Objekt:
E87: =E9 -> 04 - Vykurovanie
C89: Miesto: | F89: =F12 -> kat. úz. Davidov | I89: Dátum: | J89: =IF(J12="","",J12) -> 3. 2. 2023
C91: Objednávateľ: | F91: =E15 -> Obec Davidov | I91: Projektant: | J91: =E21 -> ateliér-m spol. s r.o.
C92: Zhotoviteľ: | F92: =IF(E18="","",E18) -> 0 | I92: Spracovateľ: | J92: =E24 -> Ing. Daniel Janok
C94: Kód dielu - Popis | J94: Cena celkom [EUR]
C96: Náklady z rozpočtu | J96: =J123 -> 0 | AU96: -1
D97: HSV - Práce a dodávky HSV | J97: =J124 -> 0
D98: 9 - Ostatné konštrukcie a práce-búranie | J98: =J125 -> 0
D99: PSV - Práce a dodávky PSV | J99: =J131 -> 0
D100: 713 - Izolácie tepelné | J100: =J132 -> 0
D101: 733 - Ústredné kúrenie - rozvodné potrubie | J101: =J136 -> 0
D102: 734 - Ústredné kúrenie, armatúry. | J102: =J139 -> 0
D103: 735 - Ústredné kúrenie - vykurovacie telesá | J103: =J148 -> 0
C110: ROZPOČET
C112: Stavba:
E113: =E7 -> REKONŠTRUKCIA HYGIENICKÝCH ZARIADENÍ KD
C114: Objekt:
E115: =E9 -> 04 - Vykurovanie
C117: Miesto: | F117: =F12 -> kat. úz. Davidov | I117: Dátum: 3.2.2023
C119: Objednávateľ: | F119: =E15 -> Obec Davidov | I119: Projektant: | J119: =E21 -> ateliér-m spol. s r.o.
C120: Zhotoviteľ: | I120: Spracovateľ:
C122: PČ | D122: Typ | E122: Kód | F122: Popis | G122: MJ | H122: Množstvo | I122: J.cena [EUR] | J122: Cena celkom [EUR] | K122: Cenová sústava | N122: DPH | O122: J. Nh [h] | P122: Nh celkom [h] | Q122: J. hmotnosť [t] | R122: Hmotnosť celkom [t] | S122: J. suť [t] | T122: Suť Celkom [t]
C123: Náklady z rozpočtu | J123: =BK123 -> 0 | P123: =P124+P131 -> 0 | R123: =R124+R131 -> 0.17139353 | T123: =T124+T131 -> 0.82152 | AT123: D | AU123: -1 | BK123: =BK124+BK131 -> 0
D124: D | E124: HSV | F124: Práce a dodávky HSV | J124: =BK124 -> 0 | P124: =P125 -> 0 | R124: =R125 -> 0 | T124: =T125 -> 0.82152 | AR124: 1 | AT124: D | AU124: 0 | AY124: ROZPOCET | BK124: =BK125 -> 0
D125: D | E125: 9 | F125: Ostatné konštrukcie a práce-búranie | J125: =BK125 -> 0 | P125: =SUM(P126:P130) -> 0 | R125: =SUM(R126:R130) -> 0 | T125: =SUM(T126:T130) -> 0.82152 | AR125: 1 | AT125: D | AU125: 1 | AY125: ROZPOCET | BK125: =SUM(BK126:BK130) -> 0
C126: 1 | D126: K | E126: 974031153.S | F126: Vysekávanie rýh v akomkoľvek murive tehlovom na akúkoľvek maltu do hĺbky 100 mm a š. do 100 mm, -0,01800t | G126: m | H126: 45.64 | I126: 0 | J126: =ROUND(I126*H126,2) -> 0 | N126: znížená | P126: =O126*H126 -> 0 | Q126: 0 | R126: =Q126*H126 -> 0 | S126: 0.018 | T126: =S126*H126 -> 0.82152 | AR126: 4 | AT126: K | AU126: 2 | AY126: ROZPOCET | BE126: =IF(N126="základná",J126,0) -> 0 | BF126: =IF(N126="znížená",J126,0) -> 0 | BG126: =IF(N126="zákl. prenesená",J126,0) -> 0 | BH126: =IF(N126="zníž. prenesená",J126,0) -> 0 | BI126: =IF(N126="nulová",J126,0) -> 0 | BJ126: 2 | BK126: =ROUND(I126*H126,2) -> 0 | BL126: 4 | BM126: -2061819080
C127: 2 | D127: K | E127: 979081111.S | F127: Odvoz sutiny a vybúraných hmôt na skládku do 1 km | G127: t | H127: 0.822 | I127: 0 | J127: =ROUND(I127*H127,2) -> 0 | N127: znížená | P127: =O127*H127 -> 0 | Q127: 0 | R127: =Q127*H127 -> 0 | S127: 0 | T127: =S127*H127 -> 0 | AR127: 4 | AT127: K | AU127: 2 | AY127: ROZPOCET | BE127: =IF(N127="základná",J127,0) -> 0 | BF127: =IF(N127="znížená",J127,0) -> 0 | BG127: =IF(N127="zákl. prenesená",J127,0) -> 0 | BH127: =IF(N127="zníž. prenesená",J127,0) -> 0 | BI127: =IF(N127="nulová",J127,0) -> 0 | BJ127: 2 | BK127: =ROUND(I127*H127,2) -> 0 | BL127: 4 | BM127: 2113935413
C128: 3 | D128: K | E128: 979081121.S | F128: Odvoz sutiny a vybúraných hmôt na skládku za každý ďalší 1 km | G128: t | H128: 16.44 | I128: 0 | J128: =ROUND(I128*H128,2) -> 0 | N128: znížená | P128: =O128*H128 -> 0 | Q128: 0 | R128: =Q128*H128 -> 0 | S128: 0 | T128: =S128*H128 -> 0 | AR128: 4 | AT128: K | AU128: 2 | AY128: ROZPOCET | BE128: =IF(N128="základná",J128,0) -> 0 | BF128: =IF(N128="znížená",J128,0) -> 0 | BG128: =IF(N128="zákl. prenesená",J128,0) -> 0 | BH128: =IF(N128="zníž. prenesená",J128,0) -> 0 | BI128: =IF(N128="nulová",J128,0) -> 0 | BJ128: 2 | BK128: =ROUND(I128*H128,2) -> 0 | BL128: 4 | BM128: 666654407
C129: 4 | D129: K | E129: 979082111.S | F129: Vnútrostavenisková doprava sutiny a vybúraných hmôt do 10 m | G129: t | H129: 0.822 | I129: 0 | J129: =ROUND(I129*H129,2) -> 0 | N129: znížená | P129: =O129*H129 -> 0 | Q129: 0 | R129: =Q129*H129 -> 0 | S129: 0 | T129: =S129*H129 -> 0 | AR129: 4 | AT129: K | AU129: 2 | AY129: ROZPOCET | BE129: =IF(N129="základná",J129,0) -> 0 | BF129: =IF(N129="znížená",J129,0) -> 0 | BG129: =IF(N129="zákl. prenesená",J129,0) -> 0 | BH129: =IF(N129="zníž. prenesená",J129,0) -> 0 | BI129: =IF(N129="nulová",J129,0) -> 0 | BJ129: 2 | BK129: =ROUND(I129*H129,2) -> 0 | BL129: 4 | BM129: -1960600716
C130: 5 | D130: K | E130: 979089612.S | F130: Poplatok za skladovanie - iné odpady zo stavieb a demolácií (17 09), ostatné | G130: t | H130: 0.822 | I130: 0 | J130: =ROUND(I130*H130,2) -> 0 | N130: znížená | P130: =O130*H130 -> 0 | Q130: 0 | R130: =Q130*H130 -> 0 | S130: 0 | T130: =S130*H130 -> 0 | AR130: 4 | AT130: K | AU130: 2 | AY130: ROZPOCET | BE130: =IF(N130="základná",J130,0) -> 0 | BF130: =IF(N130="znížená",J130,0) -> 0 | BG130: =IF(N130="zákl. prenesená",J130,0) -> 0 | BH130: =IF(N130="zníž. prenesená",J130,0) -> 0 | BI130: =IF(N130="nulová",J130,0) -> 0 | BJ130: 2 | BK130: =ROUND(I130*H130,2) -> 0 | BL130: 4 | BM130: 555982613
D131: D | E131: PSV | F131: Práce a dodávky PSV | J131: =BK131 -> 0 | P131: =P132+P136+P139+P148 -> 0 | R131: =R132+R136+R139+R148 -> 0.17139353 | T131: =T132+T136+T139+T148 -> 0 | AR131: 2 | AT131: D | AU131: 0 | AY131: ROZPOCET | BK131: =BK132+BK136+BK139+BK148 -> 0
D132: D | E132: 713 | F132: Izolácie tepelné | J132: =BK132 -> 0 | P132: =SUM(P133:P135) -> 0 | R132: =SUM(R133:R135) -> 0.00137833 | T132: =SUM(T133:T135) -> 0 | AR132: 2 | AT132: D | AU132: 1 | AY132: ROZPOCET | BK132: =SUM(BK133:BK135) -> 0
C133: 6 | D133: K | E133: 713482121.S | F133: Montáž trubíc z PE, hr.15-20 mm,vnút.priemer do 38 mm | G133: m | H133: 45.64 | I133: 0 | J133: =ROUND(I133*H133,2) -> 0 | N133: znížená | P133: =O133*H133 -> 0 | Q133: 2e-05 | R133: =Q133*H133 -> 0.0009128 | S133: 0 | T133: =S133*H133 -> 0 | AR133: 16 | AT133: K | AU133: 2 | AY133: ROZPOCET | BE133: =IF(N133="základná",J133,0) -> 0 | BF133: =IF(N133="znížená",J133,0) -> 0 | BG133: =IF(N133="zákl. prenesená",J133,0) -> 0 | BH133: =IF(N133="zníž. prenesená",J133,0) -> 0 | BI133: =IF(N133="nulová",J133,0) -> 0 | BJ133: 2 | BK133: =ROUND(I133*H133,2) -> 0 | BL133: 16 | BM133: -444780113
C134: 7 | D134: M | E134: 283310004700.R | F134: Izolačná PE trubica, nadrezaná, na izolovanie rozvodov vody, kúrenia, zdravotechniky | G134: m | H134: 46.553 | I134: 0 | J134: =ROUND(I134*H134,2) -> 0 | N134: znížená | P134: =O134*H134 -> 0 | Q134: 1e-05 | R134: =Q134*H134 -> 0.00046553 | S134: 0 | T134: =S134*H134 -> 0 | AR134: 32 | AT134: M | AU134: 2 | AY134: ROZPOCET | BE134: =IF(N134="základná",J134,0) -> 0 | BF134: =IF(N134="znížená",J134,0) -> 0 | BG134: =IF(N134="zákl. prenesená",J134,0) -> 0 | BH134: =IF(N134="zníž. prenesená",J134,0) -> 0 | BI134: =IF(N134="nulová",J134,0) -> 0 | BJ134: 2 | BK134: =ROUND(I134*H134,2) -> 0 | BL134: 16 | BM134: -537414471
C135: 8 | D135: K | E135: 998713201.S | F135: Presun hmôt pre izolácie tepelné v objektoch výšky do 6 m | G135: % | H135: 0 | I135: 0 | J135: =ROUND(I135*H135,2) -> 0 | N135: znížená | P135: =O135*H135 -> 0 | Q135: 0 | R135: =Q135*H135 -> 0 | S135: 0 | T135: =S135*H135 -> 0 | AR135: 16 | AT135: K | AU135: 2 | AY135: ROZPOCET | BE135: =IF(N135="základná",J135,0) -> 0 | BF135: =IF(N135="znížená",J135,0) -> 0 | BG135: =IF(N135="zákl. prenesená",J135,0) -> 0 | BH135: =IF(N135="zníž. prenesená",J135,0) -> 0 | BI135: =IF(N135="nulová",J135,0) -> 0 | BJ135: 2 | BK135: =ROUND(I135*H135,2) -> 0 | BL135: 16 | BM135: -1395016903
D136: D | E136: 733 | F136: Ústredné kúrenie - rozvodné potrubie | J136: =BK136 -> 0 | P136: =SUM(P137:P138) -> 0 | R136: =SUM(R137:R138) -> 0.0196252 | T136: =SUM(T137:T138) -> 0 | AR136: 2 | AT136: D | AU136: 1 | AY136: ROZPOCET | BK136: =SUM(BK137:BK138) -> 0
C137: 9 | D137: K | E137: 733166174.S | F137: Plasthliníkové potrubie v kotúčoch pre vykurovanie spájané lisovaním d 20 mm | G137: m | H137: 45.64 | I137: 0 | J137: =ROUND(I137*H137,2) -> 0 | N137: znížená | P137: =O137*H137 -> 0 | Q137: 0.00043 | R137: =Q137*H137 -> 0.0196252 | S137: 0 | T137: =S137*H137 -> 0 | AR137: 16 | AT137: K | AU137: 2 | AY137: ROZPOCET | BE137: =IF(N137="základná",J137,0) -> 0 | BF137: =IF(N137="znížená",J137,0) -> 0 | BG137: =IF(N137="zákl. prenesená",J137,0) -> 0 | BH137: =IF(N137="zníž. prenesená",J137,0) -> 0 | BI137: =IF(N137="nulová",J137,0) -> 0 | BJ137: 2 | BK137: =ROUND(I137*H137,2) -> 0 | BL137: 16 | BM137: 934928447
C138: 10 | D138: K | E138: 998733201.S | F138: Presun hmôt pre rozvody potrubia v objektoch výšky do 6 m | G138: % | H138: 0 | I138: 0 | J138: =ROUND(I138*H138,2) -> 0 | N138: znížená | P138: =O138*H138 -> 0 | Q138: 0 | R138: =Q138*H138 -> 0 | S138: 0 | T138: =S138*H138 -> 0 | AR138: 16 | AT138: K | AU138: 2 | AY138: ROZPOCET | BE138: =IF(N138="základná",J138,0) -> 0 | BF138: =IF(N138="znížená",J138,0) -> 0 | BG138: =IF(N138="zákl. prenesená",J138,0) -> 0 | BH138: =IF(N138="zníž. prenesená",J138,0) -> 0 | BI138: =IF(N138="nulová",J138,0) -> 0 | BJ138: 2 | BK138: =ROUND(I138*H138,2) -> 0 | BL138: 16 | BM138: 47095556
D139: D | E139: 734 | F139: Ústredné kúrenie, armatúry. | J139: =BK139 -> 0 | P139: =SUM(P140:P147) -> 0 | R139: =SUM(R140:R147) -> 0.00604 | T139: =SUM(T140:T147) -> 0 | AR139: 2 | AT139: D | AU139: 1 | AY139: ROZPOCET | BK139: =SUM(BK140:BK147) -> 0
C140: 11 | D140: K | E140: 734223208 | F140: Montáž termostatickej hlavice kvapalinovej jednoduchej | G140: súb. | H140: 4 | I140: 0 | J140: =ROUND(I140*H140,2) -> 0 | N140: znížená | P140: =O140*H140 -> 0 | Q140: 0 | R140: =Q140*H140 -> 0 | S140: 0 | T140: =S140*H140 -> 0 | AR140: 16 | AT140: K | AU140: 2 | AY140: ROZPOCET | BE140: =IF(N140="základná",J140,0) -> 0 | BF140: =IF(N140="znížená",J140,0) -> 0 | BG140: =IF(N140="zákl. prenesená",J140,0) -> 0 | BH140: =IF(N140="zníž. prenesená",J140,0) -> 0 | BI140: =IF(N140="nulová",J140,0) -> 0 | BJ140: 2 | BK140: =ROUND(I140*H140,2) -> 0 | BL140: 16 | BM140: 2004257603
C141: 12 | D141: M | E141: 1923007 | F141: Hlavica termostatická, M 28x1,5 s kvap. snímačom, poloha 0, nastav. protimraz. ochrana pri cca 6°C, od 6-30 °C, | G141: ks | H141: 4 | I141: 0 | J141: =ROUND(I141*H141,2) -> 0 | N141: znížená | P141: =O141*H141 -> 0 | Q141: 0.00016 | R141: =Q141*H141 -> 0.00064 | S141: 0 | T141: =S141*H141 -> 0 | AR141: 32 | AT141: M | AU141: 2 | AY141: ROZPOCET | BE141: =IF(N141="základná",J141,0) -> 0 | BF141: =IF(N141="znížená",J141,0) -> 0 | BG141: =IF(N141="zákl. prenesená",J141,0) -> 0 | BH141: =IF(N141="zníž. prenesená",J141,0) -> 0 | BI141: =IF(N141="nulová",J141,0) -> 0 | BJ141: 2 | BK141: =ROUND(I141*H141,2) -> 0 | BL141: 16 | BM141: -1932247148
C142: 13 | D142: K | E142: 734223208.S | F142: Montáž termostatickej hlavice kvapalinovej jednoduchej | G142: súb. | H142: 4 | I142: 0 | J142: =ROUND(I142*H142,2) -> 0 | N142: znížená | P142: =O142*H142 -> 0 | Q142: 0 | R142: =Q142*H142 -> 0 | S142: 0 | T142: =S142*H142 -> 0 | AR142: 4 | AT142: K | AU142: 2 | AY142: ROZPOCET | BE142: =IF(N142="základná",J142,0) -> 0 | BF142: =IF(N142="znížená",J142,0) -> 0 | BG142: =IF(N142="zákl. prenesená",J142,0) -> 0 | BH142: =IF(N142="zníž. prenesená",J142,0) -> 0 | BI142: =IF(N142="nulová",J142,0) -> 0 | BJ142: 2 | BK142: =ROUND(I142*H142,2) -> 0 | BL142: 4 | BM142: 800245057
C143: 14 | D143: M | E143: 551280001400.S | F143: Termostatická hlavica kvapalinová so vstavaným snímačom | G143: ks | H143: 4 | I143: 0 | J143: =ROUND(I143*H143,2) -> 0 | N143: znížená | P143: =O143*H143 -> 0 | Q143: 0.0001 | R143: =Q143*H143 -> 0.0004 | S143: 0 | T143: =S143*H143 -> 0 | AR143: 8 | AT143: M | AU143: 2 | AY143: ROZPOCET | BE143: =IF(N143="základná",J143,0) -> 0 | BF143: =IF(N143="znížená",J143,0) -> 0 | BG143: =IF(N143="zákl. prenesená",J143,0) -> 0 | BH143: =IF(N143="zníž. prenesená",J143,0) -> 0 | BI143: =IF(N143="nulová",J143,0) -> 0 | BJ143: 2 | BK143: =ROUND(I143*H143,2) -> 0 | BL143: 4 | BM143: 1011517242
C144: 15 | D144: K | E144: 734223255.S | F144: Montáž armatúr pre spodné pripojenie vykurovacích telies priamych | G144: ks | H144: 4 | I144: 0 | J144: =ROUND(I144*H144,2) -> 0 | N144: znížená | P144: =O144*H144 -> 0 | Q144: 0 | R144: =Q144*H144 -> 0 | S144: 0 | T144: =S144*H144 -> 0 | AR144: 16 | AT144: K | AU144: 2 | AY144: ROZPOCET | BE144: =IF(N144="základná",J144,0) -> 0 | BF144: =IF(N144="znížená",J144,0) -> 0 | BG144: =IF(N144="zákl. prenesená",J144,0) -> 0 | BH144: =IF(N144="zníž. prenesená",J144,0) -> 0 | BI144: =IF(N144="nulová",J144,0) -> 0 | BJ144: 2 | BK144: =ROUND(I144*H144,2) -> 0 | BL144: 16 | BM144: -11778850
C145: 16 | D145: M | E145: 551280007000.S | F145: Adaptér pre vykurovacie telesá 1/2", PN 10, niklovaná mosadz | G145: ks | H145: 4 | I145: 0 | J145: =ROUND(I145*H145,2) -> 0 | N145: znížená | P145: =O145*H145 -> 0 | Q145: 0.00025 | R145: =Q145*H145 -> 0.001 | S145: 0 | T145: =S145*H145 -> 0 | AR145: 32 | AT145: M | AU145: 2 | AY145: ROZPOCET | BE145: =IF(N145="základná",J145,0) -> 0 | BF145: =IF(N145="znížená",J145,0) -> 0 | BG145: =IF(N145="zákl. prenesená",J145,0) -> 0 | BH145: =IF(N145="zníž. prenesená",J145,0) -> 0 | BI145: =IF(N145="nulová",J145,0) -> 0 | BJ145: 2 | BK145: =ROUND(I145*H145,2) -> 0 | BL145: 16 | BM145: -1007468616
C146: 17 | D146: M | E146: 551290007700.S | F146: Regulačné a uzatvárateľné šróbenie pre vykurovacie telesá pre priamy dvojtrubkový systém 3/4", PN 10, niklovaná mosadz | G146: ks | H146: 4 | I146: 0 | J146: =ROUND(I146*H146,2) -> 0 | N146: znížená | P146: =O146*H146 -> 0 | Q146: 0.001 | R146: =Q146*H146 -> 0.004 | S146: 0 | T146: =S146*H146 -> 0 | AR146: 32 | AT146: M | AU146: 2 | AY146: ROZPOCET | BE146: =IF(N146="základná",J146,0) -> 0 | BF146: =IF(N146="znížená",J146,0) -> 0 | BG146: =IF(N146="zákl. prenesená",J146,0) -> 0 | BH146: =IF(N146="zníž. prenesená",J146,0) -> 0 | BI146: =IF(N146="nulová",J146,0) -> 0 | BJ146: 2 | BK146: =ROUND(I146*H146,2) -> 0 | BL146: 16 | BM146: -32521887
C147: 18 | D147: K | E147: 998734201.S | F147: Presun hmôt pre armatúry v objektoch výšky do 6 m | G147: % | H147: 0 | I147: 0 | J147: =ROUND(I147*H147,2) -> 0 | N147: znížená | P147: =O147*H147 -> 0 | Q147: 0 | R147: =Q147*H147 -> 0 | S147: 0 | T147: =S147*H147 -> 0 | AR147: 16 | AT147: K | AU147: 2 | AY147: ROZPOCET | BE147: =IF(N147="základná",J147,0) -> 0 | BF147: =IF(N147="znížená",J147,0) -> 0 | BG147: =IF(N147="zákl. prenesená",J147,0) -> 0 | BH147: =IF(N147="zníž. prenesená",J147,0) -> 0 | BI147: =IF(N147="nulová",J147,0) -> 0 | BJ147: 2 | BK147: =ROUND(I147*H147,2) -> 0 | BL147: 16 | BM147: -595371510
D148: D | E148: 735 | F148: Ústredné kúrenie - vykurovacie telesá | J148: =BK148 -> 0 | P148: =SUM(P149:P155) -> 0 | R148: =SUM(R149:R155) -> 0.14435 | T148: =SUM(T149:T155) -> 0 | AR148: 2 | AT148: D | AU148: 1 | AY148: ROZPOCET | BK148: =SUM(BK149:BK155) -> 0
C149: 19 | D149: K | E149: 735154141.S | F149: Montáž vykurovacieho telesa panelového dvojradového výšky 600 mm/ dĺžky 700-900 mm | G149: ks | H149: 3 | I149: 0 | J149: =ROUND(I149*H149,2) -> 0 | N149: znížená | P149: =O149*H149 -> 0 | Q149: 2e-05 | R149: =Q149*H149 -> 6e-05 | S149: 0 | T149: =S149*H149 -> 0 | AR149: 16 | AT149: K | AU149: 2 | AY149: ROZPOCET | BE149: =IF(N149="základná",J149,0) -> 0 | BF149: =IF(N149="znížená",J149,0) -> 0 | BG149: =IF(N149="zákl. prenesená",J149,0) -> 0 | BH149: =IF(N149="zníž. prenesená",J149,0) -> 0 | BI149: =IF(N149="nulová",J149,0) -> 0 | BJ149: 2 | BK149: =ROUND(I149*H149,2) -> 0 | BL149: 16 | BM149: -1163701421
C150: 20 | D150: M | E150: 484530066000.S | F150: Teleso vykurovacie doskové dvojradové oceľové, vxlxhĺ 600x900x100 mm, s bočným pripojením a dvoma konvektormi | G150: ks | H150: 3 | I150: 0 | J150: =ROUND(I150*H150,2) -> 0 | N150: znížená | P150: =O150*H150 -> 0 | Q150: 0.02838 | R150: =Q150*H150 -> 0.08514 | S150: 0 | T150: =S150*H150 -> 0 | AR150: 32 | AT150: M | AU150: 2 | AY150: ROZPOCET | BE150: =IF(N150="základná",J150,0) -> 0 | BF150: =IF(N150="znížená",J150,0) -> 0 | BG150: =IF(N150="zákl. prenesená",J150,0) -> 0 | BH150: =IF(N150="zníž. prenesená",J150,0) -> 0 | BI150: =IF(N150="nulová",J150,0) -> 0 | BJ150: 2 | BK150: =ROUND(I150*H150,2) -> 0 | BL150: 16 | BM150: -344347551
C151: 21 | D151: K | E151: 735154152.S | F151: Montáž vykurovacieho telesa panelového dvojradového výšky 900 mm/ dĺžky 1000-1200 mm | G151: ks | H151: 1 | I151: 0 | J151: =ROUND(I151*H151,2) -> 0 | N151: znížená | P151: =O151*H151 -> 0 | Q151: 2e-05 | R151: =Q151*H151 -> 2e-05 | S151: 0 | T151: =S151*H151 -> 0 | AR151: 16 | AT151: K | AU151: 2 | AY151: ROZPOCET | BE151: =IF(N151="základná",J151,0) -> 0 | BF151: =IF(N151="znížená",J151,0) -> 0 | BG151: =IF(N151="zákl. prenesená",J151,0) -> 0 | BH151: =IF(N151="zníž. prenesená",J151,0) -> 0 | BI151: =IF(N151="nulová",J151,0) -> 0 | BJ151: 2 | BK151: =ROUND(I151*H151,2) -> 0 | BL151: 16 | BM151: 2115196313
C152: 22 | D152: M | E152: 484530068600.S | F152: Teleso vykurovacie doskové dvojradové oceľové, vxlxhĺ 900x1200x100 mm, s bočným pripojením a dvoma konvektormi | G152: ks | H152: 1 | I152: 0 | J152: =ROUND(I152*H152,2) -> 0 | N152: znížená | P152: =O152*H152 -> 0 | Q152: 0.05913 | R152: =Q152*H152 -> 0.05913 | S152: 0 | T152: =S152*H152 -> 0 | AR152: 32 | AT152: M | AU152: 2 | AY152: ROZPOCET | BE152: =IF(N152="základná",J152,0) -> 0 | BF152: =IF(N152="znížená",J152,0) -> 0 | BG152: =IF(N152="zákl. prenesená",J152,0) -> 0 | BH152: =IF(N152="zníž. prenesená",J152,0) -> 0 | BI152: =IF(N152="nulová",J152,0) -> 0 | BJ152: 2 | BK152: =ROUND(I152*H152,2) -> 0 | BL152: 16 | BM152: -1944057202
C153: 23 | D153: K | E153: 735158120.S | F153: Vykurovacie telesá panelové dvojradové, tlaková skúška telesa vodou | G153: ks | H153: 5 | I153: 0 | J153: =ROUND(I153*H153,2) -> 0 | N153: znížená | P153: =O153*H153 -> 0 | Q153: 0 | R153: =Q153*H153 -> 0 | S153: 0 | T153: =S153*H153 -> 0 | AR153: 16 | AT153: K | AU153: 2 | AY153: ROZPOCET | BE153: =IF(N153="základná",J153,0) -> 0 | BF153: =IF(N153="znížená",J153,0) -> 0 | BG153: =IF(N153="zákl. prenesená",J153,0) -> 0 | BH153: =IF(N153="zníž. prenesená",J153,0) -> 0 | BI153: =IF(N153="nulová",J153,0) -> 0 | BJ153: 2 | BK153: =ROUND(I153*H153,2) -> 0 | BL153: 16 | BM153: 929986656
C154: 24 | D154: K | E154: 735191910.S | F154: Napustenie vody do vykurovacieho systému vrátane potrubia o v. pl. vykurovacích telies | G154: m2 | H154: 6.48 | I154: 0 | J154: =ROUND(I154*H154,2) -> 0 | N154: znížená | P154: =O154*H154 -> 0 | Q154: 0 | R154: =Q154*H154 -> 0 | S154: 0 | T154: =S154*H154 -> 0 | AR154: 4 | AT154: K | AU154: 2 | AY154: ROZPOCET | BE154: =IF(N154="základná",J154,0) -> 0 | BF154: =IF(N154="znížená",J154,0) -> 0 | BG154: =IF(N154="zákl. prenesená",J154,0) -> 0 | BH154: =IF(N154="zníž. prenesená",J154,0) -> 0 | BI154: =IF(N154="nulová",J154,0) -> 0 | BJ154: 2 | BK154: =ROUND(I154*H154,2) -> 0 | BL154: 4 | BM154: 766491123
C155: 25 | D155: K | E155: 998735201.S | F155: Presun hmôt pre vykurovacie telesá v objektoch výšky do 6 m | G155: % | H155: 0 | I155: 0 | J155: =ROUND(I155*H155,2) -> 0 | N155: znížená | P155: =O155*H155 -> 0 | Q155: 0 | R155: =Q155*H155 -> 0 | S155: 0 | T155: =S155*H155 -> 0 | AR155: 16 | AT155: K | AU155: 2 | AY155: ROZPOCET | BE155: =IF(N155="základná",J155,0) -> 0 | BF155: =IF(N155="znížená",J155,0) -> 0 | BG155: =IF(N155="zákl. prenesená",J155,0) -> 0 | BH155: =IF(N155="zníž. prenesená",J155,0) -> 0 | BI155: =IF(N155="nulová",J155,0) -> 0 | BJ155: 2 | BK155: =ROUND(I155*H155,2) -> 0 | BL155: 16 | BM155: -1165729685

Sheet 05 - Elektroinštalácia
L2: >> skryté stĺpce << | AT2: {62000c37-b385-4089-8a48-e631b71dbedc}
AT3: 0
D4: KRYCÍ LIST ROZPOČTU | M4: v --- nižšie sa nachádzajú doplnkové a pomocné údaje k zostavám --- v | AT4: False
D6: Stavba:
E7: ='Rekapitulácia stavby'!K6 -> REKONŠTRUKCIA HYGIENICKÝCH ZARIADENÍ KD
D8: Objekt:
E9: 05 - Elektroinštalácia
D11: JKSO: | I11: KS:
D12: Miesto: | F12: kat. úz. Davidov | I12: Dátum: | J12: ='Rekapitulácia stavby'!AN8 -> 3. 2. 2023
D14: Objednávateľ: | I14: IČO:
E15: Obec Davidov | I15: IČ DPH:
D17: Zhotoviteľ: | I17: IČO: | J17: ='Rekapitulácia stavby'!AN13 -> 0
E18: ='Rekapitulácia stavby'!E14 -> 0 | I18: IČ DPH: | J18: ='Rekapitulácia stavby'!AN14 -> 0
D20: Projektant: | I20: IČO: | J20: 44547838
E21: ateliér-m spol. s r.o. | I21: IČ DPH: | J21: SK2022735572
D23: Spracovateľ: | I23: IČO:
E24: Ing. Daniel Janok | I24: IČ DPH:
D26: Poznámka:
D30: Cena bez DPH | J30: =ROUND(J121, 2) -> 0
F32: Základ dane | I32: Sadzba dane | J32: Výška dane
D33: DPH | E33: základná | F33: =ROUND((SUM(BE121:BE158)), 2) -> 0 | I33: 0.2 | J33: =ROUND(((SUM(BE121:BE158))*I33), 2) -> 0
E34: znížená | F34: =ROUND((SUM(BF121:BF158)), 2) -> 0 | I34: 0.2 | J34: =ROUND(((SUM(BF121:BF158))*I34), 2) -> 0
E35: zákl. prenesená | F35: =ROUND((SUM(BG121:BG158)), 2) -> 0 | I35: 0.2 | J35: =0 -> 0
E36: zníž. prenesená | F36: =ROUND((SUM(BH121:BH158)), 2) -> 0 | I36: 0.2 | J36: =0 -> 0
E37: nulová | F37: =ROUND((SUM(BI121:BI158)), 2) -> 0 | I37: 0 | J37: =0 -> 0
D39: Cena s DPH | G39: v | H39: EUR | J39: =SUM(J30:J37) -> 0
D50: Projektant | G50: Spracovateľ
D61: Dátum a podpis: | F61: Pečiatka | G61: Dátum a podpis: | J61: Pečiatka
D65: Objednávateľ | G65: Zhotoviteľ
D76: Dátum a podpis: | F76: Pečiatka | G76: Dátum a podpis: | J76: Pečiatka
C82: REKAPITULÁCIA ROZPOČTU
C84: Stavba:
E85: =E7 -> REKONŠTRUKCIA HYGIENICKÝCH ZARIADENÍ KD
C86: Objekt:
E87: =E9 -> 05 - Elektroinštalácia
C89: Miesto: | F89: =F12 -> kat. úz. Davidov | I89: Dátum: | J89: =IF(J12="","",J12) -> 3. 2. 2023
C91: Objednávateľ: | F91: =E15 -> Obec Davidov | I91: Projektant: | J91: =E21 -> ateliér-m spol. s r.o.
C92: Zhotoviteľ: | F92: =IF(E18="","",E18) -> 0 | I92: Spracovateľ: | J92: =E24 -> Ing. Daniel Janok
C94: Kód dielu - Popis | J94: Cena celkom [EUR]
C96: Náklady z rozpočtu | J96: =J121 -> 0 | AU96: -1
D97: HSV - Práce a dodávky HSV | J97: =J122 -> 0
D98: 9 - Ostatné konštrukcie a práce-búranie | J98: =J123 -> 0
D99: M - Práce a dodávky M | J99: =J129 -> 0
D100: 21-M - Elektromontáže | J100: =J130 -> 0
D101: OST - Ostatné | J101: =J156 -> 0
C108: ROZPOČET
C110: Stavba:
E111: =E7 -> REKONŠTRUKCIA HYGIENICKÝCH ZARIADENÍ KD
C112: Objekt:
E113: =E9 -> 05 - Elektroinštalácia
C115: Miesto: | F115: =F12 -> kat. úz. Davidov | I115: Dátum: 3.2.2023
C117: Objednávateľ: | F117: =E15 -> Obec Davidov | I117: Projektant: | J117: =E21 -> ateliér-m spol. s r.o.
C118: Zhotoviteľ: | I118: Spracovateľ:
C120: PČ | D120: Typ | E120: Kód | F120: Popis | G120: MJ | H120: Množstvo | I120: J.cena [EUR] | J120: Cena celkom [EUR] | K120: Cenová sústava | N120: DPH | O120: J. Nh [h] | P120: Nh celkom [h] | Q120: J. hmotnosť [t] | R120: Hmotnosť celkom [t] | S120: J. suť [t] | T120: Suť Celkom [t]
C121: Náklady z rozpočtu | J121: =BK121 -> 0 | P121: =P122+P129+P156 -> 0 | R121: =R122+R129+R156 -> 0.11803 | T121: =T122+T129+T156 -> 0.06 | AT121: D | AU121: -1 | BK121: =BK122+BK129+BK156 -> 0
D122: D | E122: HSV | F122: Práce a dodávky HSV | J122: =BK122 -> 0 | P122: =P123 -> 0 | R122: =R123 -> 0 | T122: =T123 -> 0.06 | AR122: 1 | AT122: D | AU122: 0 | AY122: ROZPOCET | BK122: =BK123 -> 0
D123: D | E123: 9 | F123: Ostatné konštrukcie a práce-búranie | J123: =BK123 -> 0 | P123: =SUM(P124:P128) -> 0 | R123: =SUM(R124:R128) -> 0 | T123: =SUM(T124:T128) -> 0.06 | AR123: 1 | AT123: D | AU123: 1 | AY123: ROZPOCET | BK123: =SUM(BK124:BK128) -> 0
C124: 1 | D124: K | E124: 974031121.S | F124: Vysekanie rýh v akomkoľvek murive tehlovom na akúkoľvek maltu do hĺbky 30 mm a š. do 30 mm, -0,00200 t | G124: m | H124: 30 | I124: 0 | J124: =ROUND(I124*H124,2) -> 0 | N124: znížená | P124: =O124*H124 -> 0 | Q124: 0 | R124: =Q124*H124 -> 0 | S124: 0.002 | T124: =S124*H124 -> 0.06 | AR124: 4 | AT124: K | AU124: 2 | AY124: ROZPOCET | BE124: =IF(N124="základná",J124,0) -> 0 | BF124: =IF(N124="znížená",J124,0) -> 0 | BG124: =IF(N124="zákl. prenesená",J124,0) -> 0 | BH124: =IF(N124="zníž. prenesená",J124,0) -> 0 | BI124: =IF(N124="nulová",J124,0) -> 0 | BJ124: 2 | BK124: =ROUND(I124*H124,2) -> 0 | BL124: 4 | BM124: -861701009
C125: 2 | D125: K | E125: 979081111.S | F125: Odvoz sutiny a vybúraných hmôt na skládku do 1 km | G125: t | H125: 0.06 | I125: 0 | J125: =ROUND(I125*H125,2) -> 0 | N125: znížená | P125: =O125*H125 -> 0 | Q125: 0 | R125: =Q125*H125 -> 0 | S125: 0 | T125: =S125*H125 -> 0 | AR125: 4 | AT125: K | AU125: 2 | AY125: ROZPOCET | BE125: =IF(N125="základná",J125,0) -> 0 | BF125: =IF(N125="znížená",J125,0) -> 0 | BG125: =IF(N125="zákl. prenesená",J125,0) -> 0 | BH125: =IF(N125="zníž. prenesená",J125,0) -> 0 | BI125: =IF(N125="nulová",J125,0) -> 0 | BJ125: 2 | BK125: =ROUND(I125*H125,2) -> 0 | BL125: 4 | BM125: -1073868779
C126: 3 | D126: K | E126: 979081121.S | F126: Odvoz sutiny a vybúraných hmôt na skládku za každý ďalší 1 km | G126: t | H126: 1.2 | I126: 0 | J126: =ROUND(I126*H126,2) -> 0 | N126: znížená | P126: =O126*H126 -> 0 | Q126: 0 | R126: =Q126*H126 -> 0 | S126: 0 | T126: =S126*H126 -> 0 | AR126: 4 | AT126: K | AU126: 2 | AY126: ROZPOCET | BE126: =IF(N126="základná",J126,0) -> 0 | BF126: =IF(N126="znížená",J126,0) -> 0 | BG126: =IF(N126="zákl. prenesená",J126,0) -> 0 | BH126: =IF(N126="zníž. prenesená",J126,0) -> 0 | BI126: =IF(N126="nulová",J126,0) -> 0 | BJ126: 2 | BK126: =ROUND(I126*H126,2) -> 0 | BL126: 4 | BM126: 1888197374
C127: 4 | D127: K | E127: 979082111.S | F127: Vnútrostavenisková doprava sutiny a vybúraných hmôt do 10 m | G127: t | H127: 0.06 | I127: 0 | J127: =ROUND(I127*H127,2) -> 0 | N127: znížená | P127: =O127*H127 -> 0 | Q127: 0 | R127: =Q127*H127 -> 0 | S127: 0 | T127: =S127*H127 -> 0 | AR127: 4 | AT127: K | AU127: 2 | AY127: ROZPOCET | BE127: =IF(N127="základná",J127,0) -> 0 | BF127: =IF(N127="znížená",J127,0) -> 0 | BG127: =IF(N127="zákl. prenesená",J127,0) -> 0 | BH127: =IF(N127="zníž. prenesená",J127,0) -> 0 | BI127: =IF(N127="nulová",J127,0) -> 0 | BJ127: 2 | BK127: =ROUND(I127*H127,2) -> 0 | BL127: 4 | BM127: 1661959703
C128: 5 | D128: K | E128: 979089612.S | F128: Poplatok za skladovanie - iné odpady zo stavieb a demolácií (17 09), ostatné | G128: t | H128: 0.06 | I128: 0 | J128: =ROUND(I128*H128,2) -> 0 | N128: znížená | P128: =O128*H128 -> 0 | Q128: 0 | R128: =Q128*H128 -> 0 | S128: 0 | T128: =S128*H128 -> 0 | AR128: 4 | AT128: K | AU128: 2 | AY128: ROZPOCET | BE128: =IF(N128="základná",J128,0) -> 0 | BF128: =IF(N128="znížená",J128,0) -> 0 | BG128: =IF(N128="zákl. prenesená",J128,0) -> 0 | BH128: =IF(N128="zníž. prenesená",J128,0) -> 0 | BI128: =IF(N128="nulová",J128,0) -> 0 | BJ128: 2 | BK128: =ROUND(I128*H128,2) -> 0 | BL128: 4 | BM128: -1631478080
D129: D | E129: M | F129: Práce a dodávky M | J129: =BK129 -> 0 | P129: =P130 -> 0 | R129: =R130 -> 0.11803 | T129: =T130 -> 0 | AR129: 3 | AT129: D | AU129: 0 | AY129: ROZPOCET | BK129: =BK130 -> 0
D130: D | E130: 21-M | F130: Elektromontáže | J130: =BK130 -> 0 | P130: =SUM(P131:P155) -> 0 | R130: =SUM(R131:R155) -> 0.11803 | T130: =SUM(T131:T155) -> 0 | AR130: 3 | AT130: D | AU130: 1 | AY130: ROZPOCET | BK130: =SUM(BK131:BK155) -> 0
C131: 6 | D131: K | E131: 210010325.S | F131: Krabica (KUL 68 kruhová) do dutých stien odbočná s viečkom, svorkovnicou vrátane zapojenia | G131: ks | H131: 5 | I131: 0 | J131: =ROUND(I131*H131,2) -> 0 | N131: znížená | P131: =O131*H131 -> 0 | Q131: 0 | R131: =Q131*H131 -> 0 | S131: 0 | T131: =S131*H131 -> 0 | AR131: 64 | AT131: K | AU131: 2 | AY131: ROZPOCET | BE131: =IF(N131="základná",J131,0) -> 0 | BF131: =IF(N131="znížená",J131,0) -> 0 | BG131: =IF(N131="zákl. prenesená",J131,0) -> 0 | BH131: =IF(N131="zníž. prenesená",J131,0) -> 0 | BI131: =IF(N131="nulová",J131,0) -> 0 | BJ131: 2 | BK131: =ROUND(I131*H131,2) -> 0 | BL131: 64 | BM131: 1918990747
C132: 7 | D132: M | E132: 345410015010.S | F132: Krabica odbočná KUL 68-45/LD2 s viečkom V 68, z PVC | G132: ks | H132: 5 | I132: 0 | J132: =ROUND(I132*H132,2) -> 0 | N132: znížená | P132: =O132*H132 -> 0 | Q132: 3e-05 | R132: =Q132*H132 -> 0.00015 | S132: 0 | T132: =S132*H132 -> 0 | AR132: 128 | AT132: M | AU132: 2 | AY132: ROZPOCET | BE132: =IF(N132="základná",J132,0) -> 0 | BF132: =IF(N132="znížená",J132,0) -> 0 | BG132: =IF(N132="zákl. prenesená",J132,0) -> 0 | BH132: =IF(N132="zníž. prenesená",J132,0) -> 0 | BI132: =IF(N132="nulová",J132,0) -> 0 | BJ132: 2 | BK132: =ROUND(I132*H132,2) -> 0 | BL132: 128 | BM132: 1189265861
C133: 8 | D133: K | E133: 210100001.S | F133: Ukončenie vodičov v rozvádzač. vrátane zapojenia a vodičovej koncovky do 2,5 mm2 | G133: ks | H133: 16 | I133: 0 | J133: =ROUND(I133*H133,2) -> 0 | N133: znížená | P133: =O133*H133 -> 0 | Q133: 0 | R133: =Q133*H133 -> 0 | S133: 0 | T133: =S133*H133 -> 0 | AR133: 64 | AT133: K | AU133: 2 | AY133: ROZPOCET | BE133: =IF(N133="základná",J133,0) -> 0 | BF133: =IF(N133="znížená",J133,0) -> 0 | BG133: =IF(N133="zákl. prenesená",J133,0) -> 0 | BH133: =IF(N133="zníž. prenesená",J133,0) -> 0 | BI133: =IF(N133="nulová",J133,0) -> 0 | BJ133: 2 | BK133: =ROUND(I133*H133,2) -> 0 | BL133: 64 | BM133: 564977030
C134: 9 | D134: K | E134: 210110041.S | F134: Spínač polozapustený a zapustený vrátane zapojenia jednopólový - radenie 1 | G134: ks | H134: 3 | I134: 0 | J134: =ROUND(I134*H134,2) -> 0 | N134: znížená | P134: =O134*H134 -> 0 | Q134: 0 | R134: =Q134*H134 -> 0 | S134: 0 | T134: =S134*H134 -> 0 | AR134: 64 | AT134: K | AU134: 2 | AY134: ROZPOCET | BE134: =IF(N134="základná",J134,0) -> 0 | BF134: =IF(N134="znížená",J134,0) -> 0 | BG134: =IF(N134="zákl. prenesená",J134,0) -> 0 | BH134: =IF(N134="zníž. prenesená",J134,0) -> 0 | BI134: =IF(N134="nulová",J134,0) -> 0 | BJ134: 2 | BK134: =ROUND(I134*H134,2) -> 0 | BL134: 64 | BM134: -1957609293
C135: 10 | D135: M | E135: 345340004500.S | F135: Prístroj spínača, radenie 1,1So | G135: ks | H135: 3 | I135: 0 | J135: =ROUND(I135*H135,2) -> 0 | N135: znížená | P135: =O135*H135 -> 0 | Q135: 8e-05 | R135: =Q135*H135 -> 0.00024 | S135: 0 | T135: =S135*H135 -> 0 | AR135: 128 | AT135: M | AU135: 2 | AY135: ROZPOCET | BE135: =IF(N135="základná",J135,0) -> 0 | BF135: =IF(N135="znížená",J135,0) -> 0 | BG135: =IF(N135="zákl. prenesená",J135,0) -> 0 | BH135: =IF(N135="zníž. prenesená",J135,0) -> 0 | BI135: =IF(N135="nulová",J135,0) -> 0 | BJ135: 2 | BK135: =ROUND(I135*H135,2) -> 0 | BL135: 128 | BM135: -1652652162
C136: 11 | D136: M | E136: 345350001500.S | F136: Kryt spínača | G136: ks | H136: 3 | I136: 0 | J136: =ROUND(I136*H136,2) -> 0 | N136: znížená | P136: =O136*H136 -> 0 | Q136: 2e-05 | R136: =Q136*H136 -> 6e-05 | S136: 0 | T136: =S136*H136 -> 0 | AR136: 128 | AT136: M | AU136: 2 | AY136: ROZPOCET | BE136: =IF(N136="základná",J136,0) -> 0 | BF136: =IF(N136="znížená",J136,0) -> 0 | BG136: =IF(N136="zákl. prenesená",J136,0) -> 0 | BH136: =IF(N136="zníž. prenesená",J136,0) -> 0 | BI136: =IF(N136="nulová",J136,0) -> 0 | BJ136: 2 | BK136: =ROUND(I136*H136,2) -> 0 | BL136: 128 | BM136: -559546309
C137: 12 | D137: M | E137: 345350002300.S | F137: Rámček 1-násobný | G137: ks | H137: 3 | I137: 0 | J137: =ROUND(I137*H137,2) -> 0 | N137: znížená | P137: =O137*H137 -> 0 | Q137: 1e-05 | R137: =Q137*H137 -> 3e-05 | S137: 0 | T137: =S137*H137 -> 0 | AR137: 128 | AT137: M | AU137: 2 | AY137: ROZPOCET | BE137: =IF(N137="základná",J137,0) -> 0 | BF137: =IF(N137="znížená",J137,0) -> 0 | BG137: =IF(N137="zákl. prenesená",J137,0) -> 0 | BH137: =IF(N137="zníž. prenesená",J137,0) -> 0 | BI137: =IF(N137="nulová",J137,0) -> 0 | BJ137: 2 | BK137: =ROUND(I137*H137,2) -> 0 | BL137: 128 | BM137: -1897462683
C138: 13 | D138: K | E138: 210110045.S | F138: Spínač polozapustený a zapustený vrátane zapojenia stried.prep.- radenie 6 | G138: ks | H138: 2 | I138: 0 | J138: =ROUND(I138*H138,2) -> 0 | N138: znížená | P138: =O138*H138 -> 0 | Q138: 0 | R138: =Q138*H138 -> 0 | S138: 0 | T138: =S138*H138 -> 0 | AR138: 64 | AT138: K | AU138: 2 | AY138: ROZPOCET | BE138: =IF(N138="základná",J138,0) -> 0 | BF138: =IF(N138="znížená",J138,0) -> 0 | BG138: =IF(N138="zákl. prenesená",J138,0) -> 0 | BH138: =IF(N138="zníž. prenesená",J138,0) -> 0 | BI138: =IF(N138="nulová",J138,0) -> 0 | BJ138: 2 | BK138: =ROUND(I138*H138,2) -> 0 | BL138: 64 | BM138: -323793406
C139: 14 | D139: M | E139: 345330003510.S | F139: Prepínač striedavý polozapustený a zapustený, radenie č.6 | G139: ks | H139: 2 | I139: 0 | J139: =ROUND(I139*H139,2) -> 0 | N139: znížená | P139: =O139*H139 -> 0 | Q139: 7e-05 | R139: =Q139*H139 -> 0.00014 | S139: 0 | T139: =S139*H139 -> 0 | AR139: 128 | AT139: M | AU139: 2 | AY139: ROZPOCET | BE139: =IF(N139="základná",J139,0) -> 0 | BF139: =IF(N139="znížená",J139,0) -> 0 | BG139: =IF(N139="zákl. prenesená",J139,0) -> 0 | BH139: =IF(N139="zníž. prenesená",J139,0) -> 0 | BI139: =IF(N139="nulová",J139,0) -> 0 | BJ139: 2 | BK139: =ROUND(I139*H139,2) -> 0 | BL139: 128 | BM139: -953146835
C140: 15 | D140: M | E140: 345350004320.S | F140: Rámik jednoduchý pre spínače a zásuvky | G140: ks | H140: 2 | I140: 0 | J140: =ROUND(I140*H140,2) -> 0 | N140: znížená | P140: =O140*H140 -> 0 | Q140: 3e-05 | R140: =Q140*H140 -> 6e-05 | S140: 0 | T140: =S140*H140 -> 0 | AR140: 128 | AT140: M | AU140: 2 | AY140: ROZPOCET | BE140: =IF(N140="základná",J140,0) -> 0 | BF140: =IF(N140="znížená",J140,0) -> 0 | BG140: =IF(N140="zákl. prenesená",J140,0) -> 0 | BH140: =IF(N140="zníž. prenesená",J140,0) -> 0 | BI140: =IF(N140="nulová",J140,0) -> 0 | BJ140: 2 | BK140: =ROUND(I140*H140,2) -> 0 | BL140: 128 | BM140: -1746662932
C141: 16 | D141: K | E141: 210111011.S | F141: Domová zásuvka polozapustená alebo zapustená 250 V / 16A, vrátane zapojenia 2P + PE | G141: ks | H141: 4 | I141: 0 | J141: =ROUND(I141*H141,2) -> 0 | N141: znížená | P141: =O141*H141 -> 0 | Q141: 0 | R141: =Q141*H141 -> 0 | S141: 0 | T141: =S141*H141 -> 0 | AR141: 64 | AT141: K | AU141: 2 | AY141: ROZPOCET | BE141: =IF(N141="základná",J141,0) -> 0 | BF141: =IF(N141="znížená",J141,0) -> 0 | BG141: =IF(N141="zákl. prenesená",J141,0) -> 0 | BH141: =IF(N141="zníž. prenesená",J141,0) -> 0 | BI141: =IF(N141="nulová",J141,0) -> 0 | BJ141: 2 | BK141: =ROUND(I141*H141,2) -> 0 | BL141: 64 | BM141: -809852630
C142: 17 | D142: M | E142: 345350004320.S | F142: Rámik jednoduchý pre spínače a zásuvky | G142: ks | H142: 4 | I142: 0 | J142: =ROUND(I142*H142,2) -> 0 | N142: znížená | P142: =O142*H142 -> 0 | Q142: 3e-05 | R142: =Q142*H142 -> 0.00012 | S142: 0 | T142: =S142*H142 -> 0 | AR142: 128 | AT142: M | AU142: 2 | AY142: ROZPOCET | BE142: =IF(N142="základná",J142,0) -> 0 | BF142: =IF(N142="znížená",J142,0) -> 0 | BG142: =IF(N142="zákl. prenesená",J142,0) -> 0 | BH142: =IF(N142="zníž. prenesená",J142,0) -> 0 | BI142: =IF(N142="nulová",J142,0) -> 0 | BJ142: 2 | BK142: =ROUND(I142*H142,2) -> 0 | BL142: 128 | BM142: 1024271753
... C155: 30 | D155: M | E155: 341110000800.S | F155: Kábel medený CYKY 3x2,5 mm2 | G155: m | H155: 25 | I155: 0 | J155: =ROUND(I155*H155,2) -> 0 | N155: znížená | P155: =O155*H155 -> 0 | Q155: 0.00019 | R155: =Q155*H155 -> 0.00475 | S155: 0 | T155: =S155*H155 -> 0 | AR155: 128 | AT155: M | AU155: 2 | AY155: ROZPOCET | BE155: =IF(N155="základná",J155,0) -> 0 | BF155: =IF(N155="znížená",J155,0) -> 0 | BG155: =IF(N155="zákl. prenesená",J155,0) -> 0 | BH155: =IF(N155="zníž. prenesená",J155,0) -> 0 | BI155: =IF(N155="nulová",J155,0) -> 0 | BJ155: 2 | BK155: =ROUND(I155*H155,2) -> 0 | BL155: 128 | BM155: 1212599473
D156: D | E156: OST | F156: Ostatné | J156: =BK156 -> 0 | P156: =SUM(P157:P158) -> 0 | R156: =SUM(R157:R158) -> 0 | T156: =SUM(T157:T158) -> 0 | AR156: 4 | AT156: D | AU156: 0 | AY156: ROZPOCET | BK156: =SUM(BK157:BK158) -> 0
C157: 31 | D157: K | E157: HZS-001 | F157: Revízie elektrických zariadení | G157: ks | H157: 1 | I157: 0 | J157: =ROUND(I157*H157,2) -> 0 | N157: znížená | P157: =O157*H157 -> 0 | Q157: 0 | R157: =Q157*H157 -> 0 | S157: 0 | T157: =S157*H157 -> 0 | AR157: 64 | AT157: K | AU157: 1 | AY157: ROZPOCET | BE157: =IF(N157="základná",J157,0) -> 0 | BF157: =IF(N157="znížená",J157,0) -> 0 | BG157: =IF(N157="zákl. prenesená",J157,0) -> 0 | BH157: =IF(N157="zníž. prenesená",J157,0) -> 0 | BI157: =IF(N157="nulová",J157,0) -> 0 | BJ157: 2 | BK157: =ROUND(I157*H157,2) -> 0 | BL157: 64 | BM157: -899538162
C158: 32 | D158: K | E158: HZS-087 | F158: Ostatný nešpecifikovaný podružný materiál | G158: ks | H158: 1 | I158: 0 | J158: =ROUND(I158*H158,2) -> 0 | N158: znížená | P158: =O158*H158 -> 0 | Q158: 0 | R158: =Q158*H158 -> 0 | S158: 0 | T158: =S158*H158 -> 0 | AR158: 64 | AT158: K | AU158: 1 | AY158: ROZPOCET | BE158: =IF(N158="základná",J158,0) -> 0 | BF158: =IF(N158="znížená",J158,0) -> 0 | BG158: =IF(N158="zákl. prenesená",J158,0) -> 0 | BH158: =IF(N158="zníž. prenesená",J158,0) -> 0 | BI158: =IF(N158="nulová",J158,0) -> 0 | BJ158: 2 | BK158: =ROUND(I158*H158,2) -> 0 | BL158: 64 | BM158: 1714549029

Sheet Hárok2

Sheet Hárok1
