Workbook

Sheet Rekapitulácia stavby
A1: Export Komplet | BA1: 2.0 | BT1: False | BU1: False | BV1: {2af0928a-9d5e-47bd-89d3-c627bc0d004d}
AR2: >> skryté stĺpce << | BS2: 0,01 | BT2: 20
BS3: 0,01 | BT3: 20
D4: REKAPITULÁCIA STAVBY | AS4: v --- nižšie sa nachádzajú doplnkové a pomocné údaje k zostavám --- v | BE4: Návod na vyplnenie | BS4: 0,001
D5: Kód: | K5: A299 | BE5: Meniť je možné iba bunky so žltým podfarbením!_x000D_ _x000D_ 1) na prvom liste Rekapitulácie stavby vyplňte v zostave_x000D_ _x000D_ a) Rekapitulácia stavby_x000D_ - údaje o Zhotoviteľovi_x000D_ (prenesú sa do ostatných zostáv aj v iných listoch)_x000D_ _x000D_ b) Rekapitulácia objektov stavby_x000D_ - potrebné Ostatné náklady_x000D_ _x000D_ 2) na vybraných listoch vyplňte v zostave_x000D_ _x000D_ a) Krycí list_x000D_ - údaje o Zhotoviteľovi, pokiaľ sa líšia od údajov o Zhotoviteľovi na Rekapitulácii stavby_x000D_ (údaje se prenesú do ostatných zostav v danom liste)_x000D_ _x000D_ b) Rekapitulácia rozpočtu_x000D_ - potrebné Ostatné náklady_x000D_ _x000D_ c) Celkové náklady za stavbu_x000D_ - ceny na položkách_x000D_ - množstvo, pokiaľ má žlté podfarbenie_x000D_ - a v prípade potreby poznámku (tá je v skrytom stĺpci) | BS5: 0,01
D6: Stavba: | K6: REKONŠTRUKCIA HYGIENICKÝCH ZARIADENÍ KD | BS6: 0,01
D7: JKSO: | AK7: KS: | BS7: 0,01
D8: Miesto: | K8: kat. úz. Davidov | AK8: Dátum: | AN8: 3. 2. 2023 | BS8: 0,01
BS9: 0,01
D10: Objednávateľ: | AK10: IČO: | BS10: 0,01
E11: Obec Davidov | AK11: IČ DPH: | BS11: 0,01
BS12: 0,01
D13: Zhotoviteľ: | AK13: IČO: | BS13: 0,01
AK14: IČ DPH: | BS14: 0,01
BS15: True
D16: Projektant: | AK16: IČO: | AN16: 44547838 | BS16: True
E17: ateliér-m spol. s r.o. | AK17: IČ DPH: | AN17: SK2022735572 | BS17: True
BS18: 0,01
D19: Spracovateľ: | AK19: IČO: | BS19: 0,01
AK20: IČ DPH: | BS20: True
D22: Poznámka:
D26: Cena bez DPH | AK26: =ROUND(AG94,2) -> 0
L28: Sadzba dane | W28: Základ dane | AK28: Výška dane
D29: DPH | F29: základná | L29: 0.2 | W29: =ROUND(AZ94, 2) -> 0 | AK29: =ROUND(AV94, 2) -> 0
F30: znížená | L30: 0.2 | W30: =ROUND(BA94, 2) -> 0 | AK30: =ROUND(AW94, 2) -> 0
F31: zákl. prenesená | L31: 0.2 | W31: =ROUND(BB94, 2) -> 0 | AK31: 0
F32: zníž. prenesená | L32: 0.2 | W32: =ROUND(BC94, 2) -> 0 | AK32: 0
F33: nulová | L33: 0 | W33: =ROUND(BD94, 2) -> 0 | AK33: 0
D35: Cena s DPH | T35: v | X35: EUR | AK35: =SUM(AK26:AK33) -> 0
D49: Projektant | AH49: Spracovateľ
D60: Dátum a podpis: | V60: Pečiatka | AH60: Dátum a podpis: | AM60: Pečiatka
D64: Objednávateľ | AH64: Zhotoviteľ
D75: Dátum a podpis: | V75: Pečiatka | AH75: Dátum a podpis: | AM75: Pečiatka
C82: REKAPITULÁCIA OBJEKTOV STAVBY
C84: Kód: | L84: =K5 -> A299
C85: Stavba: | L85: =K6 -> REKONŠTRUKCIA HYGIENICKÝCH ZARIADENÍ KD
C87: Miesto: | L87: =IF(K8="","",K8) -> kat. úz. Davidov | AI87: Dátum: | AM87: =IF(AN8= "","",AN8) -> 3. 2. 2023
C89: Objednávateľ: | L89: =IF(E11= "","",E11) -> Obec Davidov | AI89: Projektant: | AM89: =IF(E17="","",E17) -> ateliér-m spol. s r.o. | AS89: Informatívne údaje z listov zákaziek
C90: Zhotoviteľ: | AI90: Spracovateľ: | AM90: =IF(E20="","",E20)
C92: Kód | I92: Popis | AG92: Cena bez DPH [EUR] | AN92: Cena s DPH [EUR] | AQ92: Typ | AS92: z toho Ostat._x000D_ náklady [EUR] | AT92: DPH [EUR] | AU92: Normohodiny [h] | AV92: DPH základná [EUR] | AW92: DPH znížená [EUR] | AX92: DPH základná prenesená_x000D_ [EUR] | AY92: DPH znížená prenesená_x000D_ [EUR] | AZ92: Základňa_x000D_ DPH základná | BA92: Základňa_x000D_ DPH znížená | BB92: Základňa_x000D_ DPH zákl. prenesená | BC92: Základňa_x000D_ DPH zníž. prenesená | BD92: Základňa_x000D_ DPH nulová
...

Sheet 01 - Búracie práce
L2: >> skryté stĺpce << | AT2: {a920b053-edfc-4f6c-9270-7e5f25d48f45}
AT3: 0
D4: KRYCÍ LIST ROZPOČTU | M4: v --- nižšie sa nachádzajú doplnkové a pomocné údaje k zostavám --- v | AT4: False
D6: Stavba:
E7: ='Rekapitulácia stavby'!K6 -> REKONŠTRUKCIA HYGIENICKÝCH ZARIADENÍ KD
D8: Objekt:
E9: 01 - Búracie práce
D11: JKSO: | I11: KS:
D12: Miesto: | F12: kat. úz. Davidov | I12: Dátum: | J12: ='Rekapitulácia stavby'!AN8 -> 3. 2. 2023
D14: Objednávateľ: | I14: IČO:
E15: Obec Davidov | I15: IČ DPH:
D17: Zhotoviteľ: | I17: IČO: | J17: ='Rekapitulácia stavby'!AN13 -> 0
E18: ='Rekapitulácia stavby'!E14 -> 0 | I18: IČ DPH: | J18: ='Rekapitulácia stavby'!AN14 -> 0
D20: Projektant: | I20: IČO: | J20: 44547838
E21: ateliér-m spol. s r.o. | I21: IČ DPH: | J21: SK2022735572
D23: Spracovateľ: | I23: IČO:
E24: Ing. Daniel Janok | I24: IČ DPH:
D26: Poznámka:
D30: Cena bez DPH | J30: =ROUND(J127, 2) -> 0
F32: Základ dane | I32: Sadzba dane | J32: Výška dane
D33: DPH | E33: základná | F33: =ROUND((SUM(BE127:BE173)), 2) -> 0 | I33: 0.2 | J33: =ROUND(((SUM(BE127:BE173))*I33), 2) -> 0
E34: znížená | F34: =ROUND((SUM(BF127:BF173)), 2) -> 0 | I34: 0.2 | J34: =ROUND(((SUM(BF127:BF173))*I34), 2) -> 0
E35: zákl. prenesená | F35: =ROUND((SUM(BG127:BG173)), 2) -> 0 | I35: 0.2 | J35: =0 -> 0
E36: zníž. prenesená | F36: =ROUND((SUM(BH127:BH173)), 2) -> 0 | I36: 0.2 | J36: =0 -> 0
E37: nulová | F37: =ROUND((SUM(BI127:BI173)), 2) -> 0 | I37: 0 | J37: =0 -> 0
D39: Cena s DPH | G39: v | H39: EUR | J39: =SUM(J30:J37) -> 0
D50: Projektant | G50: Spracovateľ
D61: Dátum a podpis: | F61: Pečiatka | G61: Dátum a podpis: | J61: Pečiatka
D65: Objednávateľ | G65: Zhotoviteľ
D76: Dátum a podpis: | F76: Pečiatka | G76: Dátum a podpis: | J76: Pečiatka
C82: REKAPITULÁCIA ROZPOČTU
C84: Stavba:
E85: =E7 -> REKONŠTRUKCIA HYGIENICKÝCH ZARIADENÍ KD
C86: Objekt:
E87: =E9 -> 01 - Búracie práce
C89: Miesto: | F89: =F12 -> kat. úz. Davidov | I89: Dátum: | J89: =IF(J12="","",J12) -> 3. 2. 2023
C91: Objednávateľ: | F91: =E15 -> Obec Davidov | I91: Projektant: | J91: =E21 -> ateliér-m spol. s r.o.
C92: Zhotoviteľ: | F92: =IF(E18="","",E18) -> 0 | I92: Spracovateľ: | J92: =E24 -> Ing. Daniel Janok
C94: Kód dielu - Popis | J94: Cena celkom [EUR]
C96: Náklady z rozpočtu | J96: =J127 -> 0 | AU96: -1
...

Sheet 02 - Architektonicko-stav...
L2: >> skryté stĺpce << | AT2: {76ebf434-4baf-4566-9ee6-cac9a43d2e21}
AT3: 0
D4: KRYCÍ LIST ROZPOČTU | M4: v --- nižšie sa nachádzajú doplnkové a pomocné údaje k zostavám --- v | AT4: False
D6: Stavba:
E7: ='Rekapitulácia stavby'!K6 -> REKONŠTRUKCIA HYGIENICKÝCH ZARIADENÍ KD
D8: Objekt:
E9: 02 - Architektonicko-stavebné riešenie
D11: JKSO: | I11: KS:
D12: Miesto: | F12: kat. úz. Davidov | I12: Dátum: | J12: ='Rekapitulácia stavby'!AN8 -> 3. 2. 2023
D14: Objednávateľ: | I14: IČO:
E15: Obec Davidov | I15: IČ DPH:
D17: Zhotoviteľ: | I17: IČO: | J17: ='Rekapitulácia stavby'!AN13 -> 0
E18: ='Rekapitulácia stavby'!E14 -> 0 | I18: IČ DPH: | J18: ='Rekapitulácia stavby'!AN14 -> 0
D20: Projektant: | I20: IČO: | J20: 44547838
E21: ateliér-m spol. s r.o. | I21: IČ DPH: | J21: SK2022735572
D23: Spracovateľ: | I23: IČO:
E24: Ing. Daniel Janok | I24: IČ DPH:
D26: Poznámka:
D30: Cena bez DPH | J30: =ROUND(J131, 2) -> 0
F32: Základ dane | I32: Sadzba dane | J32: Výška dane
D33: DPH | E33: základná | F33: =ROUND((SUM(BE131:BE212)), 2) -> 0 | I33: 0.2 | J33: =ROUND(((SUM(BE131:BE212))*I33), 2) -> 0
E34: znížená | F34: =ROUND((SUM(BF131:BF212)), 2) -> 0 | I34: 0.2 | J34: =ROUND(((SUM(BF131:BF212))*I34), 2) -> 0
E35: zákl. prenesená | F35: =ROUND((SUM(BG131:BG212)), 2) -> 0 | I35: 0.2 | J35: =0 -> 0
E36: zníž. prenesená | F36: =ROUND((SUM(BH131:BH212)), 2) -> 0 | I36: 0.2 | J36: =0 -> 0
E37: nulová | F37: =ROUND((SUM(BI131:BI212)), 2) -> 0 | I37: 0 | J37: =0 -> 0
D39: Cena s DPH | G39: v | H39: EUR | J39: =SUM(J30:J37) -> 0
D50: Projektant | G50: Spracovateľ
D61: Dátum a podpis: | F61: Pečiatka | G61: Dátum a podpis: | J61: Pečiatka
D65: Objednávateľ | G65: Zhotoviteľ
D76: Dátum a podpis: | F76: Pečiatka | G76: Dátum a podpis: | J76: Pečiatka
C82: REKAPITULÁCIA ROZPOČTU
C84: Stavba:
E85: =E7 -> REKONŠTRUKCIA HYGIENICKÝCH ZARIADENÍ KD
C86: Objekt:
E87: =E9 -> 02 - Architektonicko-stavebné riešenie
C89: Miesto: | F89: =F12 -> kat. úz. Davidov | I89: Dátum: | J89: =IF(J12="","",J12) -> 3. 2. 2023
C91: Objednávateľ: | F91: =E15 -> Obec Davidov | I91: Projektant: | J91: =E21 -> ateliér-m spol. s r.o.
C92: Zhotoviteľ: | F92: =IF(E18="","",E18) -> 0 | I92: Spracovateľ: | J92: =E24 -> Ing. Daniel Janok
C94: Kód dielu - Popis | J94: Cena celkom [EUR]
C96: Náklady z rozpočtu | J96: =J131 -> 0 | AU96: -1
...

Sheet 03 - Zdravotechnika
L2: >> skryté stĺpce << | AT2: {3e081740-a079-4706-95e7-59257451221c}
AT3: 0
D4: KRYCÍ LIST ROZPOČTU | M4: v --- nižšie sa nachádzajú doplnkové a pomocné údaje k zostavám --- v | AT4: False
D6: Stavba:
E7: ='Rekapitulácia stavby'!K6 -> REKONŠTRUKCIA HYGIENICKÝCH ZARIADENÍ KD
D8: Objekt:
E9: 03 - Zdravotechnika
D11: JKSO: | I11: KS:
D12: Miesto: | F12: kat. úz. Davidov | I12: Dátum: | J12: ='Rekapitulácia stavby'!AN8 -> 3. 2. 2023
D14: Objednávateľ: | I14: IČO:
E15: Obec Davidov | I15: IČ DPH:
D17: Zhotoviteľ: | I17: IČO: | J17: ='Rekapitulácia stavby'!AN13 -> 0
E18: ='Rekapitulácia stavby'!E14 -> 0 | I18: IČ DPH: | J18: ='Rekapitulácia stavby'!AN14 -> 0
D20: Projektant: | I20: IČO: | J20: 44547838
E21: ateliér-m spol. s r.o. | I21: IČ DPH: | J21: SK2022735572
D23: Spracovateľ: | I23: IČO:
E24: Ing. Daniel Janok | I24: IČ DPH:
D26: Poznámka:
D30: Cena bez DPH | J30: =ROUND(J126, 2) -> 0
F32: Základ dane | I32: Sadzba dane | J32: Výška dane
D33: DPH | E33: základná | F33: =ROUND((SUM(BE126:BE176)), 2) -> 0 | I33: 0.2 | J33: =ROUND(((SUM(BE126:BE176))*I33), 2) -> 0
E34: znížená | F34: =ROUND((SUM(BF126:BF176)), 2) -> 0 | I34: 0.2 | J34: =ROUND(((SUM(BF126:BF176))*I34), 2) -> 0
E35: zákl. prenesená | F35: =ROUND((SUM(BG126:BG176)), 2) -> 0 | I35: 0.2 | J35: =0 -> 0
E36: zníž. prenesená | F36: =ROUND((SUM(BH126:BH176)), 2) -> 0 | I36: 0.2 | J36: =0 -> 0
E37: nulová | F37: =ROUND((SUM(BI126:BI176)), 2) -> 0 | I37: 0 | J37: =0 -> 0
D39: Cena s DPH | G39: v | H39: EUR | J39: =SUM(J30:J37) -> 0
D50: Projektant | G50: Spracovateľ
D61: Dátum a podpis: | F61: Pečiatka | G61: Dátum a podpis: | J61: Pečiatka
D65: Objednávateľ | G65: Zhotoviteľ
D76: Dátum a podpis: | F76: Pečiatka | G76: Dátum a podpis: | J76: Pečiatka
C82: REKAPITULÁCIA ROZPOČTU
C84: Stavba:
E85: =E7 -> REKONŠTRUKCIA HYGIENICKÝCH ZARIADENÍ KD
C86: Objekt:
E87: =E9 -> 03 - Zdravotechnika
C89: Miesto: | F89: =F12 -> kat. úz. Davidov | I89: Dátum: | J89: =IF(J12="","",J12) -> 3. 2. 2023
C91: Objednávateľ: | F91: =E15 -> Obec Davidov | I91: Projektant: | J91: =E21 -> ateliér-m spol. s r.o.
C92: Zhotoviteľ: | F92: =IF(E18="","",E18) -> 0 | I92: Spracovateľ: | J92: =E24 -> Ing. Daniel Janok
C94: Kód dielu - Popis | J94: Cena celkom [EUR]
C96: Náklady z rozpočtu | J96: =J126 -> 0 | AU96: -1
...

Sheet 04 - Vykurovanie
L2: >> skryté stĺpce << | AT2: {b186c8db-a54d-4364-b024-caac5ba7a8ab}
AT3: 0
D4: KRYCÍ LIST ROZPOČTU | M4: v --- nižšie sa nachádzajú doplnkové a pomocné údaje k zostavám --- v | AT4: False
D6: Stavba:
E7: ='Rekapitulácia stavby'!K6 -> REKONŠTRUKCIA HYGIENICKÝCH ZARIADENÍ KD
D8: Objekt:
E9: 04 - Vykurovanie
D11: JKSO: | I11: KS:
D12: Miesto: | F12: kat. úz. Davidov | I12: Dátum: | J12: ='Rekapitulácia stavby'!AN8 -> 3. 2. 2023
D14: Objednávateľ: | I14: IČO:
E15: Obec Davidov | I15: IČ DPH:
D17: Zhotoviteľ: | I17: IČO: | J17: ='Rekapitulácia stavby'!AN13 -> 0
E18: ='Rekapitulácia stavby'!E14 -> 0 | I18: IČ DPH: | J18: ='Rekapitulácia stavby'!AN14 -> 0
D20: Projektant: | I20: IČO: | J20: 44547838
E21: ateliér-m spol. s r.o. | I21: IČ DPH: | J21: SK2022735572
D23: Spracovateľ: | I23: IČO:
E24: Ing. Daniel Janok | I24: IČ DPH:
D26: Poznámka:
D30: Cena bez DPH | J30: =ROUND(J123, 2) -> 0
F32: Základ dane | I32: Sadzba dane | J32: Výška dane
D33: DPH | E33: základná | F33: =ROUND((SUM(BE123:BE155)), 2) -> 0 | I33: 0.2 | J33: =ROUND(((SUM(BE123:BE155))*I33), 2) -> 0
E34: znížená | F34: =ROUND((SUM(BF123:BF155)), 2) -> 0 | I34: 0.2 | J34: =ROUND(((SUM(BF123:BF155))*I34), 2) -> 0
E35: zákl. prenesená | F35: =ROUND((SUM(BG123:BG155)), 2) -> 0 | I35: 0.2 | J35: =0 -> 0
E36: zníž. prenesená | F36: =ROUND((SUM(BH123:BH155)), 2) -> 0 | I36: 0.2 | J36: =0 -> 0
E37: nulová | F37: =ROUND((SUM(BI123:BI155)), 2) -> 0 | I37: 0 | J37: =0 -> 0
D39: Cena s DPH | G39: v | H39: EUR | J39: =SUM(J30:J37) -> 0
D50: Projektant | G50: Spracovateľ
D61: Dátum a podpis: | F61: Pečiatka | G61: Dátum a podpis: | J61: Pečiatka
D65: Objednávateľ | G65: Zhotoviteľ
D76: Dátum a podpis: | F76: Pečiatka | G76: Dátum a podpis: | J76: Pečiatka
C82: REKAPITULÁCIA ROZPOČTU
C84: Stavba:
E85: =E7 -> REKONŠTRUKCIA HYGIENICKÝCH ZARIADENÍ KD
C86: Objekt:
E87: =E9 -> 04 - Vykurovanie
C89: Miesto: | F89: =F12 -> kat. úz. Davidov | I89: Dátum: | J89: =IF(J12="","",J12) -> 3. 2. 2023
C91: Objednávateľ: | F91: =E15 -> Obec Davidov | I91: Projektant: | J91: =E21 -> ateliér-m spol. s r.o.
C92: Zhotoviteľ: | F92: =IF(E18="","",E18) -> 0 | I92: Spracovateľ: | J92: =E24 -> Ing. Daniel Janok
C94: Kód dielu - Popis | J94: Cena celkom [EUR]
C96: Náklady z rozpočtu | J96: =J123 -> 0 | AU96: -1
...

Sheet 05 - Elektroinštalácia
L2: >> skryté stĺpce << | AT2: {62000c37-b385-4089-8a48-e631b71dbedc}
AT3: 0
D4: KRYCÍ LIST ROZPOČTU | M4: v --- nižšie sa nachádzajú doplnkové a pomocné údaje k zostavám --- v | AT4: False
D6: Stavba:
E7: ='Rekapitulácia stavby'!K6 -> REKONŠTRUKCIA HYGIENICKÝCH ZARIADENÍ KD
D8: Objekt:
E9: 05 - Elektroinštalácia
D11: JKSO: | I11: KS:
D12: Miesto: | F12: kat. úz. Davidov | I12: Dátum: | J12: ='Rekapitulácia stavby'!AN8 -> 3. 2. 2023
D14: Objednávateľ: | I14: IČO:
E15: Obec Davidov | I15: IČ DPH:
D17: Zhotoviteľ: | I17: IČO: | J17: ='Rekapitulácia stavby'!AN13 -> 0
E18: ='Rekapitulácia stavby'!E14 -> 0 | I18: IČ DPH: | J18: ='Rekapitulácia stavby'!AN14 -> 0
D20: Projektant: | I20: IČO: | J20: 44547838
E21: ateliér-m spol. s r.o. | I21: IČ DPH: | J21: SK2022735572
D23: Spracovateľ: | I23: IČO:
E24: Ing. Daniel Janok | I24: IČ DPH:
D26: Poznámka:
D30: Cena bez DPH | J30: =ROUND(J121, 2) -> 0
F32: Základ dane | I32: Sadzba dane | J32: Výška dane
D33: DPH | E33: základná | F33: =ROUND((SUM(BE121:BE158)), 2) -> 0 | I33: 0.2 | J33: =ROUND(((SUM(BE121:BE158))*I33), 2) -> 0
E34: znížená | F34: =ROUND((SUM(BF121:BF158)), 2) -> 0 | I34: 0.2 | J34: =ROUND(((SUM(BF121:BF158))*I34), 2) -> 0
E35: zákl. prenesená | F35: =ROUND((SUM(BG121:BG158)), 2) -> 0 | I35: 0.2 | J35: =0 -> 0
E36: zníž. prenesená | F36: =ROUND((SUM(BH121:BH158)), 2) -> 0 | I36: 0.2 | J36: =0 -> 0
E37: nulová | F37: =ROUND((SUM(BI121:BI158)), 2) -> 0 | I37: 0 | J37: =0 -> 0
D39: Cena s DPH | G39: v | H39: EUR | J39: =SUM(J30:J37) -> 0
D50: Projektant | G50: Spracovateľ
D61: Dátum a podpis: | F61: Pečiatka | G61: Dátum a podpis: | J61: Pečiatka
D65: Objednávateľ | G65: Zhotoviteľ
D76: Dátum a podpis: | F76: Pečiatka | G76: Dátum a podpis: | J76: Pečiatka
C82: REKAPITULÁCIA ROZPOČTU
C84: Stavba:
E85: =E7 -> REKONŠTRUKCIA HYGIENICKÝCH ZARIADENÍ KD
C86: Objekt:
E87: =E9 -> 05 - Elektroinštalácia
C89: Miesto: | F89: =F12 -> kat. úz. Davidov | I89: Dátum: | J89: =IF(J12="","",J12) -> 3. 2. 2023
C91: Objednávateľ: | F91: =E15 -> Obec Davidov | I91: Projektant: | J91: =E21 -> ateliér-m spol. s r.o.
C92: Zhotoviteľ: | F92: =IF(E18="","",E18) -> 0 | I92: Spracovateľ: | J92: =E24 -> Ing. Daniel Janok
C94: Kód dielu - Popis | J94: Cena celkom [EUR]
C96: Náklady z rozpočtu | J96: =J121 -> 0 | AU96: -1
...

Sheet Hárok2

Sheet Hárok1
